Uber Exif Photo
By-line : Ken Yu
Copyright Notice : Copyright: Kenyuphotography.com
Make : Canon
Camera Model Name : Canon EOS 5D Mark II
Orientation : Horizontal (normal)
Software : Adobe Photoshop CS4 Macintosh
Modify Date : 2011:02:22 21:42:02
Artist : Ken Yu
Copyright : Copyright: Kenyuphotography.com
Exposure Time : 3.2
F Number : 11.0
Exposure Program : Manual
ISO : 100
Date/Time Original : 2010:08:28 13:59:29
Create Date : 2010:08:28 13:59:29
Shutter Speed Value : 3.2
Aperture Value : 11.0
Exposure Compensation : 0
Max Aperture Value : 2.8
Metering Mode : Center-weighted average
Focal Length : 17.0 mm
Color Space : Uncalibrated
Exif Image Width : 956
Exif Image Height : 750
Custom Rendered : Normal
Exposure Mode : Manual
White Balance : Auto
Scene Capture Type : Standard
Profile Description : Adobe RGB (1998)
Date/Time Digitized : 2010:08:28 13:59:29.39-04:00
Rating : 0
Format : image/jpeg
Serial Number : 220105971
Lens Info : 17-35mm f/?
Lens : 17-35mm
Image Number : 0
Flash Compensation : 0
Owner Name : Ken Yu
Firmware : 2.0.4
Raw File Name : IMG_2771.CR2
Version : 5.2
Color Temperature : 6350
Tint : -9
Exposure : +0.25
Shadows : 5
Brightness : +50
Contrast : +35
Saturation : 0
Sharpness : 25
Luminance Smoothing : 0
Color Noise Reduction : 25
Chromatic Aberration R : 0
Chromatic Aberration B : 0
Vignette Amount : 0
Shadow Tint : 0
Red Hue : 0
Red Saturation : 0
Green Hue : 0
Green Saturation : 0
Blue Hue : 0
Blue Saturation : 0
Fill Light : 14
Vibrance : 0
Highlight Recovery : 0
Clarity : 0
Defringe : 0
Hue Adjustment Red : 0
Hue Adjustment Orange : 0
Hue Adjustment Yellow : 0
Hue Adjustment Green : 0
Hue Adjustment Aqua : 0
Hue Adjustment Blue : 0
Hue Adjustment Purple : 0
Hue Adjustment Magenta : 0
Saturation Adjustment Red : 0
Saturation Adjustment Orange : 0
Saturation Adjustment Yellow : +23
Saturation Adjustment Green : 0
Saturation Adjustment Aqua : 0
Saturation Adjustment Blue : +26
Saturation Adjustment Purple : 0
Saturation Adjustment Magenta : 0
Luminance Adjustment Red : 0
Luminance Adjustment Orange : 0
Luminance Adjustment Yellow : 0
Luminance Adjustment Green : 0
Luminance Adjustment Aqua : 0
Luminance Adjustment Blue : 0
Luminance Adjustment Purple : 0
Luminance Adjustment Magenta : 0
Split Toning Shadow Hue : 0
Split Toning Shadow Saturation : 0
Split Toning Highlight Hue : 0
Split Toning Highlight Saturation : 0
Split Toning Balance : 0
Parametric Shadows : 0
Parametric Darks : 0
Parametric Lights : 0
Parametric Highlights : 0
Parametric Shadow Split : 25
Parametric Midtone Split : 50
Parametric Highlight Split : 75
Sharpen Radius : +1.0
Sharpen Detail : 25
Sharpen Edge Masking : 0
Post Crop Vignette Amount : 0
Convert To Grayscale : False
Tone Curve Name : Medium Contrast
Camera Profile : Adobe Standard
Has Settings : True
Has Crop : False
Already Applied : True
Sidecar For Extension : CR2
Color Mode : RGB
ICC Profile Name : Adobe RGB (1998)
Flash Fired : False
Flash Return : No return detection
Flash Mode : Off
Flash Function : False
Flash Red Eye Mode : False
Creator : Ken Yu
Rights : Copyright: Kenyuphotography.com
Tone Curve : 0, 0, 32, 22, 64, 56, 128, 128, 192, 196, 255, 255
Image Width : 300
Image Height : 235
Bits Per Sample : 8
Color Components : 3
Aperture : 11.0
Image Size : 300x235
Megapixels : 0.070
Scale Factor To 35 mm Equivalent : 1.0
Shutter Speed : 3.2
Create Date : 2010:08:28 13:59:29.39
Date/Time Original : 2010:08:28 13:59:29.39
Modify Date : 2011:02:22 21:42:02.39
Flash : Off, Did not fire
Circle Of Confusion : 0.031 mm
Field Of View : 94.7 deg
Focal Length : 17.0 mm (35 mm equivalent: 16.6 mm)
Hyperfocal Distance : 0.85 m
Light Value : 5.2
Lens ID : 17-35mm