Uber Exif Photo
Keywords : rose makro orange bokeh strobist "Distagon 35/2 ZF"
By-line : MG
Copyright Notice : mg
Make : NIKON CORPORATION
Camera Model Name : NIKON D300
Software : Ver.1.10
Modify Date : 2010:01:07 20:56:01
Artist : MG
Copyright : mg
Exposure Time : 1/60
F Number : 8.0
Exposure Program : Manual
ISO : 200
Date/Time Original : 2010:01:07 20:23:17
Create Date : 2010:01:07 20:23:17
Shutter Speed Value : 1/60
Aperture Value : 8.0
Exposure Compensation : -5/3
Max Aperture Value : 2.0
Metering Mode : Center-weighted average
Light Source : Unknown
Focal Length : 35.0 mm
Color Space : Uncalibrated
Sensing Method : One-chip color area
Scene Type : Directly photographed
CFA Pattern : [Red,Green][Green,Blue]
Custom Rendered : Normal
Exposure Mode : Manual
White Balance : Auto
Digital Zoom Ratio : 1
Focal Length In 35mm Format : 52 mm
Scene Capture Type : Standard
Gain Control : None
Contrast : Normal
Saturation : Normal
Sharpness : Hard
Subject Distance Range : Unknown
Profile Description : sRGB IEC61966-2.1
Image Number : 22614
Lens : 35.0 mm f/2.0
Lens Info : 35mm f/2
Serial Number : 4054302
Creator : MG
Rights : mg
Subject : rose makro orange bokeh strobist "Distagon 35/2 ZF"
Date/Time Digitized : 2010:01:07 20:23:17.92+01:00
Flash Fired : True
Flash Function : False
Flash Mode : On
Flash Red Eye Mode : False
Flash Return : Return detected
Exif Image Width : 1000
Exif Image Height : 664
Creator Tool : Adobe Photoshop Lightroom
Label : Gelb
Rating : 4
Already Applied : True
Blue Hue : 0
Blue Saturation : 0
Brightness : +50
Camera Profile : Camera Vivid
Chromatic Aberration B : 0
Chromatic Aberration R : 0
Clarity : +10
Color Noise Reduction : 0
Convert To Grayscale : False
Defringe : 0
Exposure : 0.00
Fill Light : 0
Green Hue : 0
Green Saturation : 0
Has Crop : False
Has Settings : True
Highlight Recovery : 0
Hue Adjustment Aqua : 0
Hue Adjustment Blue : 0
Hue Adjustment Green : 0
Hue Adjustment Magenta : 0
Hue Adjustment Orange : 0
Hue Adjustment Purple : 0
Hue Adjustment Red : 0
Hue Adjustment Yellow : 0
Luminance Adjustment Aqua : 0
Luminance Adjustment Blue : 0
Luminance Adjustment Green : +17
Luminance Adjustment Magenta : 0
Luminance Adjustment Orange : 0
Luminance Adjustment Purple : 0
Luminance Adjustment Red : 0
Luminance Adjustment Yellow : 0
Luminance Smoothing : 0
Parametric Darks : 0
Parametric Highlight Split : 75
Parametric Highlights : 0
Parametric Lights : 0
Parametric Midtone Split : 50
Parametric Shadow Split : 25
Parametric Shadows : 0
Post Crop Vignette Amount : 0
Red Hue : 0
Red Saturation : 0
Saturation Adjustment Aqua : 0
Saturation Adjustment Blue : 0
Saturation Adjustment Green : 0
Saturation Adjustment Magenta : 0
Saturation Adjustment Orange : 0
Saturation Adjustment Purple : 0
Saturation Adjustment Red : 0
Saturation Adjustment Yellow : 0
Shadow Tint : 0
Shadows : 7
Sharpen Detail : 25
Sharpen Edge Masking : 0
Sharpen Radius : +0.9
Split Toning Balance : 0
Split Toning Highlight Hue : 0
Split Toning Highlight Saturation : 0
Split Toning Shadow Hue : 0
Split Toning Shadow Saturation : 0
Color Temperature : 5500
Tint : 0
Tone Curve : 0, 0, 32, 22, 64, 56, 128, 128, 192, 196, 255, 255
Tone Curve Name : Medium Contrast
Version : 5.4
Vibrance : 0
Vignette Amount : 0
Image Width : 300
Image Height : 199
Bits Per Sample : 8
Color Components : 3
Aperture : 8.0
Image Size : 300x199
Megapixels : 0.060
Scale Factor To 35 mm Equivalent : 1.5
Shutter Speed : 1/60
Create Date : 2010:01:07 20:23:17.92
Date/Time Original : 2010:01:07 20:23:17.92
Flash : On, Return detected
Circle Of Confusion : 0.020 mm
Field Of View : 38.2 deg
Focal Length : 35.0 mm (35 mm equivalent: 52.0 mm)
Hyperfocal Distance : 7.57 m
Light Value : 10.9
Lens ID : 35.0mm f/2.0