Uber Exif Photo
Make : Canon
Camera Model Name : Canon EOS 5D Mark II
Software : Digital Photo Professional
Modify Date : 2010:11:06 00:07:43
Exposure Time : 1/125
F Number : 10.0
ISO : 100
Sensitivity Type : Unknown
Date/Time Original : 2010:10:03 21:41:20
Create Date : 2010:10:03 21:41:20
Shutter Speed Value : 1/125
Aperture Value : 10.0
Exposure Compensation : 0
Max Aperture Value : 2.0
Focal Length : 35.0 mm
Custom Rendered : Normal
Exposure Mode : Auto
White Balance : Auto
Scene Capture Type : Standard
Serial Number : 1421012697
Lens Info : 35mm f/?
Lens Model : 35mm
Profile Description : sRGB IEC61966-2.1
Date/Time Digitized : 2010:10:03 21:41:20-04:00
Exif Image Width : 2758
Exif Image Height : 4025
Creator Tool : Adobe Photoshop Lightroom
Lens : 35mm
Image Number : 0
Flash Compensation : 0
Firmware : 2.0.4
Version : 6.2
Process Version : 5.7
Incremental Temperature : -3
Incremental Tint : 0
Exposure : +0.51
Shadows : 5
Brightness : +60
Contrast : +20
Saturation : +22
Sharpness : 81
Luminance Smoothing : 43
Color Noise Reduction : 6
Chromatic Aberration R : 0
Chromatic Aberration B : 0
Vignette Amount : 0
Shadow Tint : 0
Red Hue : 0
Red Saturation : 0
Green Hue : 0
Green Saturation : 0
Blue Hue : 0
Blue Saturation : 0
Fill Light : 0
Vibrance : +24
Highlight Recovery : 25
Clarity : +82
Defringe : 0
Hue Adjustment Red : 0
Hue Adjustment Orange : +86
Hue Adjustment Yellow : +37
Hue Adjustment Green : 0
Hue Adjustment Aqua : 0
Hue Adjustment Blue : 0
Hue Adjustment Purple : 0
Hue Adjustment Magenta : 0
Saturation Adjustment Red : 0
Saturation Adjustment Orange : +59
Saturation Adjustment Yellow : +34
Saturation Adjustment Green : 0
Saturation Adjustment Aqua : 0
Saturation Adjustment Blue : +24
Saturation Adjustment Purple : +1
Saturation Adjustment Magenta : 0
Luminance Adjustment Red : 0
Luminance Adjustment Orange : +33
Luminance Adjustment Yellow : +13
Luminance Adjustment Green : 0
Luminance Adjustment Aqua : 0
Luminance Adjustment Blue : -49
Luminance Adjustment Purple : 0
Luminance Adjustment Magenta : 0
Split Toning Shadow Hue : 0
Split Toning Shadow Saturation : 0
Split Toning Highlight Hue : 0
Split Toning Highlight Saturation : 0
Split Toning Balance : 0
Parametric Shadows : -24
Parametric Darks : +37
Parametric Lights : +28
Parametric Highlights : -70
Parametric Shadow Split : 17
Parametric Midtone Split : 38
Parametric Highlight Split : 90
Sharpen Radius : +1.3
Sharpen Detail : 25
Sharpen Edge Masking : 100
Post Crop Vignette Amount : 0
Grain Amount : 0
Luminance Noise Reduction Detail : 50
Color Noise Reduction Detail : 50
Luminance Noise Reduction Contrast : 0
Lens Profile Enable : 0
Lens Manual Distortion Amount : 0
Perspective Vertical : -8
Perspective Horizontal : 0
Perspective Rotate : 0.0
Perspective Scale : 100
Convert To Grayscale : False
Tone Curve Name : Linear
Camera Profile : Embedded
Lens Profile Setup : LensDefaults
Has Settings : True
Crop Top : 0.204011
Crop Left : 0.171637
Crop Bottom : 0.93862
Crop Right : 0.867571
Crop Angle : 2.143
Crop Constrain To Warp : 1
Crop Width : 2758
Crop Height : 4025
Crop Unit : pixels
Has Crop : True
Already Applied : True
Flash Fired : False
Flash Return : No return detection
Flash Mode : Off
Flash Function : False
Flash Red Eye Mode : False
Tone Curve : 0, 0, 255, 255
Image Width : 206
Image Height : 300
Bits Per Sample : 8
Color Components : 3
Aperture : 10.0
Image Size : 206x300
Megapixels : 0.062
Scale Factor To 35 mm Equivalent : 1.4
Shutter Speed : 1/125
Flash : Off, Did not fire
Circle Of Confusion : 0.022 mm
Field Of View : 41.5 deg
Focal Length : 35.0 mm (35 mm equivalent: 47.5 mm)
Hyperfocal Distance : 5.54 m
Light Value : 13.6
Lens ID : 35mm