Uber Exif Photo
Keywords : november
Make : Canon
Camera Model Name : Canon EOS 5D Mark II
Modify Date : 2010:11:15 18:40:54
Exposure Time : 1/60
F Number : 2.8
Exposure Program : Manual
ISO : 400
Date/Time Original : 2010:11:15 17:42:16
Create Date : 2010:11:15 17:42:16
Shutter Speed Value : 1/60
Aperture Value : 2.8
Exposure Compensation : 0
Max Aperture Value : 1.4
Metering Mode : Multi-segment
Focal Length : 50.0 mm
Custom Rendered : Normal
Exposure Mode : Manual
White Balance : Auto
Scene Capture Type : Standard
Profile Description : sRGB IEC61966-2.1
Date/Time Digitized : 2010:11:15 17:42:16.62+02:00
Exif Image Width : 614
Exif Image Height : 1024
Creator Tool : Adobe Photoshop Lightroom
Serial Number : 530318836
Lens : 1-65535mm
Image Number : 0
Flash Compensation : 0
Firmware : 1.0.7
Version : 5.7
Color Temperature : 2350
Tint : +5
Exposure : -0.33
Shadows : 11
Brightness : +79
Contrast : +52
Saturation : -50
Sharpness : 75
Luminance Smoothing : 0
Color Noise Reduction : 25
Chromatic Aberration R : 0
Chromatic Aberration B : 0
Vignette Amount : -100
Vignette Midpoint : 11
Shadow Tint : 0
Red Hue : 0
Red Saturation : 0
Green Hue : 0
Green Saturation : 0
Blue Hue : 0
Blue Saturation : 0
Fill Light : 11
Vibrance : +60
Highlight Recovery : 95
Clarity : +100
Defringe : 0
Hue Adjustment Red : 0
Hue Adjustment Orange : 0
Hue Adjustment Yellow : 0
Hue Adjustment Green : 0
Hue Adjustment Aqua : 0
Hue Adjustment Blue : 0
Hue Adjustment Purple : 0
Hue Adjustment Magenta : 0
Saturation Adjustment Red : +98
Saturation Adjustment Orange : +54
Saturation Adjustment Yellow : 0
Saturation Adjustment Green : 0
Saturation Adjustment Aqua : 0
Saturation Adjustment Blue : 0
Saturation Adjustment Purple : 0
Saturation Adjustment Magenta : 0
Luminance Adjustment Red : 0
Luminance Adjustment Orange : 0
Luminance Adjustment Yellow : 0
Luminance Adjustment Green : 0
Luminance Adjustment Aqua : 0
Luminance Adjustment Blue : 0
Luminance Adjustment Purple : 0
Luminance Adjustment Magenta : 0
Split Toning Shadow Hue : 223
Split Toning Shadow Saturation : 36
Split Toning Highlight Hue : 26
Split Toning Highlight Saturation : 20
Split Toning Balance : +50
Parametric Shadows : -52
Parametric Darks : +2
Parametric Lights : +29
Parametric Highlights : +2
Parametric Shadow Split : 25
Parametric Midtone Split : 50
Parametric Highlight Split : 75
Sharpen Radius : +1.0
Sharpen Detail : 38
Sharpen Edge Masking : 0
Post Crop Vignette Amount : -10
Post Crop Vignette Midpoint : 50
Post Crop Vignette Feather : 50
Post Crop Vignette Roundness : 0
Convert To Grayscale : False
Tone Curve Name : Medium Contrast
Camera Profile : ACR 4.4
Has Settings : True
Crop Top : 0.04348
Crop Left : 0.026271
Crop Bottom : 0.925572
Crop Right : 0.986615
Crop Angle : 0.517241
Crop Width : 1024
Crop Height : 614
Crop Unit : pixels
Has Crop : True
Already Applied : True
Flash Fired : False
Flash Return : No return detection
Flash Mode : Off
Flash Function : False
Flash Red Eye Mode : False
Subject : november
Tone Curve : 0, 0, 32, 22, 64, 56, 128, 128, 192, 196, 255, 255
Image Width : 180
Image Height : 300
Bits Per Sample : 8
Color Components : 3
Aperture : 2.8
Image Size : 180x300
Megapixels : 0.054
Scale Factor To 35 mm Equivalent : 1.0
Shutter Speed : 1/60
Create Date : 2010:11:15 17:42:16.62
Date/Time Original : 2010:11:15 17:42:16.62
Flash : Off, Did not fire
Circle Of Confusion : 0.031 mm
Field Of View : 40.5 deg
Focal Length : 50.0 mm (35 mm equivalent: 48.8 mm)
Hyperfocal Distance : 29.00 m
Light Value : 6.9
Lens ID : Canon EF 35-80mm f/4-5.6