Uber Exif Photo
By-line : Michael B. Moore
Copyright Notice : © Copyright 2010 Michael B. Moore
Copyright Flag : True
Make : Canon
Camera Model Name : Canon EOS 7D
Modify Date : 2011:01:16 22:09:53
Artist : Michael B Moore
Copyright : (C) Copyright 2010 Michael B. Moore
Exposure Time : 45
F Number : 22.0
Exposure Program : Bulb
ISO : 100
Sensitivity Type : Unknown
Date/Time Original : 2011:01:15 17:32:26
Create Date : 2011:01:15 17:32:26
Shutter Speed Value : 45
Aperture Value : 22.0
Exposure Compensation : 0
Max Aperture Value : 2.8
Metering Mode : Spot
Focal Length : 21.0 mm
Custom Rendered : Normal
Exposure Mode : Auto
White Balance : Auto
Scene Capture Type : Standard
Serial Number : 370408195
Lens Info : 21mm f/?
Lens Model : Zeiss Distagon T* 2.8/21 ZE
Profile Description : sRGB IEC61966-2.1
Date/Time Digitized : 2011:01:15 17:32:26.00-08:00
Exif Image Width : 1980
Exif Image Height : 1320
Creator Tool : Adobe Photoshop Lightroom 3.3
Lens : Zeiss Distagon T* 2.8/21 ZE
Image Number : 0
Flash Compensation : 0
Firmware : 1.2.2
Marked : True
Version : 6.3
Process Version : 5.7
Color Temperature : 7568
Tint : -2
Exposure : -1.45
Shadows : 13
Brightness : +50
Contrast : +25
Saturation : +27
Sharpness : 113
Luminance Smoothing : 0
Color Noise Reduction : 25
Chromatic Aberration R : 0
Chromatic Aberration B : 0
Vignette Amount : 0
Shadow Tint : 0
Red Hue : 0
Red Saturation : 0
Green Hue : 0
Green Saturation : 0
Blue Hue : 0
Blue Saturation : 0
Fill Light : 0
Vibrance : +32
Highlight Recovery : 0
Clarity : +52
Defringe : 0
Hue Adjustment Red : 0
Hue Adjustment Orange : 0
Hue Adjustment Yellow : 0
Hue Adjustment Green : 0
Hue Adjustment Aqua : 0
Hue Adjustment Blue : 0
Hue Adjustment Purple : 0
Hue Adjustment Magenta : 0
Saturation Adjustment Red : 0
Saturation Adjustment Orange : 0
Saturation Adjustment Yellow : 0
Saturation Adjustment Green : 0
Saturation Adjustment Aqua : 0
Saturation Adjustment Blue : 0
Saturation Adjustment Purple : 0
Saturation Adjustment Magenta : 0
Luminance Adjustment Red : 0
Luminance Adjustment Orange : 0
Luminance Adjustment Yellow : 0
Luminance Adjustment Green : 0
Luminance Adjustment Aqua : 0
Luminance Adjustment Blue : 0
Luminance Adjustment Purple : 0
Luminance Adjustment Magenta : 0
Split Toning Shadow Hue : 0
Split Toning Shadow Saturation : 0
Split Toning Highlight Hue : 0
Split Toning Highlight Saturation : 0
Split Toning Balance : 0
Parametric Shadows : 0
Parametric Darks : 0
Parametric Lights : 0
Parametric Highlights : 0
Parametric Shadow Split : 25
Parametric Midtone Split : 50
Parametric Highlight Split : 75
Sharpen Radius : +1.7
Sharpen Detail : 25
Sharpen Edge Masking : 0
Post Crop Vignette Amount : -25
Post Crop Vignette Midpoint : 50
Post Crop Vignette Feather : 50
Post Crop Vignette Roundness : 0
Post Crop Vignette Style : Highlight Priority
Post Crop Vignette Highlight Contrast : 0
Grain Amount : 0
Color Noise Reduction Detail : 50
Lens Profile Enable : 1
Lens Manual Distortion Amount : 0
Perspective Vertical : 0
Perspective Horizontal : 0
Perspective Rotate : 0.0
Perspective Scale : 100
Convert To Grayscale : False
Tone Curve Name : Medium Contrast
Camera Profile : Adobe Standard
Lens Profile Setup : LensDefaults
Lens Profile Name : Adobe (Zeiss Distagon T* 2,8/21 ZE)
Lens Profile Filename : Canon (Zeiss Distagon T 21 f28 ZE).lcp
Lens Profile Distortion Scale : 100
Lens Profile Chromatic Aberration Scale : 100
Lens Profile Vignetting Scale : 100
Has Settings : True
Has Crop : False
Already Applied : True
Flash Fired : False
Flash Return : No return detection
Flash Mode : Off
Flash Function : False
Flash Red Eye Mode : False
Creator : Michael B. Moore
Rights : © Copyright 2010 Michael B. Moore
Creator Postal Code : 94941
Creator Region : CA
Creator Country : USA
Creator City : Mill Valley
Creator Work URL : www.pureinfodesign.com
Usage Terms : All rights reserved
Tone Curve : 0, 0, 32, 22, 64, 56, 128, 128, 192, 196, 255, 255
Image Width : 300
Image Height : 200
Bits Per Sample : 8
Color Components : 3
Aperture : 22.0
Image Size : 300x200
Megapixels : 0.060
Scale Factor To 35 mm Equivalent : 1.6
Shutter Speed : 45
Create Date : 2011:01:15 17:32:26.00
Date/Time Original : 2011:01:15 17:32:26.00
Flash : Off, Did not fire
Circle Of Confusion : 0.019 mm
Field Of View : 57.3 deg
Focal Length : 21.0 mm (35 mm equivalent: 33.0 mm)
Hyperfocal Distance : 1.05 m
Light Value : 3.4
Lens ID : Carl Zeiss Distagon T* 21mm f/2.8 ZE