Uber Exif Photo
Copyright Notice : Copyright © Harry Meares Jr.
Caption-Abstract : SONY DSC
Copyright Flag : True
Image Description : SONY DSC
Make : SONY
Camera Model Name : DSLR-A580
Software : Adobe Photoshop Lightroom 3.4.1
Modify Date : 2013:03:17 22:00:09
Copyright : Copyright © Harry Meares Jr.
Exposure Time : 1/60
F Number : 22.0
ISO : 100
Date/Time Original : 2013:03:12 19:06:26
Create Date : 2013:03:12 19:06:26
Shutter Speed Value : 1/60
Aperture Value : 22.0
Focal Length : 80.0 mm
Profile Description : sRGB IEC61966-2.1
Date Created : 2013:03:12
Creator Tool : Adobe Photoshop Lightroom 3.4.1
Format : application/vnd.adobe.photoshop
Marked : True
Color Space : Uncalibrated
Version : 6.4.1
Process Version : 5.7
White Balance : Custom
Incremental Temperature : -40
Incremental Tint : 0
Exposure : 0.00
Shadows : 0
Brightness : +22
Contrast : 0
Saturation : 0
Sharpness : 7
Luminance Smoothing : 33
Color Noise Reduction : 100
Chromatic Aberration R : 0
Chromatic Aberration B : 0
Vignette Amount : 0
Shadow Tint : 0
Red Hue : 0
Red Saturation : 0
Green Hue : 0
Green Saturation : 0
Blue Hue : 0
Blue Saturation : 0
Fill Light : 0
Vibrance : -1
Highlight Recovery : 0
Clarity : +17
Defringe : 0
Hue Adjustment Red : 0
Hue Adjustment Orange : 0
Hue Adjustment Yellow : 0
Hue Adjustment Green : 0
Hue Adjustment Aqua : 0
Hue Adjustment Blue : 0
Hue Adjustment Purple : 0
Hue Adjustment Magenta : 0
Saturation Adjustment Red : 0
Saturation Adjustment Orange : 0
Saturation Adjustment Yellow : 0
Saturation Adjustment Green : 0
Saturation Adjustment Aqua : 0
Saturation Adjustment Blue : 0
Saturation Adjustment Purple : 0
Saturation Adjustment Magenta : 0
Luminance Adjustment Red : 0
Luminance Adjustment Orange : 0
Luminance Adjustment Yellow : 0
Luminance Adjustment Green : 0
Luminance Adjustment Aqua : 0
Luminance Adjustment Blue : 0
Luminance Adjustment Purple : 0
Luminance Adjustment Magenta : 0
Split Toning Shadow Hue : 0
Split Toning Shadow Saturation : 0
Split Toning Highlight Hue : 0
Split Toning Highlight Saturation : 0
Split Toning Balance : 0
Parametric Shadows : +1
Parametric Darks : 0
Parametric Lights : +1
Parametric Highlights : +1
Parametric Shadow Split : 25
Parametric Midtone Split : 50
Parametric Highlight Split : 75
Sharpen Radius : +1.0
Sharpen Detail : 25
Sharpen Edge Masking : 49
Post Crop Vignette Amount : 0
Grain Amount : 0
Luminance Noise Reduction Detail : 50
Color Noise Reduction Detail : 50
Luminance Noise Reduction Contrast : 0
Lens Profile Enable : 0
Lens Manual Distortion Amount : 0
Perspective Vertical : 0
Perspective Horizontal : 0
Perspective Rotate : 0.0
Perspective Scale : 100
Convert To Grayscale : False
Tone Curve Name : Linear
Camera Profile : Embedded
Lens Profile Setup : LensDefaults
Has Settings : True
Has Crop : False
Already Applied : True
Description : SONY DSC
Rights : Copyright © Harry Meares Jr.
Usage Terms : No reproduction of any kind without prior written permission
Creator Work URL : hskeeter@cox.net
Tone Curve : 0, 0, 255, 255
Image Width : 300
Image Height : 209
Bits Per Sample : 8
Color Components : 3
Aperture : 22.0
Image Size : 300x209
Megapixels : 0.063
Shutter Speed : 1/60
Light Value : 14.8