Uber Exif Photo
Copyright Notice : Copyright © Harry Meares Jr.
Caption-Abstract : SONY DSC
Copyright Flag : True
Image Description : SONY DSC
Make : SONY
Camera Model Name : DSLR-A580
Software : Adobe Photoshop Lightroom 3.4.1
Modify Date : 2011:10:09 19:13:51
Copyright : Copyright © Harry Meares Jr.
Exposure Time : 1/640
F Number : 9.0
Exposure Program : Aperture-priority AE
ISO : 800
Sensitivity Type : Recommended Exposure Index
Recommended Exposure Index : 800
Date/Time Original : 2011:10:09 11:04:51
Create Date : 2011:10:09 11:04:51
Shutter Speed Value : 1/640
Aperture Value : 9.0
Brightness Value : 6.37
Exposure Compensation : -1.3
Max Aperture Value : 3.5
Metering Mode : Spot
Light Source : Unknown
Flash : Off, Did not fire
Focal Length : 18.0 mm
Scene Type : Directly photographed
Custom Rendered : Normal
Exposure Mode : Auto
White Balance : Auto
Focal Length In 35mm Format : 27 mm
Scene Capture Type : Standard
Contrast : Normal
Saturation : Normal
Sharpness : Normal
Lens Info : 16-80mm f/3.5-4.5
Lens Model : DT 16-80mm F3.5-4.5 ZA
Profile Description : sRGB IEC61966-2.1
Creator Tool : Adobe Photoshop Lightroom 3.4.1
Lens : DT 16-80mm F3.5-4.5 ZA
Date Created : 2011:10:09 11:04:51
Marked : True
Version : 6.4.1
Process Version : 5.7
Color Temperature : 5050
Tint : +8
Exposure : -0.41
Shadows : 5
Brightness : +50
Luminance Smoothing : 46
Color Noise Reduction : 25
Chromatic Aberration R : 0
Chromatic Aberration B : 0
Vignette Amount : 0
Shadow Tint : 0
Red Hue : 0
Red Saturation : 0
Green Hue : 0
Green Saturation : 0
Blue Hue : 0
Blue Saturation : 0
Fill Light : 0
Vibrance : +6
Highlight Recovery : 0
Clarity : +40
Defringe : 0
Hue Adjustment Red : 0
Hue Adjustment Orange : 0
Hue Adjustment Yellow : 0
Hue Adjustment Green : 0
Hue Adjustment Aqua : 0
Hue Adjustment Blue : 0
Hue Adjustment Purple : 0
Hue Adjustment Magenta : 0
Saturation Adjustment Red : 0
Saturation Adjustment Orange : 0
Saturation Adjustment Yellow : 0
Saturation Adjustment Green : 0
Saturation Adjustment Aqua : 0
Saturation Adjustment Blue : 0
Saturation Adjustment Purple : 0
Saturation Adjustment Magenta : 0
Luminance Adjustment Red : 0
Luminance Adjustment Orange : 0
Luminance Adjustment Yellow : 0
Luminance Adjustment Green : 0
Luminance Adjustment Aqua : 0
Luminance Adjustment Blue : 0
Luminance Adjustment Purple : 0
Luminance Adjustment Magenta : 0
Split Toning Shadow Hue : 0
Split Toning Shadow Saturation : 0
Split Toning Highlight Hue : 0
Split Toning Highlight Saturation : 0
Split Toning Balance : 0
Parametric Shadows : -3
Parametric Darks : 0
Parametric Lights : -31
Parametric Highlights : 0
Parametric Shadow Split : 25
Parametric Midtone Split : 50
Parametric Highlight Split : 75
Sharpen Radius : +1.0
Sharpen Detail : 25
Sharpen Edge Masking : 10
Post Crop Vignette Amount : 0
Grain Amount : 0
Luminance Noise Reduction Detail : 50
Color Noise Reduction Detail : 50
Luminance Noise Reduction Contrast : 13
Lens Profile Enable : 0
Lens Manual Distortion Amount : 0
Perspective Vertical : 0
Perspective Horizontal : 0
Perspective Rotate : 0.0
Perspective Scale : 100
Convert To Grayscale : False
Tone Curve Name : Medium Contrast
Camera Profile : Adobe Standard
Lens Profile Setup : LensDefaults
Has Settings : True
Crop Top : 0.063218
Crop Left : 0
Crop Bottom : 0.968391
Crop Right : 0.944604
Crop Angle : 0
Crop Constrain To Warp : 0
Crop Width : 4640
Crop Height : 2954
Crop Unit : pixels
Has Crop : True
Already Applied : True
Description : SONY DSC
Rights : Copyright © Harry Meares Jr.
Usage Terms : No reproduction of any kind without prior written permission
Creator Work URL : hskeeter@cox.net
Tone Curve : 0, 0, 32, 22, 64, 56, 128, 128, 192, 196, 255, 255
Image Width : 300
Image Height : 191
Bits Per Sample : 8
Color Components : 3
Aperture : 9.0
Image Size : 300x191
Megapixels : 0.057
Scale Factor To 35 mm Equivalent : 1.5
Shutter Speed : 1/640
Circle Of Confusion : 0.020 mm
Field Of View : 67.4 deg
Focal Length : 18.0 mm (35 mm equivalent: 27.0 mm)
Hyperfocal Distance : 1.80 m
Light Value : 12.7
Lens ID : Carl Zeiss Vario-Sonnar T* DT 16-80mm F3.5-4.5 ZA (SAL1680Z)