Uber Exif Photo
Make : SONY
Camera Model Name : ILCE-7
Orientation : Horizontal (normal)
Software : Adobe Photoshop CS6 (Windows)
Modify Date : 2015:05:03 23:13:07
Exposure Time : 1/15
F Number : 1.7
Exposure Program : Manual
ISO : 2000
Sensitivity Type : Recommended Exposure Index
Recommended Exposure Index : 2000
Date/Time Original : 2015:04:29 19:46:23
Create Date : 2015:04:29 19:46:23
Shutter Speed Value : 1/15
Aperture Value : 1.7
Brightness Value : -6.88125
Exposure Compensation : 0
Max Aperture Value : 1.7
Metering Mode : Spot
Light Source : Unknown
Flash : Off, Did not fire
Focal Length : 50.0 mm
Color Space : sRGB
Exif Image Width : 5813
Exif Image Height : 3875
Scene Type : Directly photographed
Custom Rendered : Normal
Exposure Mode : Manual
White Balance : Auto
Digital Zoom Ratio : 1
Focal Length In 35mm Format : 50 mm
Scene Capture Type : Standard
Contrast : Normal
Saturation : Normal
Sharpness : Hard
Lens Info : 50mm f/1.7
Lens Model : Carl Zeiss Planar 1.7/50 C/Y
Profile Description : sRGB IEC61966-2.1
Creator Tool : Adobe Photoshop CS6 (Windows)
Rating : 0
Lens : Carl Zeiss Planar 1.7/50 C/Y
Date Created : 2015:04:29 19:46:23
Color Mode : RGB
ICC Profile Name : sRGB IEC61966-2.1
Format : image/jpeg
Raw File Name : _DSC1643.ARW
Version : 8.6
Process Version : 6.7
Auto White Version : 134348800
Color Temperature : 4550
Tint : +15
Luminance Smoothing : 89
Color Noise Reduction : 25
Vignette Amount : 0
Shadow Tint : 0
Red Hue : 0
Red Saturation : 0
Green Hue : 0
Green Saturation : 0
Blue Hue : 0
Blue Saturation : 0
Vibrance : 0
Hue Adjustment Red : 0
Hue Adjustment Orange : 0
Hue Adjustment Yellow : 0
Hue Adjustment Green : 0
Hue Adjustment Aqua : 0
Hue Adjustment Blue : 0
Hue Adjustment Purple : 0
Hue Adjustment Magenta : 0
Saturation Adjustment Red : 0
Saturation Adjustment Orange : 0
Saturation Adjustment Yellow : 0
Saturation Adjustment Green : 0
Saturation Adjustment Aqua : 0
Saturation Adjustment Blue : 0
Saturation Adjustment Purple : 0
Saturation Adjustment Magenta : 0
Luminance Adjustment Red : 0
Luminance Adjustment Orange : 0
Luminance Adjustment Yellow : 0
Luminance Adjustment Green : 0
Luminance Adjustment Aqua : 0
Luminance Adjustment Blue : 0
Luminance Adjustment Purple : 0
Luminance Adjustment Magenta : 0
Split Toning Shadow Hue : 0
Split Toning Shadow Saturation : 0
Split Toning Highlight Hue : 0
Split Toning Highlight Saturation : 0
Split Toning Balance : 0
Parametric Shadows : 0
Parametric Darks : 0
Parametric Lights : 0
Parametric Highlights : 0
Parametric Shadow Split : 25
Parametric Midtone Split : 50
Parametric Highlight Split : 75
Sharpen Radius : +1.0
Sharpen Detail : 25
Sharpen Edge Masking : 100
Post Crop Vignette Amount : 0
Grain Amount : 0
Luminance Noise Reduction Detail : 50
Color Noise Reduction Detail : 50
Luminance Noise Reduction Contrast : 0
Color Noise Reduction Smoothness : 50
Lens Profile Enable : 0
Lens Manual Distortion Amount : +6
Perspective Vertical : -7
Perspective Horizontal : -7
Perspective Rotate : 0.0
Perspective Scale : 100
Perspective Aspect : 0
Perspective Upright : Off
Auto Lateral CA : 1
Exposure 2012 : 0.00
Contrast 2012 : -50
Highlights 2012 : -25
Shadows 2012 : +67
Whites 2012 : +33
Blacks 2012 : -2
Clarity 2012 : +95
Defringe Purple Amount : 0
Defringe Purple Hue Lo : 30
Defringe Purple Hue Hi : 70
Defringe Green Amount : 0
Defringe Green Hue Lo : 40
Defringe Green Hue Hi : 60
Convert To Grayscale : False
Tone Curve Name : Medium Contrast
Tone Curve Name 2012 : Linear
Camera Profile : Adobe Standard
Lens Profile Setup : LensDefaults
Has Settings : True
Crop Top : 0.013285
Crop Left : 0.003378
Crop Bottom : 0.975217
Crop Right : 0.975259
Crop Angle : -0.271542
Crop Constrain To Warp : 1
Crop Width : 2
Crop Height : 3
Crop Unit : Unknown (3)
Has Crop : True
Already Applied : True
Tone Curve : 0, 0, 32, 22, 64, 56, 128, 128, 192, 196, 255, 255
Tone Curve Red : 0, 0, 255, 255
Tone Curve Green : 0, 0, 255, 255
Tone Curve Blue : 0, 0, 255, 255
Tone Curve PV2012 : 0, 0, 255, 255
Tone Curve PV2012 Red : 0, 0, 255, 255
Tone Curve PV2012 Green : 0, 0, 255, 255
Tone Curve PV2012 Blue : 0, 0, 255, 255
Image Width : 300
Image Height : 200
Bits Per Sample : 8
Color Components : 3
Aperture : 1.7
Image Size : 300x200
Megapixels : 0.060
Scale Factor To 35 mm Equivalent : 1.0
Shutter Speed : 1/15
Circle Of Confusion : 0.030 mm
Field Of View : 39.6 deg
Focal Length : 50.0 mm (35 mm equivalent: 50.0 mm)
Hyperfocal Distance : 48.94 m
Light Value : 1.1