Uber Exif Photo
Photometric Interpretation : RGB
Camera Model Name : ILCE-7
Orientation : Horizontal (normal)
Samples Per Pixel : 3
Planar Configuration : Chunky
Software : Adobe Photoshop CS6 (Windows)
Modify Date : 2014:03:29 11:43:35
Exposure Time : 1/30
F Number : 8.0
ISO : 100
Date/Time Original : 2014:03:25 14:01:20
Focal Length : 18.0 mm
Color Space : sRGB
Exif Image Width : 6000
Exif Image Height : 4000
Profile Description : sRGB IEC61966-2.1
Method : Details Enhancer
Strength : 70.0
Color Saturation : 46.0
Luminosity : 0.0
White Clip : 0.250000
Black Clip : 0.000000
Smoothing Mode : Slider
Smoothing : 0.0
Microcontrast : 0.0
Microsmoothing : 2.0
Gamma : 1.00
Highlights Smoothing : 0.0
Shadows Smoothing : 0.0
Shadows Clipping : 0.0
Saturation Highlights : 0.0
Saturation Shadows : 0.0
Is Pano 360 : No
Creator Tool : Adobe Photoshop CS6 (Windows)
Create Date : 2014:03:25 14:01:20
Rating : 0
Lens Info : 18mm f/4
Lens : Carl Zeiss Distagon 4/18 C/Y
Date Created : 2014:03:25 14:01:20
Color Mode : RGB
ICC Profile Name : sRGB IEC61966-2.1
Format : image/jpeg
Raw File Name : _DSC1915.ARW
Version : 8.3
Process Version : 6.7
White Balance : As Shot
Auto White Version : 134348800
Color Temperature : 5050
Tint : 0
Saturation : 0
Sharpness : 25
Luminance Smoothing : 67
Color Noise Reduction : 25
Vignette Amount : 0
Shadow Tint : 0
Red Hue : 0
Red Saturation : 0
Green Hue : 0
Green Saturation : 0
Blue Hue : 0
Blue Saturation : 0
Vibrance : 0
Hue Adjustment Red : 0
Hue Adjustment Orange : 0
Hue Adjustment Yellow : 0
Hue Adjustment Green : 0
Hue Adjustment Aqua : 0
Hue Adjustment Blue : 0
Hue Adjustment Purple : 0
Hue Adjustment Magenta : 0
Saturation Adjustment Red : 0
Saturation Adjustment Orange : +45
Saturation Adjustment Yellow : 0
Saturation Adjustment Green : 0
Saturation Adjustment Aqua : 0
Saturation Adjustment Blue : 0
Saturation Adjustment Purple : 0
Saturation Adjustment Magenta : 0
Luminance Adjustment Red : 0
Luminance Adjustment Orange : 0
Luminance Adjustment Yellow : 0
Luminance Adjustment Green : 0
Luminance Adjustment Aqua : 0
Luminance Adjustment Blue : 0
Luminance Adjustment Purple : 0
Luminance Adjustment Magenta : 0
Split Toning Shadow Hue : 0
Split Toning Shadow Saturation : 0
Split Toning Highlight Hue : 0
Split Toning Highlight Saturation : 0
Split Toning Balance : 0
Parametric Shadows : 0
Parametric Darks : 0
Parametric Lights : 0
Parametric Highlights : 0
Parametric Shadow Split : 25
Parametric Midtone Split : 50
Parametric Highlight Split : 75
Sharpen Radius : +1.0
Sharpen Detail : 25
Sharpen Edge Masking : 100
Post Crop Vignette Amount : 0
Grain Amount : 0
Luminance Noise Reduction Detail : 50
Color Noise Reduction Detail : 50
Luminance Noise Reduction Contrast : 0
Color Noise Reduction Smoothness : 50
Lens Profile Enable : 0
Lens Manual Distortion Amount : 0
Perspective Vertical : 0
Perspective Horizontal : 0
Perspective Rotate : 0.0
Perspective Scale : 100
Perspective Aspect : 0
Perspective Upright : Off
Auto Lateral CA : 1
Exposure 2012 : -1.60
Contrast 2012 : -1
Highlights 2012 : -30
Shadows 2012 : +30
Whites 2012 : +14
Blacks 2012 : -12
Clarity 2012 : +30
Defringe Purple Amount : 0
Defringe Purple Hue Lo : 30
Defringe Purple Hue Hi : 70
Defringe Green Amount : 0
Defringe Green Hue Lo : 40
Defringe Green Hue Hi : 60
Convert To Grayscale : False
Tone Curve Name 2012 : Linear
Camera Profile : Adobe Standard
Lens Profile Setup : LensDefaults
Has Settings : True
Has Crop : False
Already Applied : True
Tone Curve PV2012 : 0, 0, 255, 255
Tone Curve PV2012 Red : 0, 0, 255, 255
Tone Curve PV2012 Green : 0, 0, 255, 255
Tone Curve PV2012 Blue : 0, 0, 255, 255
Image Width : 300
Image Height : 200
Bits Per Sample : 8
Color Components : 3
Aperture : 8.0
Image Size : 300x200
Megapixels : 0.060
Shutter Speed : 1/30
Light Value : 10.9