Uber Exif Photo
Make : SONY
Camera Model Name : NEX-7
Orientation : Horizontal (normal)
Software : Adobe Photoshop CS6 (Windows)
Modify Date : 2013:09:23 06:21:07
Exposure Time : 0.5
F Number : 2.0
Exposure Program : Shutter speed priority AE
ISO : 100
Sensitivity Type : Recommended Exposure Index
Recommended Exposure Index : 100
Date/Time Original : 2013:09:19 20:16:32
Create Date : 2013:09:19 20:16:32
Shutter Speed Value : 0.5
Aperture Value : 2.0
Brightness Value : -5.6859375
Exposure Compensation : -1
Max Aperture Value : 2.0
Metering Mode : Multi-segment
Light Source : Unknown
Flash : Off, Did not fire
Focal Length : 28.0 mm
Color Space : Uncalibrated
Exif Image Width : 6026
Exif Image Height : 4017
Scene Type : Directly photographed
Custom Rendered : Normal
Exposure Mode : Auto
White Balance : Auto
Focal Length In 35mm Format : 42 mm
Scene Capture Type : Standard
Contrast : Low
Saturation : Low
Sharpness : Hard
Lens Info : 28mm f/2
Lens Model : Carl Zeiss Distagon 2/28 ZF
Profile Description : Adobe RGB (1998)
Lens : Carl Zeiss Distagon 2/28 ZF
Format : image/jpeg
Transformation : Perspective
Virtual Focal Length : 1.160093
Virtual Image X Center : 0.502817
Virtual Image Y Center : 0.331455
Color Mode : RGB
Date Created : 2013:09:19 20:16:32
ICC Profile Name : Adobe RGB (1998)
Creator Tool : NEX-7 v1.02
Rating : 0
Already Applied : True
Auto Lateral CA : 1
Auto White Version : 134348800
Blacks 2012 : +26
Blue Hue : 0
Blue Saturation : 0
Camera Profile : Adobe Standard
Clarity 2012 : 0
Color Noise Reduction : 25
Color Noise Reduction Detail : 50
Color Noise Reduction Smoothness : 50
Contrast 2012 : -25
Convert To Grayscale : False
Defringe Green Amount : 0
Defringe Green Hue Hi : 60
Defringe Green Hue Lo : 40
Defringe Purple Amount : 20
Defringe Purple Hue Hi : 70
Defringe Purple Hue Lo : 30
Exposure 2012 : +0.80
Grain Amount : 0
Green Hue : 0
Green Saturation : 0
Has Crop : False
Has Settings : True
Highlights 2012 : -50
Hue Adjustment Aqua : 0
Hue Adjustment Blue : 0
Hue Adjustment Green : 0
Hue Adjustment Magenta : 0
Hue Adjustment Orange : 0
Hue Adjustment Purple : 0
Hue Adjustment Red : 0
Hue Adjustment Yellow : 0
Lens Manual Distortion Amount : 0
Lens Profile Enable : 0
Lens Profile Setup : LensDefaults
Luminance Adjustment Aqua : 0
Luminance Adjustment Blue : 0
Luminance Adjustment Green : 0
Luminance Adjustment Magenta : 0
Luminance Adjustment Orange : 0
Luminance Adjustment Purple : 0
Luminance Adjustment Red : 0
Luminance Adjustment Yellow : 0
Luminance Noise Reduction Contrast : 0
Luminance Noise Reduction Detail : 50
Luminance Smoothing : 55
Paint Correction Active : true
Paint Correction Amount : 1.000000
Paint Correction Mask Center Weight : 0.000000
Paint Correction Mask Flow : 0.888889
Paint Correction Mask Value : 1.000000
Paint Correction Mask Radius : 0.007337
Paint Correction Mask What : Mask/Paint
Paint Correction Brightness : 0.000000
Paint Correction Clarity : 0.000000
Paint Correction Clarity 2012 : 0.000000
Paint Correction Contrast : 0.000000
Paint Correction Contrast 2012 : 0.000000
Paint Correction Defringe : 0.000000
Paint Correction Exposure : 0.000000
Paint Correction Exposure 2012 : 0.000000
Paint Correction Highlights 2012 : -0.060000
Paint Correction Luminance Noise : 0.000000
Paint Correction Moire : 0.000000
Paint Correction Saturation : -1.000000
Paint Correction Shadows 2012 : -0.060000
Paint Correction Sharpness : 0.000000
Paint Correction Temperature : 0.000000
Paint Correction Tint : 0.000000
Paint Correction Toning Hue : 0.000000
Paint Correction Toning Saturation : 0.000000
Paint Correction What : Correction
Parametric Darks : 0
Parametric Highlight Split : 75
Parametric Highlights : 0
Parametric Lights : 0
Parametric Midtone Split : 50
Parametric Shadow Split : 25
Parametric Shadows : 0
Perspective Aspect : 0
Perspective Horizontal : 0
Perspective Rotate : 0.0
Perspective Scale : 100
Perspective Upright : Off
Perspective Vertical : 0
Post Crop Vignette Amount : 0
Process Version : 6.7
Raw File Name : _DSC8004.ARW
Red Hue : 0
Red Saturation : 0
Saturation Adjustment Aqua : 0
Saturation Adjustment Blue : 0
Saturation Adjustment Green : 0
Saturation Adjustment Magenta : 0
Saturation Adjustment Orange : 0
Saturation Adjustment Purple : 0
Saturation Adjustment Red : 0
Saturation Adjustment Yellow : 0
Shadow Tint : 0
Shadows 2012 : +50
Sharpen Detail : 25
Sharpen Edge Masking : 0
Sharpen Radius : +1.0
Split Toning Balance : 0
Split Toning Highlight Hue : 0
Split Toning Highlight Saturation : 0
Split Toning Shadow Hue : 0
Split Toning Shadow Saturation : 0
Color Temperature : 3150
Tint : +11
Tone Curve Name 2012 : Linear
Tone Curve PV2012 : 0, 0, 255, 255
Tone Curve PV2012 Blue : 0, 0, 255, 255
Tone Curve PV2012 Green : 0, 0, 255, 255
Tone Curve PV2012 Red : 0, 0, 255, 255
Version : 8.2
Vibrance : 0
Vignette Amount : 0
Whites 2012 : +25
Image Width : 300
Image Height : 200
Bits Per Sample : 8
Color Components : 3
Aperture : 2.0
Image Size : 300x200
Megapixels : 0.060
Scale Factor To 35 mm Equivalent : 1.5
Shutter Speed : 0.5
Circle Of Confusion : 0.020 mm
Field Of View : 46.4 deg
Focal Length : 28.0 mm (35 mm equivalent: 42.0 mm)
Hyperfocal Distance : 19.57 m
Light Value : 3.0