Uber Exif Photo
Make : SONY
Camera Model Name : NEX-7
Orientation : Horizontal (normal)
Software : Adobe Photoshop CS6 (Windows)
Modify Date : 2013:06:25 23:38:09
Exposure Time : 1/10
F Number : 8.0
Exposure Program : Manual
ISO : 100
Date/Time Original : 2013:06:25 14:58:51
Shutter Speed Value : 1/10
Aperture Value : 8.0
Brightness Value : -4.428125
Exposure Compensation : 0
Max Aperture Value : 8.0
Metering Mode : Center-weighted average
Light Source : Unknown
Flash : Off, Did not fire
Focal Length : 16.0 mm
Color Space : sRGB
Exif Image Width : 4932
Exif Image Height : 3288
Scene Type : Directly photographed
Custom Rendered : Normal
Exposure Mode : Manual
White Balance : Auto
Focal Length In 35mm Format : 25 mm
Scene Capture Type : Standard
Contrast : Low
Saturation : Low
Sharpness : Hard
Lens Info : Lens Model : Carl Zeiss Hologon 8/16 CG
Profile Description : sRGB IEC61966-2.1
Creator Tool : Adobe Photoshop CS6 (Windows)
Create Date : 2013:06:25 14:58:51
Rating : 0
Lens : Carl Zeiss Hologon 8/16 CG
Date Created : 2013:06:25 14:58:51
Color Mode : RGB
ICC Profile Name : sRGB IEC61966-2.1
Format : image/jpeg
Raw File Name : _DSC1667_CF.dng
Version : 7.0
Process Version : 6.7
Color Temperature : 4900
Tint : +18
Exposure : 0.00
Shadows : 5
Brightness : +50
Luminance Smoothing : 50
Color Noise Reduction : 98
Vignette Amount : 0
Shadow Tint : 0
Red Hue : 0
Red Saturation : 0
Green Hue : 0
Green Saturation : 0
Blue Hue : 0
Blue Saturation : 0
Fill Light : 0
Vibrance : 0
Highlight Recovery : 0
Clarity : 0
Defringe : 0
Hue Adjustment Red : 0
Hue Adjustment Orange : 0
Hue Adjustment Yellow : 0
Hue Adjustment Green : 0
Hue Adjustment Aqua : 0
Hue Adjustment Blue : 0
Hue Adjustment Purple : 0
Hue Adjustment Magenta : 0
Saturation Adjustment Red : 0
Saturation Adjustment Orange : 0
Saturation Adjustment Yellow : 0
Saturation Adjustment Green : 0
Saturation Adjustment Aqua : 0
Saturation Adjustment Blue : 0
Saturation Adjustment Purple : 0
Saturation Adjustment Magenta : 0
Luminance Adjustment Red : 0
Luminance Adjustment Orange : 0
Luminance Adjustment Yellow : 0
Luminance Adjustment Green : 0
Luminance Adjustment Aqua : 0
Luminance Adjustment Blue : 0
Luminance Adjustment Purple : 0
Luminance Adjustment Magenta : 0
Split Toning Shadow Hue : 0
Split Toning Shadow Saturation : 0
Split Toning Highlight Hue : 0
Split Toning Highlight Saturation : 0
Split Toning Balance : 0
Parametric Shadows : 0
Parametric Darks : 0
Parametric Lights : 0
Parametric Highlights : 0
Parametric Shadow Split : 25
Parametric Midtone Split : 50
Parametric Highlight Split : 75
Sharpen Radius : +1.0
Sharpen Detail : 25
Sharpen Edge Masking : 100
Post Crop Vignette Amount : 0
Grain Amount : 0
Luminance Noise Reduction Detail : 50
Color Noise Reduction Detail : 50
Luminance Noise Reduction Contrast : 0
Lens Profile Enable : 0
Lens Manual Distortion Amount : 0
Perspective Vertical : 0
Perspective Horizontal : 0
Perspective Rotate : 0.0
Perspective Scale : 100
Auto Lateral CA : 0
Exposure 2012 : +2.00
Contrast 2012 : +1
Highlights 2012 : -21
Shadows 2012 : +21
Whites 2012 : 0
Blacks 2012 : -6
Clarity 2012 : +5
Convert To Grayscale : False
Tone Curve Name : Medium Contrast
Tone Curve Name 2012 : Linear
Camera Profile : Adobe Standard
Lens Profile Setup : LensDefaults
Has Settings : True
Has Crop : False
Already Applied : True
Tone Curve : 0, 0, 32, 22, 64, 56, 128, 128, 192, 196, 255, 255
Tone Curve Red : 0, 0, 255, 255
Tone Curve Green : 0, 0, 255, 255
Tone Curve Blue : 0, 0, 255, 255
Tone Curve PV2012 : 0, 0, 255, 255
Tone Curve PV2012 Red : 0, 0, 255, 255
Tone Curve PV2012 Green : 0, 0, 255, 255
Tone Curve PV2012 Blue : 0, 0, 255, 255
Image Width : 300
Image Height : 200
Bits Per Sample : 8
Color Components : 3
Aperture : 8.0
Image Size : 300x200
Megapixels : 0.060
Scale Factor To 35 mm Equivalent : 1.6
Shutter Speed : 1/10
Circle Of Confusion : 0.019 mm
Field Of View : 71.5 deg
Focal Length : 16.0 mm (35 mm equivalent: 25.0 mm)
Hyperfocal Distance : 1.66 m
Light Value : 9.3