Uber Exif Photo
Make : SONY
Camera Model Name : NEX-7
Orientation : Horizontal (normal)
Software : Adobe Photoshop CS6 (Windows)
Modify Date : 2013:04:16 23:29:59
Exposure Time : 1/500
F Number : 8.0
Exposure Program : Aperture-priority AE
ISO : 200
Sensitivity Type : Recommended Exposure Index
Recommended Exposure Index : 200
Date/Time Original : 2013:04:15 18:10:43
Create Date : 2013:04:15 18:10:43
Shutter Speed Value : 1/500
Aperture Value : 8.0
Brightness Value : 8.95859375
Exposure Compensation : -0.3
Max Aperture Value : 1.8
Metering Mode : Multi-segment
Light Source : Unknown
Flash : Off, Did not fire
Focal Length : 135.0 mm
Color Space : Uncalibrated
Exif Image Width : 4344
Exif Image Height : 2074
Scene Type : Directly photographed
Custom Rendered : Normal
Exposure Mode : Auto
White Balance : Auto
Focal Length In 35mm Format : 202 mm
Scene Capture Type : Standard
Contrast : Low
Saturation : Low
Sharpness : Hard
Lens Info : 135mm f/1.8
Lens Model : 135mm F1.8 ZA
Profile Description : Adobe RGB (1998)
Creator Tool : Adobe Photoshop CS6 (Windows)
Rating : 0
Lens : 135mm F1.8 ZA
Date Created : 2013:04:15 18:10:43
Color Mode : RGB
ICC Profile Name : Adobe RGB (1998)
Raw File Name : _DSC9204.ARW
Version : 7.0
Process Version : 6.7
Color Temperature : 5350
Tint : +2
Exposure : 0.00
Shadows : 5
Brightness : +50
Luminance Smoothing : 50
Color Noise Reduction : 25
Vignette Amount : 0
Shadow Tint : 0
Red Hue : 0
Red Saturation : 0
Green Hue : 0
Green Saturation : 0
Blue Hue : 0
Blue Saturation : 0
Fill Light : 0
Vibrance : +20
Highlight Recovery : 0
Clarity : 0
Defringe : 2
Hue Adjustment Red : 0
Hue Adjustment Orange : 0
Hue Adjustment Yellow : 0
Hue Adjustment Green : 0
Hue Adjustment Aqua : +50
Hue Adjustment Blue : 0
Hue Adjustment Purple : 0
Hue Adjustment Magenta : 0
Saturation Adjustment Red : 0
Saturation Adjustment Orange : 0
Saturation Adjustment Yellow : 0
Saturation Adjustment Green : +70
Saturation Adjustment Aqua : +20
Saturation Adjustment Blue : +15
Saturation Adjustment Purple : 0
Saturation Adjustment Magenta : 0
Luminance Adjustment Red : -5
Luminance Adjustment Orange : -20
Luminance Adjustment Yellow : -33
Luminance Adjustment Green : 0
Luminance Adjustment Aqua : +15
Luminance Adjustment Blue : -30
Luminance Adjustment Purple : +5
Luminance Adjustment Magenta : +5
Split Toning Shadow Hue : 0
Split Toning Shadow Saturation : 0
Split Toning Highlight Hue : 0
Split Toning Highlight Saturation : 0
Split Toning Balance : 0
Parametric Shadows : 0
Parametric Darks : 0
Parametric Lights : 0
Parametric Highlights : 0
Parametric Shadow Split : 25
Parametric Midtone Split : 50
Parametric Highlight Split : 75
Sharpen Radius : +1.0
Sharpen Detail : 25
Sharpen Edge Masking : 100
Post Crop Vignette Amount : 0
Grain Amount : 0
Luminance Noise Reduction Detail : 50
Color Noise Reduction Detail : 50
Luminance Noise Reduction Contrast : 0
Lens Profile Enable : 0
Lens Manual Distortion Amount : 0
Perspective Vertical : 0
Perspective Horizontal : 0
Perspective Rotate : 0.0
Perspective Scale : 100
Auto Lateral CA : 1
Exposure 2012 : -0.20
Contrast 2012 : -5
Highlights 2012 : -13
Shadows 2012 : +13
Whites 2012 : +41
Blacks 2012 : -29
Clarity 2012 : +35
Convert To Grayscale : False
Tone Curve Name : Medium Contrast
Tone Curve Name 2012 : Linear
Camera Profile : Adobe Standard
Lens Profile Setup : LensDefaults
Has Settings : True
Has Crop : False
Already Applied : True
Format : image/jpeg
Transformation : Perspective
Virtual Focal Length : 4.031936
Virtual Image X Center : 0.359281
Virtual Image Y Center : 0.242754
Tone Curve : 0, 0, 32, 22, 64, 56, 128, 128, 192, 196, 255, 255
Tone Curve Red : 0, 0, 255, 255
Tone Curve Green : 0, 0, 255, 255
Tone Curve Blue : 0, 0, 255, 255
Tone Curve PV2012 : 0, 0, 255, 255
Tone Curve PV2012 Red : 0, 0, 255, 255
Tone Curve PV2012 Green : 0, 0, 255, 255
Tone Curve PV2012 Blue : 0, 0, 255, 255
Image Width : 300
Image Height : 143
Bits Per Sample : 8
Color Components : 3
Aperture : 8.0
Image Size : 300x143
Megapixels : 0.043
Scale Factor To 35 mm Equivalent : 1.5
Shutter Speed : 1/500
Circle Of Confusion : 0.020 mm
Field Of View : 10.2 deg
Focal Length : 135.0 mm (35 mm equivalent: 202.0 mm)
Hyperfocal Distance : 113.45 m
Light Value : 14.0
Lens ID : Carl Zeiss Sonnar T* 135mm F1.8 ZA (SAL135F18Z)