Uber Exif Photo
Make : SONY
Camera Model Name : NEX-7
Orientation : Horizontal (normal)
Software : Adobe Photoshop CS6 (Windows)
Modify Date : 2013:03:03 11:28:44
Exposure Time : 1/40
F Number : 2.0
Exposure Program : Manual
ISO : 400
Sensitivity Type : Recommended Exposure Index
Recommended Exposure Index : 400
Date/Time Original : 2013:03:02 19:28:00
Create Date : 2013:03:02 19:28:00
Shutter Speed Value : 1/40
Aperture Value : 2.0
Brightness Value : -5.5140625
Exposure Compensation : 0
Max Aperture Value : 1.4
Metering Mode : Center-weighted average
Light Source : Unknown
Flash : Off, Did not fire
Focal Length : 35.0 mm
Color Space : Uncalibrated
Exif Image Width : 5906
Exif Image Height : 3938
Scene Type : Directly photographed
Custom Rendered : Normal
Exposure Mode : Manual
White Balance : Auto
Focal Length In 35mm Format : 53 mm
Scene Capture Type : Standard
Contrast : Low
Saturation : Low
Sharpness : Hard
Lens Info : 35mm f/1.4
Lens Model : Carl Zeiss Distagon 1.4/35 ZF.2
Creator Tool : NEX-7 v1.02
Rating : 0
Lens : Carl Zeiss Distagon 1.4/35 ZF.2
Date Created : 2013:03:02 19:28
Color Mode : Grayscale
ICC Profile Name : Gray Gamma 2.2
Raw File Name : _DSC8209.ARW
Version : 7.0
Process Version : 6.7
Color Temperature : 3450
Tint : -1
Exposure : 0.00
Shadows : 5
Brightness : +50
Luminance Smoothing : 83
Color Noise Reduction : 25
Vignette Amount : 0
Shadow Tint : 0
Red Hue : 0
Red Saturation : 0
Green Hue : 0
Green Saturation : 0
Blue Hue : 0
Blue Saturation : 0
Fill Light : 0
Highlight Recovery : 0
Clarity : 0
Defringe : 2
Gray Mixer Red : +7
Gray Mixer Orange : +1
Gray Mixer Yellow : -3
Gray Mixer Green : -15
Gray Mixer Aqua : -22
Gray Mixer Blue : -4
Gray Mixer Purple : +7
Gray Mixer Magenta : +9
Split Toning Shadow Hue : 0
Split Toning Shadow Saturation : 0
Split Toning Highlight Hue : 0
Split Toning Highlight Saturation : 0
Split Toning Balance : 0
Parametric Shadows : 0
Parametric Darks : 0
Parametric Lights : 0
Parametric Highlights : 0
Parametric Shadow Split : 25
Parametric Midtone Split : 50
Parametric Highlight Split : 75
Sharpen Radius : +1.0
Sharpen Detail : 25
Sharpen Edge Masking : 100
Post Crop Vignette Amount : 0
Grain Amount : 0
Luminance Noise Reduction Detail : 50
Color Noise Reduction Detail : 50
Luminance Noise Reduction Contrast : 0
Lens Profile Enable : 0
Lens Manual Distortion Amount : 0
Perspective Vertical : -5
Perspective Horizontal : 0
Perspective Rotate : 0.0
Perspective Scale : 100
Auto Lateral CA : 0
Exposure 2012 : +3.25
Contrast 2012 : -25
Highlights 2012 : 0
Shadows 2012 : 0
Whites 2012 : 0
Blacks 2012 : -3
Clarity 2012 : +33
Convert To Grayscale : True
Tone Curve Name : Medium Contrast
Tone Curve Name 2012 : Linear
Camera Profile : Adobe Standard
Lens Profile Setup : LensDefaults
Has Settings : True
Crop Top : 0.008726
Crop Left : 0.007799
Crop Bottom : 0.993128
Crop Right : 0.992201
Crop Angle : 0
Crop Constrain To Warp : 1
Crop Width : 2
Crop Height : 3
Crop Unit : Unknown (3)
Has Crop : True
Already Applied : True
Format : image/jpeg
Tone Curve : 0, 0, 32, 22, 64, 56, 128, 128, 192, 196, 255, 255
Tone Curve Red : 0, 0, 255, 255
Tone Curve Green : 0, 0, 255, 255
Tone Curve Blue : 0, 0, 255, 255
Tone Curve PV2012 : 0, 0, 255, 255
Tone Curve PV2012 Red : 0, 0, 255, 255
Tone Curve PV2012 Green : 0, 0, 255, 255
Tone Curve PV2012 Blue : 0, 0, 255, 255
Paint Correction What : Correction
Paint Correction Amount : 1.000000
Paint Correction Active : true
Paint Correction Exposure : 0.000000
Paint Correction Saturation : 0.000000
Paint Correction Contrast : 0.000000
Paint Correction Clarity : 0.000000
Paint Correction Sharpness : 0.000000
Paint Correction Brightness : 0.000000
Paint Correction Toning Hue : 0.000000
Paint Correction Toning Saturation : 0.000000
Paint Correction Exposure 2012 : -0.500000
Paint Correction Contrast 2012 : 0.000000
Paint Correction Highlights 2012 : 0.000000
Paint Correction Shadows 2012 : 0.000000
Paint Correction Clarity 2012 : 0.000000
Paint Correction Luminance Noise : 0.000000
Paint Correction Moire : 0.000000
Paint Correction Temperature : 0.000000
Paint Correction Tint : 0.000000
Paint Correction Mask What : Mask/Paint
Paint Correction Mask Value : 1.000000
Paint Correction Mask Radius : 0.020251
Paint Correction Mask Flow : 0.888889
Paint Correction Mask Center Weight : 0.000000
Image Width : 300
Image Height : 200
Bits Per Sample : 8
Color Components : 1
Aperture : 2.0
Image Size : 300x200
Megapixels : 0.060
Scale Factor To 35 mm Equivalent : 1.5
Shutter Speed : 1/40
Circle Of Confusion : 0.020 mm
Field Of View : 37.5 deg
Focal Length : 35.0 mm (35 mm equivalent: 53.0 mm)
Hyperfocal Distance : 30.87 m
Light Value : 5.3