Uber Exif Photo
Make : SONY
Camera Model Name : NEX-7
Orientation : Horizontal (normal)
Software : Adobe Photoshop CS6 (Windows)
Modify Date : 2013:01:05 21:47:19
Artist : Wojciech Zielinski
Copyright : 05.01.2013
Exposure Time : 1/640
F Number : 2.8
Exposure Program : Aperture-priority AE
ISO : 100
Sensitivity Type : Recommended Exposure Index
Recommended Exposure Index : 100
Date/Time Original : 2012:07:22 08:13:13
Create Date : 2012:07:22 08:13:13
Shutter Speed Value : 1/640
Aperture Value : 2.8
Brightness Value : 4.52109375
Exposure Compensation : +1
Max Aperture Value : 2.8
Metering Mode : Multi-segment
Light Source : Unknown
Flash : Off, Did not fire
Focal Length : 20.0 mm
Color Space : Adobe RGB
Exif Image Width : 3648
Exif Image Height : 5472
Scene Type : Directly photographed
Custom Rendered : Normal
Exposure Mode : Auto
White Balance : Auto
Focal Length In 35mm Format : 30 mm
Scene Capture Type : Standard
Contrast : High
Saturation : Normal
Sharpness : Normal
Lens Info : 20mm f/2.8
Lens Model : Carl Zeiss Jena Flektogon 2.8/20 M42
Profile Description : Adobe RGB (1998)
Creator Tool : NEX-7 v1.00
Rating : 0
Lens : Carl Zeiss Jena Flektogon 2.8/20 M42
Date Created : 2012:07:22 08:13:13
Color Mode : RGB
ICC Profile Name : Adobe RGB (1998)
Raw File Name : _DSC0612.ARW
Version : 7.0
Process Version : 6.7
Color Temperature : 4750
Tint : +8
Exposure : 0.00
Shadows : 5
Brightness : +50
Luminance Smoothing : 45
Color Noise Reduction : 25
Vignette Amount : 0
Shadow Tint : 0
Red Hue : 0
Red Saturation : 0
Green Hue : 0
Green Saturation : 0
Blue Hue : 0
Blue Saturation : 0
Fill Light : 0
Vibrance : +20
Highlight Recovery : 0
Clarity : 0
Defringe : 2
Hue Adjustment Red : 0
Hue Adjustment Orange : 0
Hue Adjustment Yellow : 0
Hue Adjustment Green : 0
Hue Adjustment Aqua : 0
Hue Adjustment Blue : 0
Hue Adjustment Purple : 0
Hue Adjustment Magenta : 0
Saturation Adjustment Red : 0
Saturation Adjustment Orange : 0
Saturation Adjustment Yellow : 0
Saturation Adjustment Green : 0
Saturation Adjustment Aqua : 0
Saturation Adjustment Blue : 0
Saturation Adjustment Purple : 0
Saturation Adjustment Magenta : 0
Luminance Adjustment Red : 0
Luminance Adjustment Orange : 0
Luminance Adjustment Yellow : 0
Luminance Adjustment Green : 0
Luminance Adjustment Aqua : 0
Luminance Adjustment Blue : 0
Luminance Adjustment Purple : 0
Luminance Adjustment Magenta : 0
Split Toning Shadow Hue : 0
Split Toning Shadow Saturation : 0
Split Toning Highlight Hue : 0
Split Toning Highlight Saturation : 0
Split Toning Balance : 0
Parametric Shadows : 0
Parametric Darks : 0
Parametric Lights : 0
Parametric Highlights : 0
Parametric Shadow Split : 25
Parametric Midtone Split : 50
Parametric Highlight Split : 75
Sharpen Radius : +1.0
Sharpen Detail : 25
Sharpen Edge Masking : 100
Post Crop Vignette Amount : 0
Grain Amount : 0
Luminance Noise Reduction Detail : 50
Color Noise Reduction Detail : 50
Luminance Noise Reduction Contrast : 0
Lens Profile Enable : 0
Lens Manual Distortion Amount : +18
Perspective Vertical : -4
Perspective Horizontal : +19
Perspective Rotate : +0.6
Perspective Scale : 100
Auto Lateral CA : 1
Exposure 2012 : -0.05
Contrast 2012 : +19
Highlights 2012 : 0
Shadows 2012 : 0
Whites 2012 : +36
Blacks 2012 : 0
Clarity 2012 : +10
Convert To Grayscale : False
Tone Curve Name : Medium Contrast
Tone Curve Name 2012 : Linear
Camera Profile : Adobe Standard
Lens Profile Setup : LensDefaults
Has Settings : True
Crop Top : 0.032341
Crop Left : 0.070354
Crop Bottom : 0.944334
Crop Right : 0.982347
Crop Angle : 0
Crop Constrain To Warp : 1
Crop Width : 2
Crop Height : 3
Crop Unit : Unknown (3)
Has Crop : True
Already Applied : True
Format : image/jpeg
Tone Curve : 0, 0, 32, 22, 64, 56, 128, 128, 192, 196, 255, 255
Tone Curve Red : 0, 0, 255, 255
Tone Curve Green : 0, 0, 255, 255
Tone Curve Blue : 0, 0, 255, 255
Tone Curve PV2012 : 0, 0, 255, 255
Tone Curve PV2012 Red : 0, 0, 255, 255
Tone Curve PV2012 Green : 0, 0, 255, 255
Tone Curve PV2012 Blue : 0, 0, 255, 255
Image Width : 200
Image Height : 300
Bits Per Sample : 8
Color Components : 3
Aperture : 2.8
Image Size : 200x300
Megapixels : 0.060
Scale Factor To 35 mm Equivalent : 1.5
Shutter Speed : 1/640
Circle Of Confusion : 0.020 mm
Field Of View : 61.9 deg
Focal Length : 20.0 mm (35 mm equivalent: 30.0 mm)
Hyperfocal Distance : 7.13 m
Light Value : 12.3