Uber Exif Photo
Make : SONY
Camera Model Name : NEX-7
Orientation : Horizontal (normal)
Software : Adobe Photoshop CS5 Windows
Modify Date : 2012:12:31 07:28:27
Exposure Time : 1/40
F Number : 1.4
Exposure Program : Manual
ISO : 1600
Sensitivity Type : Recommended Exposure Index
Recommended Exposure Index : 1600
Date/Time Original : 2012:12:30 19:21:53
Create Date : 2012:12:30 19:21:53
Shutter Speed Value : 1/40
Aperture Value : 1.4
Brightness Value : -5.240625
Exposure Compensation : 0
Max Aperture Value : 1.4
Metering Mode : Center-weighted average
Light Source : Unknown
Flash : Off, Did not fire
Focal Length : 35.0 mm
Color Space : Uncalibrated
Exif Image Width : 6000
Exif Image Height : 3521
Scene Type : Directly photographed
Custom Rendered : Normal
Exposure Mode : Manual
White Balance : Auto
Focal Length In 35mm Format : 53 mm
Scene Capture Type : Standard
Contrast : High
Saturation : Normal
Sharpness : Normal
Lens Info : 35mm f/1.4
Lens Model : Carl Zeiss Distagon 1.4/35 ZF.2
Profile Description : Adobe RGB (1998)
Creator Tool : Adobe Photoshop CS5 Windows
Rating : 0
Lens : ----
Date Created : 2012:12:30 19:21:53
Color Mode : RGB
ICC Profile Name : Adobe RGB (1998)
Raw File Name : _DSC5862.ARW
Version : 6.7
Process Version : 5.7
Color Temperature : 3900
Tint : -8
Exposure : 0.00
Shadows : 20
Brightness : +31
Luminance Smoothing : 75
Color Noise Reduction : 25
Vignette Amount : 0
Shadow Tint : 0
Red Hue : 0
Red Saturation : 0
Green Hue : 0
Green Saturation : 0
Blue Hue : 0
Blue Saturation : 0
Fill Light : 23
Vibrance : +53
Highlight Recovery : 15
Clarity : +95
Defringe : 0
Hue Adjustment Red : 0
Hue Adjustment Orange : 0
Hue Adjustment Yellow : 0
Hue Adjustment Green : 0
Hue Adjustment Aqua : 0
Hue Adjustment Blue : 0
Hue Adjustment Purple : 0
Hue Adjustment Magenta : 0
Saturation Adjustment Red : 0
Saturation Adjustment Orange : 0
Saturation Adjustment Yellow : 0
Saturation Adjustment Green : 0
Saturation Adjustment Aqua : 0
Saturation Adjustment Blue : 0
Saturation Adjustment Purple : 0
Saturation Adjustment Magenta : 0
Luminance Adjustment Red : 0
Luminance Adjustment Orange : 0
Luminance Adjustment Yellow : 0
Luminance Adjustment Green : 0
Luminance Adjustment Aqua : 0
Luminance Adjustment Blue : 0
Luminance Adjustment Purple : 0
Luminance Adjustment Magenta : 0
Split Toning Shadow Hue : 0
Split Toning Shadow Saturation : 0
Split Toning Highlight Hue : 0
Split Toning Highlight Saturation : 0
Split Toning Balance : 0
Parametric Shadows : 0
Parametric Darks : 0
Parametric Lights : 0
Parametric Highlights : 0
Parametric Shadow Split : 25
Parametric Midtone Split : 50
Parametric Highlight Split : 75
Sharpen Radius : +1.0
Sharpen Detail : 25
Sharpen Edge Masking : 80
Post Crop Vignette Amount : 0
Grain Amount : 0
Luminance Noise Reduction Detail : 50
Color Noise Reduction Detail : 50
Luminance Noise Reduction Contrast : 0
Lens Profile Enable : 0
Lens Manual Distortion Amount : 0
Perspective Vertical : 0
Perspective Horizontal : 0
Perspective Rotate : 0.0
Perspective Scale : 100
Auto Lateral CA : 0
Exposure 2012 : 0.00
Contrast 2012 : 0
Highlights 2012 : 0
Shadows 2012 : 0
Whites 2012 : 0
Blacks 2012 : 0
Clarity 2012 : 0
Convert To Grayscale : False
Tone Curve Name : Strong Contrast
Tone Curve Name 2012 : Linear
Camera Profile : Adobe Standard
Lens Profile Setup : LensDefaults
Has Settings : True
Has Crop : False
Already Applied : True
Format : image/jpeg
Tone Curve : 0, 0, 32, 16, 64, 50, 128, 128, 192, 202, 255, 255
Tone Curve Red : 0, 0, 255, 255
Tone Curve Green : 0, 0, 255, 255
Tone Curve Blue : 0, 0, 255, 255
Tone Curve PV2012 : 0, 0, 255, 255
Tone Curve PV2012 Red : 0, 0, 255, 255
Tone Curve PV2012 Green : 0, 0, 255, 255
Tone Curve PV2012 Blue : 0, 0, 255, 255
Image Width : 300
Image Height : 176
Bits Per Sample : 8
Color Components : 3
Aperture : 1.4
Image Size : 300x176
Megapixels : 0.053
Scale Factor To 35 mm Equivalent : 1.5
Shutter Speed : 1/40
Circle Of Confusion : 0.020 mm
Field Of View : 37.5 deg
Focal Length : 35.0 mm (35 mm equivalent: 53.0 mm)
Hyperfocal Distance : 44.10 m
Light Value : 2.3