Uber Exif Photo
Make : SONY
Camera Model Name : NEX-7
Orientation : Horizontal (normal)
Software : Adobe Photoshop CS5 Windows
Modify Date : 2012:09:17 22:55:45
Exposure Time : 1/200
F Number : 2.8
Exposure Program : Manual
ISO : 3200
Sensitivity Type : Recommended Exposure Index
Recommended Exposure Index : 3200
Date/Time Original : 2012:09:15 18:55:27
Create Date : 2012:09:15 18:55:27
Shutter Speed Value : 1/200
Aperture Value : 2.8
Brightness Value : 2.02109375
Exposure Compensation : 0
Max Aperture Value : 1.8
Metering Mode : Center-weighted average
Light Source : Unknown
Flash : Off, Did not fire
Focal Length : 135.0 mm
Color Space : Uncalibrated
Exif Image Width : 5700
Exif Image Height : 3800
Scene Type : Directly photographed
Custom Rendered : Normal
Exposure Mode : Manual
White Balance : Auto
Focal Length In 35mm Format : 202 mm
Scene Capture Type : Standard
Contrast : High
Saturation : Normal
Sharpness : Normal
Lens Info : 135mm f/1.8
Lens Model : 135mm F1.8 ZA
Profile Description : Adobe RGB (1998)
Creator Tool : Adobe Photoshop CS5 Windows
Rating : 0
Lens : 135mm F1.8 ZA
Date Created : 2012:09:15 18:55:27
Color Mode : RGB
ICC Profile Name : Adobe RGB (1998)
Raw File Name : _DSC2362.ARW
Version : 6.7
Process Version : 5.7
Color Temperature : 7500
Tint : 0
Exposure : 0.00
Shadows : 3
Brightness : +14
Luminance Smoothing : 70
Color Noise Reduction : 75
Vignette Amount : 0
Shadow Tint : 0
Red Hue : 0
Red Saturation : 0
Green Hue : 0
Green Saturation : 0
Blue Hue : 0
Blue Saturation : 0
Fill Light : 6
Vibrance : 0
Highlight Recovery : 34
Clarity : +90
Defringe : 2
Hue Adjustment Red : 0
Hue Adjustment Orange : 0
Hue Adjustment Yellow : 0
Hue Adjustment Green : 0
Hue Adjustment Aqua : 0
Hue Adjustment Blue : 0
Hue Adjustment Purple : 0
Hue Adjustment Magenta : 0
Saturation Adjustment Red : 0
Saturation Adjustment Orange : 0
Saturation Adjustment Yellow : 0
Saturation Adjustment Green : 0
Saturation Adjustment Aqua : 0
Saturation Adjustment Blue : 0
Saturation Adjustment Purple : 0
Saturation Adjustment Magenta : 0
Luminance Adjustment Red : 0
Luminance Adjustment Orange : 0
Luminance Adjustment Yellow : 0
Luminance Adjustment Green : 0
Luminance Adjustment Aqua : 0
Luminance Adjustment Blue : 0
Luminance Adjustment Purple : 0
Luminance Adjustment Magenta : 0
Split Toning Shadow Hue : 0
Split Toning Shadow Saturation : 0
Split Toning Highlight Hue : 0
Split Toning Highlight Saturation : 0
Split Toning Balance : 0
Parametric Shadows : 0
Parametric Darks : 0
Parametric Lights : 0
Parametric Highlights : 0
Parametric Shadow Split : 25
Parametric Midtone Split : 50
Parametric Highlight Split : 75
Sharpen Radius : +1.0
Sharpen Detail : 25
Sharpen Edge Masking : 88
Post Crop Vignette Amount : 0
Grain Amount : 0
Luminance Noise Reduction Detail : 50
Color Noise Reduction Detail : 33
Luminance Noise Reduction Contrast : 0
Lens Profile Enable : 0
Lens Manual Distortion Amount : 0
Perspective Vertical : 0
Perspective Horizontal : 0
Perspective Rotate : 0.0
Perspective Scale : 100
Auto Lateral CA : 0
Exposure 2012 : 0.00
Contrast 2012 : 0
Highlights 2012 : 0
Shadows 2012 : 0
Whites 2012 : 0
Blacks 2012 : 0
Clarity 2012 : 0
Convert To Grayscale : False
Tone Curve Name : Strong Contrast
Tone Curve Name 2012 : Linear
Camera Profile : Adobe Standard
Lens Profile Setup : LensDefaults
Has Settings : True
Has Crop : False
Already Applied : True
Format : image/jpeg
Tone Curve : 0, 0, 32, 16, 64, 50, 128, 128, 192, 202, 255, 255
Tone Curve Red : 0, 0, 255, 255
Tone Curve Green : 0, 0, 255, 255
Tone Curve Blue : 0, 0, 255, 255
Tone Curve PV2012 : 0, 0, 255, 255
Tone Curve PV2012 Red : 0, 0, 255, 255
Tone Curve PV2012 Green : 0, 0, 255, 255
Tone Curve PV2012 Blue : 0, 0, 255, 255
Image Width : 300
Image Height : 200
Bits Per Sample : 8
Color Components : 3
Aperture : 2.8
Image Size : 300x200
Megapixels : 0.060
Scale Factor To 35 mm Equivalent : 1.5
Shutter Speed : 1/200
Circle Of Confusion : 0.020 mm
Field Of View : 10.2 deg
Focal Length : 135.0 mm (35 mm equivalent: 202.0 mm)
Hyperfocal Distance : 324.14 m
Light Value : 5.6
Lens ID : Carl Zeiss Sonnar T* 135mm F1.8 ZA (SAL135F18Z)