Uber Exif Photo
Photometric Interpretation : RGB
Camera Model Name : NEX-7
Orientation : Horizontal (normal)
Samples Per Pixel : 3
Planar Configuration : Chunky
Software : Adobe Photoshop CS5 Windows
Modify Date : 2012:06:03 23:50:30
Exposure Time : 1/400
F Number : 4.0
ISO : 100
Date/Time Original : 2012:06:03 08:53:54
Focal Length : 28.0 mm
Color Space : Uncalibrated
Exif Image Width : 3149
Exif Image Height : 2099
Profile Description : Adobe RGB (1998)
Method : Details Enhancer
Strength : 80.0
Color Saturation : 46.0
Luminosity : 6.0
White Clip : 1.000000
Black Clip : 0.400000
Smoothing Mode : Slider
Smoothing : 0.0
Microcontrast : 3.0
Microsmoothing : 20.0
Gamma : 1.00
Highlights Smoothing : 100.0
Shadows Smoothing : 0.0
Shadows Clipping : 0.0
Saturation Highlights : 0.0
Saturation Shadows : 0.0
Is Pano 360 : No
Creator Tool : Adobe Photoshop CS5 Windows
Create Date : 2012:06:03 08:53:54
Rating : 0
Lens : ----
Lens Info : 28-20mm f/2
Date Created : 2012:06:03 08:53:54
Color Mode : RGB
ICC Profile Name : Adobe RGB (1998)
Raw File Name : _DSC4778.ARW
Version : 6.6
Process Version : 5.7
White Balance : As Shot
Color Temperature : 5400
Tint : +10
Exposure : +1.00
Shadows : 10
Brightness : +4
Contrast : 0
Saturation : 0
Sharpness : 25
Luminance Smoothing : 50
Color Noise Reduction : 25
Chromatic Aberration R : 0
Chromatic Aberration B : 0
Vignette Amount : 0
Shadow Tint : 0
Red Hue : 0
Red Saturation : 0
Green Hue : 0
Green Saturation : 0
Blue Hue : 0
Blue Saturation : 0
Fill Light : 15
Vibrance : +25
Highlight Recovery : 34
Clarity : +5
Defringe : 0
Hue Adjustment Red : 0
Hue Adjustment Orange : 0
Hue Adjustment Yellow : +85
Hue Adjustment Green : -90
Hue Adjustment Aqua : -50
Hue Adjustment Blue : 0
Hue Adjustment Purple : 0
Hue Adjustment Magenta : 0
Saturation Adjustment Red : 0
Saturation Adjustment Orange : 0
Saturation Adjustment Yellow : 0
Saturation Adjustment Green : 0
Saturation Adjustment Aqua : 0
Saturation Adjustment Blue : 0
Saturation Adjustment Purple : 0
Saturation Adjustment Magenta : 0
Luminance Adjustment Red : 0
Luminance Adjustment Orange : 0
Luminance Adjustment Yellow : +50
Luminance Adjustment Green : +50
Luminance Adjustment Aqua : 0
Luminance Adjustment Blue : 0
Luminance Adjustment Purple : 0
Luminance Adjustment Magenta : 0
Split Toning Shadow Hue : 0
Split Toning Shadow Saturation : 0
Split Toning Highlight Hue : 0
Split Toning Highlight Saturation : 0
Split Toning Balance : 0
Parametric Shadows : +5
Parametric Darks : -10
Parametric Lights : +10
Parametric Highlights : +25
Parametric Shadow Split : 25
Parametric Midtone Split : 50
Parametric Highlight Split : 75
Sharpen Radius : +1.0
Sharpen Detail : 25
Sharpen Edge Masking : 90
Post Crop Vignette Amount : 0
Grain Amount : 0
Luminance Noise Reduction Detail : 50
Color Noise Reduction Detail : 50
Luminance Noise Reduction Contrast : 0
Lens Profile Enable : 0
Lens Manual Distortion Amount : 0
Perspective Vertical : 0
Perspective Horizontal : 0
Perspective Rotate : 0.0
Perspective Scale : 100
Convert To Grayscale : False
Tone Curve Name : Strong Contrast
Camera Profile : Adobe Standard
Lens Profile Setup : LensDefaults
Has Settings : True
Has Crop : False
Already Applied : True
Format : image/jpeg
Tone Curve : 0, 0, 32, 16, 64, 50, 128, 128, 192, 202, 255, 255
Image Width : 300
Image Height : 200
Bits Per Sample : 8
Color Components : 3
Aperture : 4.0
Image Size : 300x200
Megapixels : 0.060
Shutter Speed : 1/400
Light Value : 12.6