Uber Exif Photo
Make : SONY
Camera Model Name : NEX-7
Orientation : Horizontal (normal)
Software : Adobe Photoshop CS5 Windows
Modify Date : 2012:05:07 23:05:44
Exposure Time : 1/60
F Number : 16.0
Exposure Program : Aperture-priority AE
ISO : 200
Sensitivity Type : Recommended Exposure Index
Recommended Exposure Index : 200
Date/Time Original : 2012:04:29 17:44:34
Create Date : 2012:04:29 17:44:34
Shutter Speed Value : 1/60
Aperture Value : 16.0
Brightness Value : 8.73203125
Exposure Compensation : +0.3
Max Aperture Value : 3.5
Metering Mode : Center-weighted average
Light Source : Unknown
Flash : Off, Did not fire
Focal Length : 16.0 mm
Color Space : Uncalibrated
Exif Image Width : 3428
Exif Image Height : 2506
Scene Type : Directly photographed
Custom Rendered : Normal
Exposure Mode : Auto
White Balance : Auto
Focal Length In 35mm Format : 24 mm
Scene Capture Type : Standard
Contrast : High
Saturation : Normal
Sharpness : Normal
Lens Info : 16-80mm f/3.5-4.5
Lens Model : DT 16-80mm F3.5-4.5 ZA
Profile Description : Adobe RGB (1998)
Creator Tool : NEX-7 v1.00
Rating : 0
Lens : DT 16-80mm F3.5-4.5 ZA
Date Created : 2012:04:29 17:44:34
Color Mode : RGB
ICC Profile Name : Adobe RGB (1998)
Raw File Name : _DSC3717.ARW
Version : 6.6
Process Version : 5.7
Color Temperature : 5350
Tint : +2
Exposure : 0.00
Shadows : 5
Brightness : +52
Luminance Smoothing : 50
Color Noise Reduction : 25
Chromatic Aberration R : 0
Chromatic Aberration B : 0
Vignette Amount : 0
Shadow Tint : 0
Red Hue : 0
Red Saturation : 0
Green Hue : 0
Green Saturation : 0
Blue Hue : 0
Blue Saturation : 0
Fill Light : 0
Vibrance : 0
Highlight Recovery : 100
Clarity : 0
Defringe : 0
Hue Adjustment Red : -66
Hue Adjustment Orange : -100
Hue Adjustment Yellow : 0
Hue Adjustment Green : 0
Hue Adjustment Aqua : 0
Hue Adjustment Blue : -15
Hue Adjustment Purple : -72
Hue Adjustment Magenta : 0
Saturation Adjustment Red : +25
Saturation Adjustment Orange : +25
Saturation Adjustment Yellow : -10
Saturation Adjustment Green : 0
Saturation Adjustment Aqua : +49
Saturation Adjustment Blue : +33
Saturation Adjustment Purple : 0
Saturation Adjustment Magenta : 0
Luminance Adjustment Red : +100
Luminance Adjustment Orange : +100
Luminance Adjustment Yellow : 0
Luminance Adjustment Green : -68
Luminance Adjustment Aqua : -73
Luminance Adjustment Blue : -55
Luminance Adjustment Purple : 0
Luminance Adjustment Magenta : 0
Split Toning Shadow Hue : 0
Split Toning Shadow Saturation : 0
Split Toning Highlight Hue : 0
Split Toning Highlight Saturation : 0
Split Toning Balance : 0
Parametric Shadows : 0
Parametric Darks : 0
Parametric Lights : 0
Parametric Highlights : -80
Parametric Shadow Split : 25
Parametric Midtone Split : 50
Parametric Highlight Split : 75
Sharpen Radius : +1.0
Sharpen Detail : 25
Sharpen Edge Masking : 90
Post Crop Vignette Amount : 0
Grain Amount : 0
Luminance Noise Reduction Detail : 50
Color Noise Reduction Detail : 50
Luminance Noise Reduction Contrast : 0
Lens Profile Enable : 0
Lens Manual Distortion Amount : +11
Perspective Vertical : -73
Perspective Horizontal : -42
Perspective Rotate : +2.9
Perspective Scale : 71
Convert To Grayscale : False
Tone Curve Name : Medium Contrast
Camera Profile : Adobe Standard
Lens Profile Setup : LensDefaults
Has Settings : True
Crop Top : 0.122587
Crop Left : 0.138231
Crop Bottom : 0.792528
Crop Right : 0.749266
Crop Angle : 0
Crop Constrain To Warp : 1
Has Crop : True
Already Applied : True
Format : image/jpeg
Tone Curve : 0, 0, 32, 22, 64, 56, 128, 128, 192, 196, 255, 255
Image Width : 300
Image Height : 219
Bits Per Sample : 8
Color Components : 3
Aperture : 16.0
Image Size : 300x219
Megapixels : 0.066
Scale Factor To 35 mm Equivalent : 1.5
Shutter Speed : 1/60
Circle Of Confusion : 0.020 mm
Field Of View : 73.7 deg
Focal Length : 16.0 mm (35 mm equivalent: 24.0 mm)
Hyperfocal Distance : 0.80 m
Light Value : 12.9
Lens ID : Carl Zeiss Vario-Sonnar T* DT 16-80mm F3.5-4.5 ZA (SAL1680Z)