Uber Exif Photo
Caption-Abstract : SONY DSC
Image Description : SONY DSC
Make : SONY
Camera Model Name : DSLR-A550
Orientation : Horizontal (normal)
Software : Adobe Photoshop CS4 Windows
Modify Date : 2011:08:23 21:33:30
Exposure Time : 1/250
F Number : 2.0
Exposure Program : Aperture-priority AE
ISO : 1250
Date/Time Original : 2011:08:21 09:27:25
Create Date : 2011:08:21 09:27:25
Shutter Speed Value : 1/250
Aperture Value : 2.0
Brightness Value : 1.62
Exposure Compensation : +0.3
Max Aperture Value : 1.8
Metering Mode : Multi-segment
Light Source : Unknown
Focal Length : 135.0 mm
Color Space : Uncalibrated
Exif Image Width : 718
Exif Image Height : 1137
Scene Type : Directly photographed
Custom Rendered : Normal
Exposure Mode : Auto
White Balance : Manual
Focal Length In 35mm Format : 202 mm
Scene Capture Type : Standard
Contrast : High
Saturation : Normal
Sharpness : Hard
Profile Description : Adobe RGB (1998)
Date/Time Digitized : 2011:08:21 09:27:25+07:00
Creator Tool : DSLR-A550 v1.00
Rating : 0
Format : image/jpeg
Lens Info : 135mm f/1.8
Lens : 135mm F1.8 ZA
Raw File Name : _DSC5005.ARW
Version : 5.7
Process Version : 5.0
Color Temperature : 4400
Tint : -2
Exposure : 0.00
Shadows : 5
Brightness : +45
Luminance Smoothing : 50
Color Noise Reduction : 40
Chromatic Aberration R : 0
Chromatic Aberration B : 0
Vignette Amount : 0
Shadow Tint : 0
Red Hue : 0
Red Saturation : 0
Green Hue : 0
Green Saturation : 0
Blue Hue : 0
Blue Saturation : 0
Fill Light : 0
Vibrance : 0
Highlight Recovery : 0
Clarity : 0
Defringe : 0
Hue Adjustment Red : 0
Hue Adjustment Orange : 0
Hue Adjustment Yellow : 0
Hue Adjustment Green : 0
Hue Adjustment Aqua : 0
Hue Adjustment Blue : 0
Hue Adjustment Purple : 0
Hue Adjustment Magenta : 0
Saturation Adjustment Red : 0
Saturation Adjustment Orange : 0
Saturation Adjustment Yellow : 0
Saturation Adjustment Green : 0
Saturation Adjustment Aqua : 0
Saturation Adjustment Blue : 0
Saturation Adjustment Purple : 0
Saturation Adjustment Magenta : 0
Luminance Adjustment Red : 0
Luminance Adjustment Orange : 0
Luminance Adjustment Yellow : 0
Luminance Adjustment Green : 0
Luminance Adjustment Aqua : 0
Luminance Adjustment Blue : 0
Luminance Adjustment Purple : 0
Luminance Adjustment Magenta : 0
Split Toning Shadow Hue : 0
Split Toning Shadow Saturation : 0
Split Toning Highlight Hue : 0
Split Toning Highlight Saturation : 0
Split Toning Balance : 0
Parametric Shadows : 0
Parametric Darks : 0
Parametric Lights : -13
Parametric Highlights : -13
Parametric Shadow Split : 25
Parametric Midtone Split : 50
Parametric Highlight Split : 75
Sharpen Radius : +1.0
Sharpen Detail : 20
Sharpen Edge Masking : 20
Post Crop Vignette Amount : 0
Grain Amount : 0
Convert To Grayscale : False
Tone Curve Name : Medium Contrast
Camera Profile : Adobe Standard
Has Settings : True
Crop Top : 0
Crop Left : 0
Crop Bottom : 0.956522
Crop Right : 0.986301
Crop Angle : 0
Has Crop : True
Already Applied : True
Sidecar For Extension : ARW
Color Mode : RGB
ICC Profile Name : Adobe RGB (1998)
Flash Fired : False
Flash Return : No return detection
Flash Mode : Off
Flash Function : False
Flash Red Eye Mode : False
Description : SONY DSC
Tone Curve : 0, 0, 32, 22, 64, 56, 128, 128, 192, 196, 255, 255
Image Width : 189
Image Height : 300
Bits Per Sample : 8
Color Components : 3
Aperture : 2.0
Image Size : 189x300
Megapixels : 0.057
Scale Factor To 35 mm Equivalent : 1.5
Shutter Speed : 1/250
Flash : Off, Did not fire
Circle Of Confusion : 0.020 mm
Field Of View : 10.2 deg
Focal Length : 135.0 mm (35 mm equivalent: 202.0 mm)
Hyperfocal Distance : 453.80 m
Light Value : 6.3
Lens ID : Carl Zeiss Sonnar T* 135mm F1.8 ZA (SAL135F18Z)