Uber Exif Photo
Caption-Abstract : SONY DSC
Image Description : SONY DSC
Make : SONY
Camera Model Name : DSLR-A550
Orientation : Horizontal (normal)
Software : Adobe Photoshop CS4 Windows
Modify Date : 2010:10:07 20:41:32
Exposure Time : 1/160
F Number : 2.0
Exposure Program : Aperture-priority AE
ISO : 400
Date/Time Original : 2010:10:02 15:40:38
Create Date : 2010:10:02 15:40:38
Shutter Speed Value : 1/160
Aperture Value : 2.0
Brightness Value : 2.87
Exposure Compensation : 0
Max Aperture Value : 1.8
Metering Mode : Center-weighted average
Light Source : Unknown
Focal Length : 135.0 mm
Color Space : sRGB
Exif Image Width : 681
Exif Image Height : 1024
Scene Type : Directly photographed
Custom Rendered : Normal
Exposure Mode : Auto
White Balance : Manual
Focal Length In 35mm Format : 202 mm
Scene Capture Type : Standard
Contrast : Normal
Saturation : Low
Sharpness : Normal
Profile Description : sRGB IEC61966-2.1
Date/Time Digitized : 2010:10:02 15:40:38+07:00
Creator Tool : DSLR-A550 v1.00
Rating : 0
Format : image/jpeg
Lens Info : 135mm f/1.8
Lens : 135mm F1.8 ZA
Raw File Name : DSC01904.ARW
Version : 5.7
Process Version : 5.0
Color Temperature : 3400
Tint : -2
Exposure : 0.00
Shadows : 5
Brightness : +50
Luminance Smoothing : 25
Color Noise Reduction : 25
Chromatic Aberration R : 0
Chromatic Aberration B : 0
Vignette Amount : 0
Shadow Tint : 0
Red Hue : 0
Red Saturation : 0
Green Hue : 0
Green Saturation : 0
Blue Hue : 0
Blue Saturation : 0
Fill Light : 0
Vibrance : +2
Highlight Recovery : 0
Clarity : 0
Defringe : 0
Hue Adjustment Red : 0
Hue Adjustment Orange : 0
Hue Adjustment Yellow : 0
Hue Adjustment Green : 0
Hue Adjustment Aqua : 0
Hue Adjustment Blue : 0
Hue Adjustment Purple : 0
Hue Adjustment Magenta : 0
Saturation Adjustment Red : 0
Saturation Adjustment Orange : 0
Saturation Adjustment Yellow : 0
Saturation Adjustment Green : 0
Saturation Adjustment Aqua : 0
Saturation Adjustment Blue : 0
Saturation Adjustment Purple : 0
Saturation Adjustment Magenta : 0
Luminance Adjustment Red : 0
Luminance Adjustment Orange : 0
Luminance Adjustment Yellow : 0
Luminance Adjustment Green : 0
Luminance Adjustment Aqua : 0
Luminance Adjustment Blue : 0
Luminance Adjustment Purple : 0
Luminance Adjustment Magenta : 0
Split Toning Shadow Hue : 0
Split Toning Shadow Saturation : 0
Split Toning Highlight Hue : 0
Split Toning Highlight Saturation : 0
Split Toning Balance : 0
Parametric Shadows : 0
Parametric Darks : 0
Parametric Lights : 0
Parametric Highlights : 0
Parametric Shadow Split : 25
Parametric Midtone Split : 50
Parametric Highlight Split : 75
Sharpen Radius : +1.0
Sharpen Detail : 25
Sharpen Edge Masking : 0
Post Crop Vignette Amount : 0
Grain Amount : 0
Convert To Grayscale : False
Tone Curve Name : Medium Contrast
Camera Profile : Adobe Standard
Has Settings : True
Has Crop : False
Already Applied : True
Sidecar For Extension : ARW
Color Mode : RGB
ICC Profile Name : sRGB IEC61966-2.1
Flash Fired : True
Flash Return : No return detection
Flash Mode : On
Flash Function : False
Flash Red Eye Mode : False
Description : SONY DSC
Tone Curve : 0, 0, 32, 22, 64, 56, 128, 128, 192, 196, 255, 255
Image Width : 200
Image Height : 300
Bits Per Sample : 8
Color Components : 3
Aperture : 2.0
Image Size : 200x300
Megapixels : 0.060
Scale Factor To 35 mm Equivalent : 1.5
Shutter Speed : 1/160
Flash : On, Fired
Circle Of Confusion : 0.020 mm
Field Of View : 10.2 deg
Focal Length : 135.0 mm (35 mm equivalent: 202.0 mm)
Hyperfocal Distance : 453.80 m
Light Value : 7.3
Lens ID : Carl Zeiss Sonnar T* 135mm F1.8 ZA (SAL135F18Z)