Uber Exif Photo
Keywords : u Dandu, Zeiss Vario-Sonnar 35-70mm f3.4, Zahradní stromy, Zahrada, Spring, Macro, Garden trees, Garden, Flowers, Flower, Close-up
Copyright Notice : Jakub Mach
By-line : Jakub Mach
Photometric Interpretation : YCbCr
Make : Canon
Camera Model Name : Canon EOS-1D Mark III
Planar Configuration : Chunky
Modify Date : 2011:04:26 22:13:16
Artist : Jakub Mach 2011
Copyright : Jakub Mach
Exposure Time : 1/100
F Number : 1.4
Exposure Program : Manual
ISO : 640
Date/Time Original : 2011:04:26 07:45:39
Create Date : 2011:04:26 07:45:39
Shutter Speed Value : 1/100
Aperture Value : 1.4
Exposure Compensation : 0
Max Aperture Value : 1.4
Metering Mode : Center-weighted average
Focal Length : 50.0 mm
Custom Rendered : Normal
Exposure Mode : Manual
White Balance : Manual
Scene Capture Type : Standard
Exif Image Width : 1200
Exif Image Height : 800
Color Space : Uncalibrated
Orientation : Horizontal (normal)
Profile Description : sRGB IEC61966-2.1
Date/Time Digitized : 2011:04:26 07:45:39.41+02:00
Flash Fired : False
Flash Return : No return detection
Flash Mode : Off
Flash Function : False
Flash Red Eye Mode : False
Creator Tool : Adobe Photoshop Lightroom
Serial Number : 544291
Lens Info : 50mm f/?
Lens : 50-50mm
Image Number : 0
Flash Compensation : 0
Firmware : 1.2.5
Marked : True
Version : 6.1
Process Version : 5.7
Color Temperature : 5050
Tint : +1
Exposure : 0.00
Shadows : 5
Brightness : +50
Contrast : +25
Saturation : 0
Sharpness : 60
Luminance Smoothing : 0
Color Noise Reduction : 25
Chromatic Aberration R : 0
Chromatic Aberration B : 0
Vignette Amount : 0
Shadow Tint : 0
Red Hue : 0
Red Saturation : 0
Green Hue : 0
Green Saturation : 0
Blue Hue : 0
Blue Saturation : 0
Fill Light : 0
Vibrance : 0
Highlight Recovery : 6
Clarity : 0
Defringe : 0
Hue Adjustment Red : 0
Hue Adjustment Orange : 0
Hue Adjustment Yellow : 0
Hue Adjustment Green : 0
Hue Adjustment Aqua : 0
Hue Adjustment Blue : 0
Hue Adjustment Purple : 0
Hue Adjustment Magenta : 0
Saturation Adjustment Red : 0
Saturation Adjustment Orange : 0
Saturation Adjustment Yellow : 0
Saturation Adjustment Green : 0
Saturation Adjustment Aqua : 0
Saturation Adjustment Blue : 0
Saturation Adjustment Purple : 0
Saturation Adjustment Magenta : 0
Luminance Adjustment Red : 0
Luminance Adjustment Orange : 0
Luminance Adjustment Yellow : 0
Luminance Adjustment Green : 0
Luminance Adjustment Aqua : 0
Luminance Adjustment Blue : 0
Luminance Adjustment Purple : 0
Luminance Adjustment Magenta : 0
Split Toning Shadow Hue : 0
Split Toning Shadow Saturation : 0
Split Toning Highlight Hue : 0
Split Toning Highlight Saturation : 0
Split Toning Balance : 0
Parametric Shadows : 0
Parametric Darks : 0
Parametric Lights : 0
Parametric Highlights : 0
Parametric Shadow Split : 25
Parametric Midtone Split : 50
Parametric Highlight Split : 75
Sharpen Radius : +0.5
Sharpen Detail : 11
Sharpen Edge Masking : 51
Post Crop Vignette Amount : 0
Grain Amount : 0
Color Noise Reduction Detail : 50
Lens Profile Enable : 0
Lens Manual Distortion Amount : 0
Perspective Vertical : 0
Perspective Horizontal : 0
Perspective Rotate : 0.0
Perspective Scale : 100
Convert To Grayscale : False
Tone Curve Name : Medium Contrast
Camera Profile : Camera Neutral
Lens Profile Setup : LensDefaults
Has Settings : True
Has Crop : False
Already Applied : True
Tone Curve : 0, 0, 32, 22, 64, 56, 128, 128, 192, 196, 255, 255
Paint Correction What : Correction
Paint Correction Amount : 1.000000
Paint Correction Active : true
Paint Correction Exposure : -0.075000
Paint Correction Saturation : 0.000000
Paint Correction Contrast : 0.000000
Paint Correction Clarity : 0.000000
Paint Correction Sharpness : 0.000000
Paint Correction Brightness : 0.000000
Paint Correction Toning Hue : 240.000000
Paint Correction Toning Saturation : 0.000000
Paint Correction Mask What : Mask/Paint
Paint Correction Mask Value : 1.000000
Paint Correction Mask Radius : 0.003713
Paint Correction Mask Flow : 0.500000
Paint Correction Mask Center Weight : 0.170256
Creator : Jakub Mach
Rights : Jakub Mach
Subject : Close-up, Flower, Flowers, Garden, Garden trees, Macro, Spring, Zahrada, Zahradní stromy, Zeiss Vario-Sonnar 35-70mm f3.4, u Dandu
Creator Country : Czech republic
Creator Work Email : machjakub@seznam.cz
Image Width : 300
Image Height : 200
Bits Per Sample : 8
Color Components : 3
Aperture : 1.4
Image Size : 300x200
Megapixels : 0.060
Scale Factor To 35 mm Equivalent : 1.3
Shutter Speed : 1/100
Create Date : 2011:04:26 07:45:39.41
Date/Time Original : 2011:04:26 07:45:39.41
Flash : Off, Did not fire
Circle Of Confusion : 0.023 mm
Field Of View : 31.4 deg
Focal Length : 50.0 mm (35 mm equivalent: 64.1 mm)
Hyperfocal Distance : 76.16 m
Light Value : 4.9
Lens ID : Canon EF 35-80mm f/4-5.6