Uber Exif Photo
Caption-Abstract : SONY DSC
Copyright Flag : False
Image Description : SONY DSC
Make : SONY
Camera Model Name : DSLR-A900
Orientation : Horizontal (normal)
Software : Adobe Photoshop CS3 Windows
Modify Date : 2010:09:08 17:55:06
Exposure Time : 1/1250
F Number : 4.0
Exposure Program : Aperture-priority AE
ISO : 200
Date/Time Original : 2009:09:13 12:53:24
Create Date : 2009:09:13 12:53:24
Shutter Speed Value : 1/1250
Aperture Value : 4.0
Brightness Value : 8.37
Exposure Compensation : 0
Max Aperture Value : 1.4
Metering Mode : Multi-segment
Light Source : Unknown
Focal Length : 85.0 mm
Color Space : sRGB
Exif Image Width : 1024
Exif Image Height : 1536
Scene Type : Directly photographed
Custom Rendered : Normal
Exposure Mode : Auto
White Balance : Auto
Focal Length In 35mm Format : 85 mm
Scene Capture Type : Standard
Contrast : Normal
Saturation : Normal
Sharpness : Normal
Profile Description : sRGB IEC61966-2.1
Date/Time Digitized : 2009:09:13 12:53:24+04:00
Creator Tool : Adobe Photoshop CS3 Windows
Lens Info : 85mm f/1.4
Lens : 85mm F1.4
Version : 6.1
Process Version : 5.7
Color Temperature : 5300
Tint : +6
Exposure : 0.00
Shadows : 9
Brightness : +50
Luminance Smoothing : 0
Color Noise Reduction : 25
Chromatic Aberration R : 0
Chromatic Aberration B : 0
Vignette Amount : 0
Shadow Tint : 0
Red Hue : 0
Red Saturation : 0
Green Hue : 0
Green Saturation : 0
Blue Hue : 0
Blue Saturation : 0
Fill Light : 0
Vibrance : 0
Highlight Recovery : 0
Clarity : 0
Defringe : 0
Hue Adjustment Red : 0
Hue Adjustment Orange : 0
Hue Adjustment Yellow : 0
Hue Adjustment Green : 0
Hue Adjustment Aqua : 0
Hue Adjustment Blue : 0
Hue Adjustment Purple : 0
Hue Adjustment Magenta : 0
Saturation Adjustment Red : 0
Saturation Adjustment Orange : 0
Saturation Adjustment Yellow : 0
Saturation Adjustment Green : 0
Saturation Adjustment Aqua : 0
Saturation Adjustment Blue : 0
Saturation Adjustment Purple : 0
Saturation Adjustment Magenta : 0
Luminance Adjustment Red : 0
Luminance Adjustment Orange : 0
Luminance Adjustment Yellow : 0
Luminance Adjustment Green : 0
Luminance Adjustment Aqua : 0
Luminance Adjustment Blue : 0
Luminance Adjustment Purple : 0
Luminance Adjustment Magenta : 0
Split Toning Shadow Hue : 0
Split Toning Shadow Saturation : 0
Split Toning Highlight Hue : 0
Split Toning Highlight Saturation : 0
Split Toning Balance : 0
Parametric Shadows : -10
Parametric Darks : -5
Parametric Lights : +5
Parametric Highlights : +10
Parametric Shadow Split : 25
Parametric Midtone Split : 50
Parametric Highlight Split : 75
Sharpen Radius : +1.0
Sharpen Detail : 25
Sharpen Edge Masking : 0
Post Crop Vignette Amount : 0
Grain Amount : 0
Color Noise Reduction Detail : 50
Lens Profile Enable : 0
Lens Manual Distortion Amount : 0
Perspective Vertical : 0
Perspective Horizontal : 0
Perspective Rotate : 0.0
Perspective Scale : 100
Convert To Grayscale : False
Tone Curve Name : Medium Contrast
Camera Profile : Adobe Standard
Lens Profile Setup : LensDefaults
Has Settings : True
Has Crop : False
Already Applied : True
Color Mode : RGB
ICC Profile Name : sRGB IEC61966-2.1
Flash Fired : False
Flash Return : No return detection
Flash Mode : Off
Flash Function : False
Flash Red Eye Mode : False
Tone Curve : 0, 0, 32, 22, 64, 56, 128, 128, 192, 196, 255, 255
Description : SONY DSC
Derived From : Image Width : 200
Image Height : 300
Bits Per Sample : 8
Color Components : 3
Aperture : 4.0
Image Size : 200x300
Megapixels : 0.060
Scale Factor To 35 mm Equivalent : 1.0
Shutter Speed : 1/1250
Flash : Off, Did not fire
Circle Of Confusion : 0.030 mm
Field Of View : 23.9 deg
Focal Length : 85.0 mm (35 mm equivalent: 85.0 mm)
Hyperfocal Distance : 60.12 m
Light Value : 13.3
Lens ID : Minolta AF 85mm F1.4 G (D)