Uber Exif Photo
By-line : Haldun Cakmak
Copyright Notice : HALDUN CAKMAK
Make : NIKON CORPORATION
Camera Model Name : NIKON D3X
Software : PhotoScape
Modify Date : 2010:08:05 16:00:07
Artist : Haldun Cakmak
Copyright : HALDUN CAKMAK
Exposure Time : 1/40
F Number : 5.6
Exposure Program : Manual
ISO : 100
Date/Time Original : 2010:08:05 13:10:20
Create Date : 2010:08:05 13:10:20
Shutter Speed Value : 0.6
Aperture Value : 5.6
Exposure Compensation : 0
Max Aperture Value : 1.0
Metering Mode : Multi-segment
Light Source : Unknown
Focal Length : 35.0 mm
Maker Note Version : 2.10
Image Data Size : 13063298
Nikon Capture Version : Capture NX 2.0.0 W
IFD0 Offset : 1122
Preview IFD Offset : 1022
NEF Bit Depth : n/a (JPEG)
Color Space : Uncalibrated
Exif Image Width : 6048
Exif Image Height : 4032
Sensing Method : One-chip color area
Scene Type : Directly photographed
CFA Pattern : [Red,Green][Green,Blue]
Custom Rendered : Custom
Exposure Mode : Manual
White Balance : Manual
Digital Zoom Ratio : 1
Focal Length In 35mm Format : 35 mm
Scene Capture Type : Standard
Gain Control : None
Contrast : Normal
Saturation : Normal
Sharpness : Normal
Subject Distance Range : Unknown
Profile Description : Adobe RGB (1998)
Date/Time Digitized : 2010:08:05 13:10:20.58+03:00
Creator Tool : Adobe Photoshop Lightroom
Rating : 0
Serial Number : 5006166
Lens Info : 0mm f/0
Lens : 0.0 mm f/0.0
Image Number : 15883
Version : 5.3
Color Temperature : 5350
Tint : -5
Exposure : +0.29
Shadows : 0
Brightness : +50
Luminance Smoothing : 0
Color Noise Reduction : 25
Chromatic Aberration R : 0
Chromatic Aberration B : 0
Vignette Amount : 0
Shadow Tint : 0
Red Hue : 0
Red Saturation : 0
Green Hue : 0
Green Saturation : 0
Blue Hue : 0
Blue Saturation : 0
Fill Light : 0
Vibrance : +10
Highlight Recovery : 0
Clarity : +5
Defringe : 0
Hue Adjustment Red : 0
Hue Adjustment Orange : 0
Hue Adjustment Yellow : 0
Hue Adjustment Green : 0
Hue Adjustment Aqua : 0
Hue Adjustment Blue : 0
Hue Adjustment Purple : 0
Hue Adjustment Magenta : 0
Saturation Adjustment Red : 0
Saturation Adjustment Orange : 0
Saturation Adjustment Yellow : 0
Saturation Adjustment Green : 0
Saturation Adjustment Aqua : 0
Saturation Adjustment Blue : 0
Saturation Adjustment Purple : 0
Saturation Adjustment Magenta : 0
Luminance Adjustment Red : 0
Luminance Adjustment Orange : 0
Luminance Adjustment Yellow : 0
Luminance Adjustment Green : 0
Luminance Adjustment Aqua : 0
Luminance Adjustment Blue : 0
Luminance Adjustment Purple : 0
Luminance Adjustment Magenta : 0
Split Toning Shadow Hue : 0
Split Toning Shadow Saturation : 0
Split Toning Highlight Hue : 0
Split Toning Highlight Saturation : 0
Split Toning Balance : 0
Parametric Shadows : +57
Parametric Darks : +17
Parametric Lights : -7
Parametric Highlights : -48
Parametric Shadow Split : 25
Parametric Midtone Split : 50
Parametric Highlight Split : 75
Sharpen Radius : +2.4
Sharpen Detail : 55
Sharpen Edge Masking : 0
Post Crop Vignette Amount : 0
Convert To Grayscale : False
Tone Curve Name : Medium Contrast
Camera Profile : Camera Vivid
Has Settings : True
Has Crop : False
Already Applied : True
Rating Percent : 0
Flash Fired : False
Flash Return : No return detection
Flash Mode : Unknown
Flash Function : False
Flash Red Eye Mode : False
Tone Curve : 0, 0, 32, 22, 64, 56, 128, 128, 192, 196, 255, 255
Rights : HALDUN CAKMAK
Creator : Haldun Cakmak
Image Width : 300
Image Height : 193
Bits Per Sample : 8
Color Components : 3
Aperture : 5.6
Image Size : 300x193
Megapixels : 0.058
Scale Factor To 35 mm Equivalent : 1.0
Shutter Speed : 1/40
Create Date : 2010:08:05 13:10:20.58
Date/Time Original : 2010:08:05 13:10:20.58
Flash : No Flash
Circle Of Confusion : 0.030 mm
Field Of View : 54.4 deg
Focal Length : 35.0 mm (35 mm equivalent: 35.0 mm)
Hyperfocal Distance : 7.28 m
Light Value : 10.3
Lens ID : 0.0mm f/0.0