Uber Exif Photo
Object Name : Slick
Keywords : Russ & Wendy
By-line : Carmanah
Make : Canon
Camera Model Name : Canon EOS 5D
Modify Date : 2010:11:14 16:50:57
Artist : Carmanah
Exposure Time : 1/100
F Number : 2.0
Exposure Program : Manual
ISO : 800
Sensitivity Type : Unknown
Date/Time Original : 2010:11:14 16:41:15
Create Date : 2010:11:14 16:41:15
Shutter Speed Value : 1/100
Aperture Value : 2.0
Exposure Compensation : 0
Max Aperture Value : 2.0
Metering Mode : Spot
Focal Length : 60.0 mm
Custom Rendered : Normal
Exposure Mode : Manual
White Balance : Auto
Scene Capture Type : Standard
Owner Name : Carmanah
Serial Number : 920601316
Lens Info : 60mm f/?
Lens Model : 60.0 mm
Profile Description : sRGB IEC61966-2.1
Date/Time Digitized : 2010:11:14 16:41:15-08:00
Exif Image Width : 900
Exif Image Height : 600
Rating : 2
Creator Tool : Adobe Photoshop Lightroom
Lens : 60.0 mm
Image Number : 7
Flash Compensation : 0
Firmware : 1.1.1
Version : 6.2
Process Version : 5.7
Color Temperature : 3650
Tint : +12
Exposure : +0.23
Shadows : 5
Brightness : +81
Contrast : +25
Saturation : +8
Sharpness : 25
Luminance Smoothing : 5
Color Noise Reduction : 25
Chromatic Aberration R : 0
Chromatic Aberration B : 0
Vignette Amount : 0
Shadow Tint : 0
Red Hue : 0
Red Saturation : 0
Green Hue : 0
Green Saturation : 0
Blue Hue : 0
Blue Saturation : 0
Fill Light : 0
Vibrance : 0
Highlight Recovery : 0
Clarity : 0
Defringe : 0
Hue Adjustment Red : 0
Hue Adjustment Orange : 0
Hue Adjustment Yellow : 0
Hue Adjustment Green : 0
Hue Adjustment Aqua : 0
Hue Adjustment Blue : 0
Hue Adjustment Purple : 0
Hue Adjustment Magenta : 0
Saturation Adjustment Red : 0
Saturation Adjustment Orange : 0
Saturation Adjustment Yellow : 0
Saturation Adjustment Green : 0
Saturation Adjustment Aqua : 0
Saturation Adjustment Blue : 0
Saturation Adjustment Purple : 0
Saturation Adjustment Magenta : 0
Luminance Adjustment Red : 0
Luminance Adjustment Orange : 0
Luminance Adjustment Yellow : 0
Luminance Adjustment Green : 0
Luminance Adjustment Aqua : 0
Luminance Adjustment Blue : 0
Luminance Adjustment Purple : 0
Luminance Adjustment Magenta : 0
Split Toning Shadow Hue : 0
Split Toning Shadow Saturation : 0
Split Toning Highlight Hue : 0
Split Toning Highlight Saturation : 0
Split Toning Balance : 0
Parametric Shadows : 0
Parametric Darks : +14
Parametric Lights : +22
Parametric Highlights : +12
Parametric Shadow Split : 25
Parametric Midtone Split : 50
Parametric Highlight Split : 75
Sharpen Radius : +1.0
Sharpen Detail : 25
Sharpen Edge Masking : 0
Post Crop Vignette Amount : 0
Grain Amount : 0
Luminance Noise Reduction Detail : 50
Color Noise Reduction Detail : 50
Luminance Noise Reduction Contrast : 0
Lens Profile Enable : 0
Lens Manual Distortion Amount : 0
Perspective Vertical : 0
Perspective Horizontal : 0
Perspective Rotate : 0.0
Perspective Scale : 100
Convert To Grayscale : False
Tone Curve Name : Medium Contrast
Camera Profile : Adobe Standard
Lens Profile Setup : LensDefaults
Has Settings : True
Crop Top : 0.095908
Crop Left : 0.019959
Crop Bottom : 0.917842
Crop Right : 0.777026
Crop Angle : 2.20648
Crop Constrain To Warp : 0
Crop Width : 900
Crop Height : 600
Crop Unit : pixels
Has Crop : True
Already Applied : True
Flash Fired : False
Flash Return : No return detection
Flash Mode : Off
Flash Function : False
Flash Red Eye Mode : False
Creator : Carmanah
Title : Slick
Subject : Russ & Wendy
Tone Curve : 0, 0, 32, 22, 64, 56, 128, 128, 192, 196, 255, 255
Image Width : 300
Image Height : 200
Bits Per Sample : 8
Color Components : 3
Aperture : 2.0
Image Size : 300x200
Megapixels : 0.060
Scale Factor To 35 mm Equivalent : 1.0
Shutter Speed : 1/100
Flash : Off, Did not fire
Circle Of Confusion : 0.030 mm
Field Of View : 33.3 deg
Focal Length : 60.0 mm (35 mm equivalent: 60.1 mm)
Hyperfocal Distance : 60.03 m
Light Value : 5.6
Lens ID : Canon EF 35-80mm f/4-5.6