Uber Exif Photo
Keywords : 4x10, Flowers, Nature, Side of the Road
By-line : unknown
Make : Canon
Camera Model Name : Canon EOS 20D
Software : Adobe Photoshop Lightroom 4.3 (Windows)
Modify Date : 2012:11:29 00:25:29
Artist : unknown
Exposure Time : 1/5000
F Number : 2.0
Exposure Program : Aperture-priority AE
ISO : 800
Date/Time Original : 2010:06:03 16:22:33
Create Date : 2010:06:03 16:22:33
Shutter Speed Value : 1/5000
Aperture Value : 2.0
Exposure Compensation : 0
Metering Mode : Multi-segment
Flash : Off, Did not fire
Focal Length : 50.0 mm
Custom Rendered : Normal
Exposure Mode : Auto
White Balance : Auto
Scene Capture Type : Standard
Owner Name : unknown
Serial Number : 1420905388
Lens Info : 50mm f/?
Lens Model : 50.0 mm
Profile Description : sRGB IEC61966-2.1
Lens : 50.0 mm
Image Number : 99
Flash Compensation : 0
Firmware : 2.0.2
Creator Tool : Adobe Photoshop Lightroom 4.3 (Windows)
Label : Purple
Rating : 4
Date Created : 2010:06:03 16:22:33
Format : image/jpeg
Version : 7.3
Process Version : 5.7
Color Temperature : 4750
Tint : +36
Exposure : 0.00
Shadows : 18
Brightness : +50
Contrast : +29
Saturation : +1
Sharpness : 25
Luminance Smoothing : 0
Color Noise Reduction : 25
Vignette Amount : 0
Shadow Tint : 0
Red Hue : 0
Red Saturation : 0
Green Hue : 0
Green Saturation : 0
Blue Hue : 0
Blue Saturation : 0
Fill Light : 0
Vibrance : +3
Highlight Recovery : 0
Clarity : +22
Hue Adjustment Red : 0
Hue Adjustment Orange : 0
Hue Adjustment Yellow : 0
Hue Adjustment Green : 0
Hue Adjustment Aqua : 0
Hue Adjustment Blue : 0
Hue Adjustment Purple : 0
Hue Adjustment Magenta : 0
Saturation Adjustment Red : 0
Saturation Adjustment Orange : 0
Saturation Adjustment Yellow : 0
Saturation Adjustment Green : 0
Saturation Adjustment Aqua : 0
Saturation Adjustment Blue : 0
Saturation Adjustment Purple : 0
Saturation Adjustment Magenta : 0
Luminance Adjustment Red : 0
Luminance Adjustment Orange : 0
Luminance Adjustment Yellow : 0
Luminance Adjustment Green : 0
Luminance Adjustment Aqua : 0
Luminance Adjustment Blue : 0
Luminance Adjustment Purple : 0
Luminance Adjustment Magenta : 0
Split Toning Shadow Hue : 0
Split Toning Shadow Saturation : 0
Split Toning Highlight Hue : 0
Split Toning Highlight Saturation : 0
Split Toning Balance : 0
Parametric Shadows : -7
Parametric Darks : -16
Parametric Lights : 0
Parametric Highlights : 0
Parametric Shadow Split : 25
Parametric Midtone Split : 50
Parametric Highlight Split : 75
Sharpen Radius : +1.0
Sharpen Detail : 25
Sharpen Edge Masking : 0
Post Crop Vignette Amount : 0
Grain Amount : 0
Color Noise Reduction Detail : 50
Lens Profile Enable : 0
Lens Manual Distortion Amount : 0
Perspective Vertical : 0
Perspective Horizontal : 0
Perspective Rotate : 0.0
Perspective Scale : 100
Auto Lateral CA : 0
Defringe Purple Amount : 0
Defringe Purple Hue Lo : 30
Defringe Purple Hue Hi : 70
Defringe Green Amount : 0
Defringe Green Hue Lo : 40
Defringe Green Hue Hi : 60
Convert To Grayscale : False
Tone Curve Name : Medium Contrast
Camera Profile : Adobe Standard
Lens Profile Setup : LensDefaults
Has Settings : True
Crop Top : 0.287378
Crop Left : 0
Crop Bottom : 0.887378
Crop Right : 1
Crop Angle : 0
Crop Constrain To Warp : 0
Crop Width : 3504
Crop Height : 1402
Crop Unit : pixels
Has Crop : True
Already Applied : True
Creator : unknown
Subject : 4x10, Flowers, Nature, Side of the Road
Tone Curve : 0, 0, 32, 22, 64, 56, 128, 128, 192, 196, 255, 255
Tone Curve Red : 0, 0, 255, 255
Tone Curve Green : 0, 0, 255, 255
Tone Curve Blue : 0, 0, 255, 255
Derived From : Image Width : 300
Image Height : 120
Bits Per Sample : 8
Color Components : 3
Aperture : 2.0
Image Size : 300x120
Megapixels : 0.036
Scale Factor To 35 mm Equivalent : 1.6
Shutter Speed : 1/5000
Circle Of Confusion : 0.019 mm
Field Of View : 25.3 deg
Focal Length : 50.0 mm (35 mm equivalent: 80.1 mm)
Hyperfocal Distance : 66.63 m
Light Value : 11.3
Lens ID : 50.0mm