Uber Exif Photo
Keywords : France 2010
By-line : Michael Feuerstein
Copyright Notice : Copyright @2008 Michael Feuerstein
Copyright Flag : True
Make : NORITSU KOKI
Camera Model Name : QSS-32_33
Software : QSS-32_33 8.02.005 2006.12.27
Modify Date : 2010:08:11 08:57:23
Copyright : Copyright @2008 Michael Feuerstein
Exif Image Width : 1000
Exif Image Height : 367
Creator Tool : Adobe Photoshop Lightroom
Marked : True
Version : 5.5
White Balance : As Shot
Incremental Temperature : 0
Incremental Tint : 0
Exposure : +0.19
Shadows : 0
Brightness : 0
Contrast : 0
Sharpness : 0
Luminance Smoothing : 0
Color Noise Reduction : 0
Chromatic Aberration R : 0
Chromatic Aberration B : 0
Vignette Amount : 0
Shadow Tint : 0
Red Hue : 0
Red Saturation : 0
Green Hue : 0
Green Saturation : 0
Blue Hue : 0
Blue Saturation : 0
Fill Light : 81
Highlight Recovery : 63
Clarity : +14
Defringe : 0
Gray Mixer Red : -9
Gray Mixer Orange : -18
Gray Mixer Yellow : -22
Gray Mixer Green : -26
Gray Mixer Aqua : -19
Gray Mixer Blue : +9
Gray Mixer Purple : +15
Gray Mixer Magenta : +4
Split Toning Shadow Hue : 0
Split Toning Shadow Saturation : 0
Split Toning Highlight Hue : 0
Split Toning Highlight Saturation : 0
Split Toning Balance : 0
Parametric Shadows : 0
Parametric Darks : 0
Parametric Lights : 0
Parametric Highlights : 0
Parametric Shadow Split : 25
Parametric Midtone Split : 50
Parametric Highlight Split : 75
Sharpen Radius : +1.0
Sharpen Detail : 25
Sharpen Edge Masking : 0
Post Crop Vignette Amount : 0
Convert To Grayscale : True
Tone Curve Name : Linear
Camera Profile : Embedded
Has Settings : True
Crop Top : 0.274336
Crop Left : 0
Crop Bottom : 0.827434
Crop Right : 1
Crop Angle : 0
Crop Width : 1000
Crop Height : 367
Crop Unit : pixels
Has Crop : True
Already Applied : True
Creator Postal Code : 07670
Creator Region : New Jersey
Creator Country : USA
Creator City : Tenafly
Creator Address : 18 Oak Street
Usage Terms : No reporductions of any kind may be made without prior written permission
Creator : Michael Feuerstein
Rights : Copyright @2008 Michael Feuerstein
Subject : France 2010
Tone Curve : 0, 0, 255, 255
Image Width : 300
Image Height : 110
Bits Per Sample : 8
Color Components : 1
Image Size : 300x110
Megapixels : 0.033