Uber Exif Photo
Keywords : G, Miami 2009
By-line : Michael Feuerstein
Copyright Notice : Copyright @2008 Michael Feuerstein
Copyright Flag : True
Make : NORITSU KOKI
Camera Model Name : QSS-32_33
Software : QSS-32_33 9.00.016 2007.09.10
Modify Date : 2010:08:11 09:03:01
Copyright : Copyright @2008 Michael Feuerstein
Profile Description : sRGB IEC61966-2.1
Exif Image Width : 1000
Exif Image Height : 484
Creator Tool : Adobe Photoshop Lightroom
Marked : True
Version : 5.5
White Balance : As Shot
Incremental Temperature : 0
Incremental Tint : 0
Exposure : 0.00
Shadows : 0
Brightness : 0
Contrast : 0
Saturation : 0
Sharpness : 0
Luminance Smoothing : 0
Color Noise Reduction : 0
Chromatic Aberration R : 0
Chromatic Aberration B : 0
Vignette Amount : 0
Shadow Tint : 0
Red Hue : 0
Red Saturation : 0
Green Hue : 0
Green Saturation : 0
Blue Hue : 0
Blue Saturation : 0
Fill Light : 0
Vibrance : +17
Highlight Recovery : 8
Clarity : +40
Defringe : 0
Hue Adjustment Red : 0
Hue Adjustment Orange : 0
Hue Adjustment Yellow : 0
Hue Adjustment Green : 0
Hue Adjustment Aqua : 0
Hue Adjustment Blue : 0
Hue Adjustment Purple : 0
Hue Adjustment Magenta : 0
Saturation Adjustment Red : 0
Saturation Adjustment Orange : 0
Saturation Adjustment Yellow : 0
Saturation Adjustment Green : 0
Saturation Adjustment Aqua : 0
Saturation Adjustment Blue : 0
Saturation Adjustment Purple : 0
Saturation Adjustment Magenta : 0
Luminance Adjustment Red : 0
Luminance Adjustment Orange : 0
Luminance Adjustment Yellow : 0
Luminance Adjustment Green : 0
Luminance Adjustment Aqua : 0
Luminance Adjustment Blue : 0
Luminance Adjustment Purple : 0
Luminance Adjustment Magenta : 0
Split Toning Shadow Hue : 0
Split Toning Shadow Saturation : 0
Split Toning Highlight Hue : 0
Split Toning Highlight Saturation : 0
Split Toning Balance : 0
Parametric Shadows : 0
Parametric Darks : -33
Parametric Lights : -47
Parametric Highlights : 0
Parametric Shadow Split : 25
Parametric Midtone Split : 50
Parametric Highlight Split : 75
Sharpen Radius : +1.0
Sharpen Detail : 25
Sharpen Edge Masking : 0
Post Crop Vignette Amount : 0
Convert To Grayscale : False
Tone Curve Name : Strong Contrast
Camera Profile : Embedded
Has Settings : True
Crop Top : 0
Crop Left : 0
Crop Bottom : 0.640606
Crop Right : 0.876833
Crop Angle : 0
Crop Width : 1000
Crop Height : 484
Crop Unit : pixels
Has Crop : True
Already Applied : True
Creator Postal Code : 07670
Creator Region : New Jersey
Creator Country : USA
Creator City : Tenafly
Creator Address : 18 Oak Street
Usage Terms : No reporductions of any kind may be made without prior written permission
Creator : Michael Feuerstein
Rights : Copyright @2008 Michael Feuerstein
Subject : G, Miami 2009
Tone Curve : 0, 0, 32, 16, 64, 50, 128, 128, 192, 202, 255, 255
Image Width : 300
Image Height : 145
Bits Per Sample : 8
Color Components : 3
Image Size : 300x145
Megapixels : 0.043