Uber Exif Photo
Caption-Abstract : SONY DSC
Image Description : SONY DSC
Make : SONY
Camera Model Name : DSLR-A350
Orientation : Horizontal (normal)
Software : Adobe Photoshop CS4 Windows
Modify Date : 2010:07:30 00:56:21
Exposure Time : 1/250
F Number : 6.3
Exposure Program : Program AE
ISO : 200
Date/Time Original : 2009:11:01 15:35:36
Create Date : 2009:11:01 15:35:36
Shutter Speed Value : 1/250
Aperture Value : 6.3
Brightness Value : 7.37
Exposure Compensation : 0
Max Aperture Value : 5.6
Metering Mode : Multi-segment
Light Source : Unknown
Focal Length : 160.0 mm
Color Space : sRGB
Exif Image Width : 1200
Exif Image Height : 800
Custom Rendered : Normal
Exposure Mode : Auto
White Balance : Auto
Focal Length In 35mm Format : 240 mm
Scene Capture Type : Standard
Contrast : Normal
Saturation : Normal
Sharpness : Normal
Profile Description : sRGB IEC61966-2.1
Date/Time Digitized : 2009:11:01 15:35:36.0+6:30
Creator Tool : Adobe Photoshop Lightroom
Version : 5.5
Incremental Temperature : +5
Incremental Tint : -2
Exposure : +0.57
Shadows : 13
Brightness : 0
Luminance Smoothing : 100
Color Noise Reduction : 98
Chromatic Aberration R : +43
Chromatic Aberration B : +33
Vignette Amount : 0
Shadow Tint : 0
Red Hue : 0
Red Saturation : 0
Green Hue : 0
Green Saturation : 0
Blue Hue : 0
Blue Saturation : 0
Fill Light : 10
Vibrance : +14
Highlight Recovery : 37
Clarity : 0
Defringe : 0
Hue Adjustment Red : 0
Hue Adjustment Orange : 0
Hue Adjustment Yellow : 0
Hue Adjustment Green : 0
Hue Adjustment Aqua : 0
Hue Adjustment Blue : 0
Hue Adjustment Purple : 0
Hue Adjustment Magenta : 0
Saturation Adjustment Red : 0
Saturation Adjustment Orange : 0
Saturation Adjustment Yellow : 0
Saturation Adjustment Green : 0
Saturation Adjustment Aqua : 0
Saturation Adjustment Blue : 0
Saturation Adjustment Purple : 0
Saturation Adjustment Magenta : 0
Luminance Adjustment Red : 0
Luminance Adjustment Orange : 0
Luminance Adjustment Yellow : 0
Luminance Adjustment Green : 0
Luminance Adjustment Aqua : 0
Luminance Adjustment Blue : 0
Luminance Adjustment Purple : 0
Luminance Adjustment Magenta : 0
Split Toning Shadow Hue : 94
Split Toning Shadow Saturation : 6
Split Toning Highlight Hue : 0
Split Toning Highlight Saturation : 0
Split Toning Balance : -12
Parametric Shadows : 0
Parametric Darks : 0
Parametric Lights : 0
Parametric Highlights : 0
Parametric Shadow Split : 25
Parametric Midtone Split : 50
Parametric Highlight Split : 75
Sharpen Radius : +1.6
Sharpen Detail : 42
Sharpen Edge Masking : 42
Post Crop Vignette Amount : 0
Convert To Grayscale : False
Tone Curve Name : Linear
Camera Profile : Embedded
Has Settings : True
Has Crop : False
Already Applied : True
Color Mode : RGB
ICC Profile Name : sRGB IEC61966-2.1
Format : image/jpeg
Flash Fired : False
Flash Return : No return detection
Flash Mode : Off
Flash Function : False
Flash Red Eye Mode : False
Tone Curve : 0, 0, 255, 255
Description : SONY DSC
Image Width : 300
Image Height : 200
Bits Per Sample : 8
Color Components : 3
Aperture : 6.3
Image Size : 300x200
Megapixels : 0.060
Scale Factor To 35 mm Equivalent : 1.5
Shutter Speed : 1/250
Create Date : 2009:11:01 15:35:36.0
Date/Time Original : 2009:11:01 15:35:36.0
Modify Date : 2010:07:30 00:56:21.635
Flash : Off, Did not fire
Circle Of Confusion : 0.020 mm
Field Of View : 8.6 deg
Focal Length : 160.0 mm (35 mm equivalent: 240.0 mm)
Hyperfocal Distance : 202.86 m
Light Value : 12.3