Uber Exif Photo
Object Name : IPTC Digest : 590b15b0b524cef4d754cff1c903b4aa
Make : SONY
Camera Model Name : DSC-F828
Orientation : Horizontal (normal)
Software : Adobe Photoshop CS4 Windows
Modify Date : 2010:07:30 00:53:23
Exposure Time : 1/200
F Number : 4.0
Exposure Program : Program AE
ISO : 100
Date/Time Original : 2007:01:14 09:13:04
Create Date : 2007:01:14 09:13:04
Shutter Speed Value : 1/200
Aperture Value : 4.0
Exposure Compensation : 0
Max Aperture Value : 2.0
Metering Mode : Center-weighted average
Light Source : Unknown
Focal Length : 35.0 mm
Color Space : Uncalibrated
Exif Image Width : 1200
Exif Image Height : 900
Scene Type : Directly photographed
Custom Rendered : Normal
Exposure Mode : Auto
White Balance : Auto
Scene Capture Type : Standard
Profile Description : Adobe RGB (1998)
Date/Time Digitized : 2007:01:14 09:13:04+06:30
Rating : 0
Creator Tool : ACD Systems Digital Imaging
Lens Info : 7.1-51mm f/2-2.8
Lens : 7.1-51.0 mm f/2.0-2.8
Raw File Name : DSC08000.SRF
Version : 5.0
Color Temperature : 5050
Tint : +1
Exposure : -0.10
Shadows : 8
Brightness : +60
Contrast : +46
Saturation : +7
Sharpness : 104
Luminance Smoothing : 50
Color Noise Reduction : 50
Chromatic Aberration R : 0
Chromatic Aberration B : 0
Vignette Amount : 0
Shadow Tint : 0
Red Hue : 0
Red Saturation : 0
Green Hue : 0
Green Saturation : 0
Blue Hue : 0
Blue Saturation : 0
Fill Light : 0
Vibrance : +68
Highlight Recovery : 88
Clarity : +29
Defringe : 0
Hue Adjustment Red : +23
Hue Adjustment Orange : -13
Hue Adjustment Yellow : 0
Hue Adjustment Green : 0
Hue Adjustment Aqua : 0
Hue Adjustment Blue : -8
Hue Adjustment Purple : 0
Hue Adjustment Magenta : 0
Saturation Adjustment Red : 0
Saturation Adjustment Orange : 0
Saturation Adjustment Yellow : 0
Saturation Adjustment Green : 0
Saturation Adjustment Aqua : 0
Saturation Adjustment Blue : 0
Saturation Adjustment Purple : 0
Saturation Adjustment Magenta : 0
Luminance Adjustment Red : 0
Luminance Adjustment Orange : 0
Luminance Adjustment Yellow : 0
Luminance Adjustment Green : 0
Luminance Adjustment Aqua : 0
Luminance Adjustment Blue : 0
Luminance Adjustment Purple : 0
Luminance Adjustment Magenta : 0
Split Toning Shadow Hue : 138
Split Toning Shadow Saturation : 0
Split Toning Highlight Hue : 44
Split Toning Highlight Saturation : 11
Split Toning Balance : +43
Parametric Shadows : +7
Parametric Darks : -7
Parametric Lights : 0
Parametric Highlights : -95
Parametric Shadow Split : 25
Parametric Midtone Split : 50
Parametric Highlight Split : 75
Sharpen Radius : +2.1
Sharpen Detail : 25
Sharpen Edge Masking : 0
Post Crop Vignette Amount : -18
Post Crop Vignette Midpoint : 42
Post Crop Vignette Feather : 73
Post Crop Vignette Roundness : +38
Convert To Grayscale : False
Tone Curve Name : Medium Contrast
Camera Profile : ACR 4.4
Has Settings : True
Has Crop : False
Already Applied : True
Sidecar For Extension : SRF
Color Mode : RGB
ICC Profile Name : Adobe RGB (1998)
Format : image/jpeg
Flash Fired : False
Flash Return : No return detection
Flash Mode : Off
Flash Function : False
Flash Red Eye Mode : False
Tone Curve : 0, 0, 32, 22, 64, 56, 128, 128, 192, 196, 255, 255
Title : History Action : saved, saved, converted, saved, saved
Image Width : 300
Image Height : 225
Bits Per Sample : 8
Color Components : 3
Aperture : 4.0
Image Size : 300x225
Megapixels : 0.068
Shutter Speed : 1/200
Create Date : 2007:01:14 09:13:04.0
Date/Time Original : 2007:01:14 09:13:04.0
Modify Date : 2010:07:30 00:53:23.12
Flash : Off, Did not fire
Light Value : 11.6
Lens ID : 7.1-51.0mm f/2.0-2.8