Uber Exif Photo
Caption-Abstract : SONY DSC
Image Description : SONY DSC
Make : SONY
Camera Model Name : DSLR-A850
Orientation : Horizontal (normal)
Software : Adobe Photoshop CS4 Windows
Modify Date : 2010:07:31 22:42:06
Exposure Time : 1/320
F Number : 8.0
Exposure Program : Manual
ISO : 200
Date/Time Original : 2010:07:31 16:50:47
Create Date : 2010:07:31 16:50:47
Shutter Speed Value : 1/320
Aperture Value : 8.0
Brightness Value : -1.5
Exposure Compensation : 0
Max Aperture Value : 1.8
Metering Mode : Center-weighted average
Light Source : Unknown
Focal Length : 135.0 mm
Color Space : Uncalibrated
Exif Image Width : 683
Exif Image Height : 1024
Scene Type : Directly photographed
Custom Rendered : Normal
Exposure Mode : Manual
White Balance : Auto
Focal Length In 35mm Format : 135 mm
Scene Capture Type : Standard
Contrast : Normal
Saturation : High
Sharpness : Hard
Profile Description : Adobe RGB (1998)
Date/Time Digitized : 2010:07:31 16:50:47+08:00
Creator Tool : DSLR-A850 v1.00
Rating : 0
Format : image/jpeg
Lens Info : 135mm f/1.8
Lens : 135mm F1.8 ZA
Raw File Name : DSC01736.ARW
Version : 5.6
Color Temperature : 5600
Tint : +11
Exposure : +1.25
Shadows : 3
Brightness : +50
Luminance Smoothing : 0
Color Noise Reduction : 25
Chromatic Aberration R : 0
Chromatic Aberration B : 0
Vignette Amount : 0
Shadow Tint : 0
Red Hue : 0
Red Saturation : 0
Green Hue : 0
Green Saturation : 0
Blue Hue : 0
Blue Saturation : 0
Fill Light : 25
Vibrance : -13
Highlight Recovery : 65
Clarity : 0
Defringe : 0
Hue Adjustment Red : 0
Hue Adjustment Orange : 0
Hue Adjustment Yellow : 0
Hue Adjustment Green : 0
Hue Adjustment Aqua : 0
Hue Adjustment Blue : 0
Hue Adjustment Purple : 0
Hue Adjustment Magenta : 0
Saturation Adjustment Red : 0
Saturation Adjustment Orange : 0
Saturation Adjustment Yellow : 0
Saturation Adjustment Green : 0
Saturation Adjustment Aqua : 0
Saturation Adjustment Blue : 0
Saturation Adjustment Purple : 0
Saturation Adjustment Magenta : 0
Luminance Adjustment Red : 0
Luminance Adjustment Orange : 0
Luminance Adjustment Yellow : 0
Luminance Adjustment Green : 0
Luminance Adjustment Aqua : 0
Luminance Adjustment Blue : 0
Luminance Adjustment Purple : 0
Luminance Adjustment Magenta : 0
Split Toning Shadow Hue : 335
Split Toning Shadow Saturation : 5
Split Toning Highlight Hue : 8
Split Toning Highlight Saturation : 7
Split Toning Balance : 0
Parametric Shadows : +8
Parametric Darks : -5
Parametric Lights : +10
Parametric Highlights : +23
Parametric Shadow Split : 25
Parametric Midtone Split : 50
Parametric Highlight Split : 75
Sharpen Radius : +1.0
Sharpen Detail : 25
Sharpen Edge Masking : 0
Post Crop Vignette Amount : 0
Convert To Grayscale : False
Tone Curve Name : Medium Contrast
Camera Profile : Adobe Standard
Has Settings : True
Has Crop : False
Already Applied : True
Sidecar For Extension : ARW
Color Mode : RGB
ICC Profile Name : Adobe RGB (1998)
Flash Fired : True
Flash Return : No return detection
Flash Mode : On
Flash Function : False
Flash Red Eye Mode : False
Description : SONY DSC
Tone Curve : 0, 0, 32, 22, 64, 56, 128, 128, 192, 196, 255, 255
Image Width : 200
Image Height : 300
Bits Per Sample : 8
Color Components : 3
Aperture : 8.0
Image Size : 200x300
Megapixels : 0.060
Scale Factor To 35 mm Equivalent : 1.0
Shutter Speed : 1/320
Flash : On, Fired
Circle Of Confusion : 0.030 mm
Field Of View : 15.2 deg
Focal Length : 135.0 mm (35 mm equivalent: 135.0 mm)
Hyperfocal Distance : 75.82 m
Light Value : 13.3
Lens ID : Carl Zeiss Sonnar T* 135mm F1.8 ZA (SAL135F18Z)