Uber Exif Photo
Copyright Flag : False
Make : NIKON CORPORATION
Camera Model Name : NIKON D90
Orientation : Horizontal (normal)
Software : Adobe Photoshop Elements 7.0 Windows
Modify Date : 2010:09:06 00:58:19
Exposure Time : 1/10
F Number : 5.6
Exposure Program : Manual
ISO : 200
Date/Time Original : 2010:09:05 22:35:05
Create Date : 2010:09:05 22:35:05
Shutter Speed Value : 1/10
Aperture Value : 5.6
Exposure Compensation : 0
Max Aperture Value : 2.0
Metering Mode : Multi-segment
Light Source : Unknown
Focal Length : 35.0 mm
Color Space : Uncalibrated
Exif Image Width : 1594
Exif Image Height : 2400
Sensing Method : One-chip color area
Scene Type : Directly photographed
CFA Pattern : [Green,Blue][Red,Green]
Custom Rendered : Normal
Exposure Mode : Manual
White Balance : Auto
Digital Zoom Ratio : 1
Focal Length In 35mm Format : 52 mm
Scene Capture Type : Standard
Gain Control : None
Contrast : Normal
Saturation : Normal
Sharpness : Hard
Subject Distance Range : Unknown
Profile Description : Adobe RGB (1998)
Date/Time Digitized : 2010:09:05 22:35:05.00+04:00
Creator Tool : Adobe Photoshop Elements 7.0 Windows
Rating : 0
Serial Number : 8059131
Lens Info : 35mm f/2
Lens : 35.0 mm f/2.0
Image Number : 19999
Raw File Name : DSC_5655.NEF
Version : 5.3
Color Temperature : 3050
Tint : +5
Exposure : +0.35
Shadows : 1
Brightness : +86
Luminance Smoothing : 0
Color Noise Reduction : 25
Chromatic Aberration R : 0
Chromatic Aberration B : 0
Vignette Amount : 0
Shadow Tint : 0
Red Hue : 0
Red Saturation : 0
Green Hue : 0
Green Saturation : 0
Blue Hue : 0
Blue Saturation : 0
Fill Light : 0
Vibrance : +21
Highlight Recovery : 14
Clarity : +13
Defringe : 0
Hue Adjustment Red : 0
Hue Adjustment Orange : 0
Hue Adjustment Yellow : 0
Hue Adjustment Green : 0
Hue Adjustment Aqua : 0
Hue Adjustment Blue : 0
Hue Adjustment Purple : 0
Hue Adjustment Magenta : 0
Saturation Adjustment Red : 0
Saturation Adjustment Orange : 0
Saturation Adjustment Yellow : 0
Saturation Adjustment Green : 0
Saturation Adjustment Aqua : 0
Saturation Adjustment Blue : 0
Saturation Adjustment Purple : 0
Saturation Adjustment Magenta : 0
Luminance Adjustment Red : 0
Luminance Adjustment Orange : 0
Luminance Adjustment Yellow : 0
Luminance Adjustment Green : 0
Luminance Adjustment Aqua : 0
Luminance Adjustment Blue : 0
Luminance Adjustment Purple : 0
Luminance Adjustment Magenta : 0
Split Toning Shadow Hue : 0
Split Toning Shadow Saturation : 0
Split Toning Highlight Hue : 0
Split Toning Highlight Saturation : 0
Split Toning Balance : 0
Parametric Shadows : 0
Parametric Darks : 0
Parametric Lights : 0
Parametric Highlights : 0
Parametric Shadow Split : 25
Parametric Midtone Split : 50
Parametric Highlight Split : 75
Sharpen Radius : +1.0
Sharpen Detail : 25
Sharpen Edge Masking : 0
Post Crop Vignette Amount : 0
Convert To Grayscale : False
Tone Curve Name : Medium Contrast
Camera Profile : Adobe Standard
Has Settings : True
Has Crop : False
Already Applied : True
Sidecar For Extension : NEF
Color Mode : RGB
ICC Profile Name : Adobe RGB (1998)
Format : image/jpeg
Flash Fired : False
Flash Return : No return detection
Flash Mode : Unknown
Flash Function : False
Flash Red Eye Mode : False
Tone Curve : 0, 0, 32, 22, 64, 56, 128, 128, 192, 196, 255, 255
Image Width : 199
Image Height : 300
Bits Per Sample : 8
Color Components : 3
Aperture : 5.6
Image Size : 199x300
Megapixels : 0.060
Scale Factor To 35 mm Equivalent : 1.5
Shutter Speed : 1/10
Create Date : 2010:09:05 22:35:05.00
Date/Time Original : 2010:09:05 22:35:05.00
Modify Date : 2010:09:06 00:58:19.00
Flash : No Flash
Circle Of Confusion : 0.020 mm
Field Of View : 38.2 deg
Focal Length : 35.0 mm (35 mm equivalent: 52.0 mm)
Hyperfocal Distance : 10.82 m
Light Value : 7.3
Lens ID : 35.0mm f/2.0