Uber Exif Photo
Keywords : Lightroom 2
By-line : Gary B Cook
Make : Canon
Camera Model Name : Canon EOS 5D
Modify Date : 2010:06:24 19:26:24
Artist : Gary B Cook
Exposure Time : 1/500
F Number : 8.0
Exposure Program : Aperture-priority AE
ISO : 100
Date/Time Original : 2010:05:31 17:48:05
Create Date : 2010:05:31 17:48:05
Shutter Speed Value : 1/500
Aperture Value : 8.0
Exposure Compensation : -1
Max Aperture Value : 3.5
Metering Mode : Multi-segment
Focal Length : 18.0 mm
Custom Rendered : Normal
Exposure Mode : Auto bracket
White Balance : Manual
Scene Capture Type : Standard
Date/Time Digitized : 2010:05:31 17:48:05-07:00
Exif Image Width : 1858
Exif Image Height : 1000
Rating : 5
Creator Tool : Adobe Photoshop Lightroom
Serial Number : 2221201302
Lens Info : 18mm f/?
Lens : 18.0 mm
Image Number : 10
Flash Compensation : 0
Owner Name : Gary B Cook
Firmware : 1.1.0
Version : 6.1
Process Version : 5.7
Color Temperature : 2519
Tint : -37
Exposure : 0.00
Shadows : 5
Brightness : +50
Contrast : +25
Sharpness : 68
Luminance Smoothing : 0
Color Noise Reduction : 0
Chromatic Aberration R : 0
Chromatic Aberration B : 0
Vignette Amount : +13
Vignette Midpoint : 50
Shadow Tint : 0
Red Hue : 0
Red Saturation : 0
Green Hue : 0
Green Saturation : 0
Blue Hue : 0
Blue Saturation : 0
Fill Light : 46
Highlight Recovery : 0
Clarity : +46
Defringe : 0
Gray Mixer Red : +61
Gray Mixer Orange : -19
Gray Mixer Yellow : -23
Gray Mixer Green : -27
Gray Mixer Aqua : 0
Gray Mixer Blue : -62
Gray Mixer Purple : -25
Gray Mixer Magenta : -100
Split Toning Shadow Hue : 0
Split Toning Shadow Saturation : 0
Split Toning Highlight Hue : 0
Split Toning Highlight Saturation : 0
Split Toning Balance : 0
Parametric Shadows : 0
Parametric Darks : 0
Parametric Lights : 0
Parametric Highlights : 0
Parametric Shadow Split : 25
Parametric Midtone Split : 50
Parametric Highlight Split : 75
Sharpen Radius : +1.4
Sharpen Detail : 25
Sharpen Edge Masking : 0
Post Crop Vignette Amount : 0
Grain Amount : 88
Grain Size : 24
Grain Frequency : 55
Lens Profile Enable : 0
Lens Manual Distortion Amount : 0
Perspective Vertical : 0
Perspective Horizontal : 0
Perspective Rotate : +3.4
Perspective Scale : 100
Convert To Grayscale : True
Tone Curve Name : Medium Contrast
Camera Profile : Adobe Standard
Lens Profile Setup : LensDefaults
Has Settings : True
Crop Top : 0
Crop Left : 0.018788
Crop Bottom : 0.840082
Crop Right : 0.982869
Crop Angle : 1.8575
Crop Constrain To Warp : 0
Crop Width : 1858
Crop Height : 1000
Crop Unit : pixels
Has Crop : True
Already Applied : True
Flash Fired : False
Flash Return : No return detection
Flash Mode : Off
Flash Function : False
Flash Red Eye Mode : False
Creator : Gary B Cook
Subject : Lightroom 2
Tone Curve : 0, 0, 32, 22, 64, 56, 128, 128, 192, 196, 255, 255
Paint Correction What : Correction
Paint Correction Amount : 1.000000
Paint Correction Active : true
Paint Correction Exposure : 0.000000
Paint Correction Saturation : 0.000000
Paint Correction Contrast : 0.000000
Paint Correction Clarity : 0.000000
Paint Correction Sharpness : 0.000000
Paint Correction Brightness : 0.148325
Paint Correction Toning Hue : 240.000000
Paint Correction Toning Saturation : 0.000000
Paint Correction Mask What : Mask/Paint
Paint Correction Mask Value : 0.805687
Paint Correction Mask Radius : 0.002160
Paint Correction Mask Flow : 0.835782
Paint Correction Mask Center Weight : 0.003963
Image Width : 300
Image Height : 161
Bits Per Sample : 8
Color Components : 1
Aperture : 8.0
Image Size : 300x161
Megapixels : 0.048
Scale Factor To 35 mm Equivalent : 1.0
Shutter Speed : 1/500
Flash : Off, Did not fire
Circle Of Confusion : 0.030 mm
Field Of View : 89.9 deg
Focal Length : 18.0 mm (35 mm equivalent: 18.0 mm)
Hyperfocal Distance : 1.35 m
Light Value : 15.0
Lens ID : 18.0mm