Uber Exif Photo
Keywords : 5D, Canon 5D, Getty, Getty Museum, Lightroom3, Stairs
By-line : Gary B Cook
Make : Canon
Camera Model Name : Canon EOS 5D
Modify Date : 2010:06:19 11:55:49
Artist : Gary B Cook
Exposure Time : 1/50
F Number : 8.0
Exposure Program : Aperture-priority AE
ISO : 800
Date/Time Original : 2010:06:12 16:58:33
Create Date : 2010:06:12 16:58:33
Shutter Speed Value : 1/50
Aperture Value : 8.0
Exposure Compensation : +2/3
Max Aperture Value : 3.5
Metering Mode : Multi-segment
Focal Length : 18.0 mm
Custom Rendered : Normal
Exposure Mode : Auto
White Balance : Manual
Scene Capture Type : Standard
Date/Time Digitized : 2010:06:12 16:58:33-07:00
Exif Image Width : 1400
Exif Image Height : 2100
Rating : 5
Creator Tool : Adobe Photoshop Lightroom
Serial Number : 2221201302
Lens Info : 18mm f/?
Lens : 18.0 mm
Image Number : 5
Flash Compensation : 0
Owner Name : Gary B Cook
Firmware : 1.1.0
Version : 6.1
Process Version : 5.7
Color Temperature : 2896
Tint : +18
Exposure : -0.15
Shadows : 16
Brightness : -7
Contrast : +61
Sharpness : 66
Luminance Smoothing : 49
Color Noise Reduction : 46
Chromatic Aberration R : 0
Chromatic Aberration B : 0
Vignette Amount : 0
Shadow Tint : 0
Red Hue : 0
Red Saturation : 0
Green Hue : 0
Green Saturation : 0
Blue Hue : 0
Blue Saturation : 0
Fill Light : 41
Highlight Recovery : 2
Clarity : +88
Defringe : 0
Gray Mixer Red : -11
Gray Mixer Orange : -20
Gray Mixer Yellow : -24
Gray Mixer Green : -27
Gray Mixer Aqua : -18
Gray Mixer Blue : +10
Gray Mixer Purple : +16
Gray Mixer Magenta : +3
Split Toning Shadow Hue : 0
Split Toning Shadow Saturation : 0
Split Toning Highlight Hue : 0
Split Toning Highlight Saturation : 0
Split Toning Balance : 0
Parametric Shadows : 0
Parametric Darks : 0
Parametric Lights : +18
Parametric Highlights : +72
Parametric Shadow Split : 25
Parametric Midtone Split : 50
Parametric Highlight Split : 75
Sharpen Radius : +1.0
Sharpen Detail : 5
Sharpen Edge Masking : 71
Post Crop Vignette Amount : 0
Grain Amount : 0
Luminance Noise Reduction Detail : 50
Color Noise Reduction Detail : 50
Luminance Noise Reduction Contrast : 0
Lens Profile Enable : 0
Lens Manual Distortion Amount : 0
Perspective Vertical : 0
Perspective Horizontal : 0
Perspective Rotate : 0.0
Perspective Scale : 100
Convert To Grayscale : True
Tone Curve Name : Linear
Camera Profile : Adobe Standard
Lens Profile Setup : LensDefaults
Has Settings : True
Has Crop : False
Already Applied : True
Flash Fired : False
Flash Return : No return detection
Flash Mode : Off
Flash Function : False
Flash Red Eye Mode : False
Creator : Gary B Cook
Subject : 5D, Canon 5D, Getty, Getty Museum, Lightroom3, Stairs
Tone Curve : 0, 0, 255, 255
Paint Correction What : Correction
Paint Correction Amount : 1.000000
Paint Correction Active : true
Paint Correction Exposure : 0.157895
Paint Correction Saturation : 0.000000
Paint Correction Contrast : 0.000000
Paint Correction Clarity : 0.000000
Paint Correction Sharpness : 0.000000
Paint Correction Brightness : 0.157895
Paint Correction Toning Hue : 240.000000
Paint Correction Toning Saturation : 0.000000
Paint Correction Mask What : Mask/Paint
Paint Correction Mask Value : 0.938389
Paint Correction Mask Radius : 0.007011
Paint Correction Mask Flow : 0.878009
Paint Correction Mask Center Weight : 0.003963
Gradient Based Corr What : Correction
Gradient Based Corr Amount : 1.000000
Gradient Based Corr Active : true
Gradient Based Corr Exposure : 0.110048
Gradient Based Corr Saturation : 0.000000
Gradient Based Corr Contrast : 0.000000
Gradient Based Corr Clarity : 0.000000
Gradient Based Corr Sharpness : 0.000000
Gradient Based Corr Brightness : 0.224880
Gradient Based Corr Toning Hue : 230.000000
Gradient Based Corr Toning Saturation : 0.000000
Gradient Based Corr Mask What : Mask/Gradient
Gradient Based Corr Mask Value : 1.000000
Gradient Based Corr Mask Zero X : 0.562458
Gradient Based Corr Mask Zero Y : 0.325608
Gradient Based Corr Mask Full X : 0.173532
Gradient Based Corr Mask Full Y : 0.161935
Image Width : 200
Image Height : 300
Bits Per Sample : 8
Color Components : 1
Aperture : 8.0
Image Size : 200x300
Megapixels : 0.060
Scale Factor To 35 mm Equivalent : 1.0
Shutter Speed : 1/50
Flash : Off, Did not fire
Circle Of Confusion : 0.030 mm
Field Of View : 89.9 deg
Focal Length : 18.0 mm (35 mm equivalent: 18.0 mm)
Hyperfocal Distance : 1.35 m
Light Value : 8.6
Lens ID : Carl Zeiss Distagon T* 18mm f/3.5 ZE