Uber Exif Photo
Keywords : Night Shot
By-line : Gary B Cook
Make : Canon
Camera Model Name : Canon EOS 5D
Modify Date : 2010:06:19 11:15:15
Artist : Gary B Cook
Exposure Time : 10
F Number : 10.0
Exposure Program : Aperture-priority AE
ISO : 100
Date/Time Original : 2010:05:22 21:22:53
Create Date : 2010:05:22 21:22:53
Shutter Speed Value : 10
Aperture Value : 10.0
Exposure Compensation : -2
Max Aperture Value : 3.5
Metering Mode : Multi-segment
Focal Length : 18.0 mm
Custom Rendered : Normal
Exposure Mode : Auto
White Balance : Auto
Scene Capture Type : Standard
Profile Description : Adobe RGB (1998)
Date/Time Digitized : 2010:05:22 21:22:53-07:00
Exif Image Width : 2670
Exif Image Height : 1500
Rating : 5
Creator Tool : Adobe Photoshop Lightroom
Serial Number : 2221201302
Lens Info : 18mm f/?
Lens : 18.0 mm
Image Number : 2
Flash Compensation : 0
Owner Name : Gary B Cook
Firmware : 1.1.0
Version : 6.1
Process Version : 5.7
Color Temperature : 2900
Tint : +14
Exposure : 0.00
Shadows : 5
Brightness : +50
Contrast : +25
Saturation : 0
Sharpness : 118
Luminance Smoothing : 99
Color Noise Reduction : 91
Chromatic Aberration R : 0
Chromatic Aberration B : 0
Vignette Amount : 0
Shadow Tint : 0
Red Hue : 0
Red Saturation : 0
Green Hue : 0
Green Saturation : 0
Blue Hue : 0
Blue Saturation : 0
Fill Light : 50
Vibrance : +36
Highlight Recovery : 0
Clarity : +33
Defringe : 0
Hue Adjustment Red : 0
Hue Adjustment Orange : 0
Hue Adjustment Yellow : 0
Hue Adjustment Green : 0
Hue Adjustment Aqua : 0
Hue Adjustment Blue : 0
Hue Adjustment Purple : 0
Hue Adjustment Magenta : 0
Saturation Adjustment Red : 0
Saturation Adjustment Orange : 0
Saturation Adjustment Yellow : 0
Saturation Adjustment Green : 0
Saturation Adjustment Aqua : 0
Saturation Adjustment Blue : -29
Saturation Adjustment Purple : -10
Saturation Adjustment Magenta : 0
Luminance Adjustment Red : 0
Luminance Adjustment Orange : 0
Luminance Adjustment Yellow : 0
Luminance Adjustment Green : 0
Luminance Adjustment Aqua : 0
Luminance Adjustment Blue : -100
Luminance Adjustment Purple : -40
Luminance Adjustment Magenta : 0
Split Toning Shadow Hue : 0
Split Toning Shadow Saturation : 0
Split Toning Highlight Hue : 0
Split Toning Highlight Saturation : 0
Split Toning Balance : 0
Parametric Shadows : 0
Parametric Darks : 0
Parametric Lights : 0
Parametric Highlights : 0
Parametric Shadow Split : 25
Parametric Midtone Split : 50
Parametric Highlight Split : 75
Sharpen Radius : +0.8
Sharpen Detail : 12
Sharpen Edge Masking : 74
Post Crop Vignette Amount : -8
Post Crop Vignette Midpoint : 50
Post Crop Vignette Feather : 50
Post Crop Vignette Roundness : 0
Post Crop Vignette Style : Paint Overlay
Grain Amount : 0
Luminance Noise Reduction Detail : 50
Color Noise Reduction Detail : 0
Luminance Noise Reduction Contrast : 0
Lens Profile Enable : 0
Lens Manual Distortion Amount : +1
Perspective Vertical : -20
Perspective Horizontal : 0
Perspective Rotate : 0.0
Perspective Scale : 100
Convert To Grayscale : False
Tone Curve Name : Medium Contrast
Camera Profile : Adobe Standard
Lens Profile Setup : Custom
Lens Profile Name : Adobe (Canon EF 35mm f/1.4 L USM)
Lens Profile Filename : Canon EOS 5D Mark II (Canon EF 35mm f1.4L USM) - RAW.lcp
Lens Profile Distortion Scale : 100
Lens Profile Chromatic Aberration Scale : 100
Lens Profile Vignetting Scale : 100
Has Settings : True
Crop Top : 0.039129
Crop Left : 0.034252
Crop Bottom : 0.803943
Crop Right : 0.966537
Crop Angle : -0.652834
Crop Constrain To Warp : 1
Crop Width : 2670
Crop Height : 1500
Crop Unit : pixels
Has Crop : True
Already Applied : True
Flash Fired : False
Flash Return : No return detection
Flash Mode : Off
Flash Function : False
Flash Red Eye Mode : False
Creator : Gary B Cook
Subject : Night Shot
Tone Curve : 0, 0, 32, 22, 64, 56, 128, 128, 192, 196, 255, 255
Paint Correction What : Correction
Paint Correction Amount : 1.000000
Paint Correction Active : true
Paint Correction Exposure : 0.000000
Paint Correction Saturation : 0.000000
Paint Correction Contrast : 0.000000
Paint Correction Clarity : 0.000000
Paint Correction Sharpness : 0.000000
Paint Correction Brightness : -0.224880
Paint Correction Toning Hue : 240.000000
Paint Correction Toning Saturation : 0.000000
Paint Correction Mask What : Mask/Paint
Paint Correction Mask Value : 0.938389
Paint Correction Mask Radius : 0.050997
Paint Correction Mask Flow : 0.100000
Paint Correction Mask Center Weight : 0.003963
Image Width : 300
Image Height : 169
Bits Per Sample : 8
Color Components : 3
Aperture : 10.0
Image Size : 300x169
Megapixels : 0.051
Scale Factor To 35 mm Equivalent : 1.0
Shutter Speed : 10
Flash : Off, Did not fire
Circle Of Confusion : 0.030 mm
Field Of View : 89.9 deg
Focal Length : 18.0 mm (35 mm equivalent: 18.0 mm)
Hyperfocal Distance : 1.08 m
Light Value : 3.3
Lens ID : 18.0mm