Uber Exif Photo
Make : Canon
Camera Model Name : Canon EOS DIGITAL REBEL XSi
Orientation : Horizontal (normal)
Software : Adobe Photoshop CS4 Windows
Modify Date : 2010:09:06 17:46:04
Exposure Time : 1/60
Exposure Program : Aperture-priority AE
ISO : 200
Date/Time Original : 2010:08:06 15:14:45
Create Date : 2010:08:06 15:14:45
Shutter Speed Value : 1/60
Exposure Compensation : 0
Metering Mode : Multi-segment
Color Space : Uncalibrated
Exif Image Width : 621
Exif Image Height : 800
Custom Rendered : Normal
Exposure Mode : Auto
White Balance : Auto
Scene Capture Type : Standard
Profile Description : Adobe RGB (1998)
Photometric Interpretation : RGB
Samples Per Pixel : 3
Planar Configuration : Chunky
Date/Time Digitized : 2010:08:06 15:14:45.18-04:00
Rating : 0
Serial Number : 670237548
Image Number : 0
Flash Compensation : 0
Firmware : 1.0.4
Raw File Name : IMG_4884.CR2
Version : 5.7
Process Version : 5.0
Color Temperature : 5200
Tint : +9
Exposure : -0.70
Shadows : 34
Brightness : 0
Contrast : +28
Saturation : 0
Sharpness : 0
Luminance Smoothing : 0
Color Noise Reduction : 25
Chromatic Aberration R : 0
Chromatic Aberration B : 0
Vignette Amount : 0
Shadow Tint : 0
Red Hue : 0
Red Saturation : 0
Green Hue : 0
Green Saturation : 0
Blue Hue : 0
Blue Saturation : 0
Fill Light : 0
Vibrance : 0
Highlight Recovery : 83
Clarity : +4
Defringe : 0
Hue Adjustment Red : 0
Hue Adjustment Orange : 0
Hue Adjustment Yellow : 0
Hue Adjustment Green : 0
Hue Adjustment Aqua : 0
Hue Adjustment Blue : 0
Hue Adjustment Purple : 0
Hue Adjustment Magenta : 0
Saturation Adjustment Red : 0
Saturation Adjustment Orange : 0
Saturation Adjustment Yellow : 0
Saturation Adjustment Green : 0
Saturation Adjustment Aqua : 0
Saturation Adjustment Blue : 0
Saturation Adjustment Purple : 0
Saturation Adjustment Magenta : 0
Luminance Adjustment Red : 0
Luminance Adjustment Orange : 0
Luminance Adjustment Yellow : 0
Luminance Adjustment Green : 0
Luminance Adjustment Aqua : 0
Luminance Adjustment Blue : 0
Luminance Adjustment Purple : 0
Luminance Adjustment Magenta : 0
Split Toning Shadow Hue : 0
Split Toning Shadow Saturation : 0
Split Toning Highlight Hue : 0
Split Toning Highlight Saturation : 0
Split Toning Balance : 0
Parametric Shadows : 0
Parametric Darks : 0
Parametric Lights : 0
Parametric Highlights : 0
Parametric Shadow Split : 25
Parametric Midtone Split : 50
Parametric Highlight Split : 75
Sharpen Radius : +1.0
Sharpen Detail : 25
Sharpen Edge Masking : 0
Post Crop Vignette Amount : 0
Grain Amount : 0
Convert To Grayscale : False
Tone Curve Name : Medium Contrast
Camera Profile : Adobe Standard
Has Settings : True
Has Crop : False
Already Applied : True
Sidecar For Extension : CR2
Color Mode : RGB
ICC Profile Name : Adobe RGB (1998)
Format : image/jpeg
Flash Fired : False
Flash Return : No return detection
Flash Mode : Off
Flash Function : False
Flash Red Eye Mode : False
Tone Curve : 0, 0, 32, 22, 64, 56, 128, 128, 192, 196, 255, 255
Image Width : 233
Image Height : 300
Bits Per Sample : 8
Color Components : 3
Image Size : 233x300
Megapixels : 0.070
Scale Factor To 35 mm Equivalent : 1.6
Shutter Speed : 1/60
Create Date : 2010:08:06 15:14:45.18
Date/Time Original : 2010:08:06 15:14:45.18
Modify Date : 2010:09:06 17:46:04.18
Flash : Off, Did not fire
Circle Of Confusion : 0.019 mm