Uber Exif Photo
Photometric Interpretation : RGB
Make : Panasonic
Camera Model Name : DC-S5
Orientation : Horizontal (normal)
Samples Per Pixel : 3
Software : Adobe Photoshop 26.5 (Windows)
Modify Date : 2025:04:15 18:34:23
Artist : JRA
Copyright : JOHN ANGARONI
Exposure Time : 1/200
Exposure Program : Aperture-priority AE
ISO : 320
Sensitivity Type : Standard Output Sensitivity
Standard Output Sensitivity : 320
Date/Time Original : 2025:04:15 12:55:48
Create Date : 2025:04:15 12:55:48
Shutter Speed Value : 1/200
Exposure Compensation : -0.33
Max Aperture Value : 1.0
Metering Mode : Multi-segment
Light Source : Unknown
Flash : Off, Did not fire
Color Space : sRGB
Exif Image Width : 3000
Exif Image Height : 2000
Sensing Method : One-chip color area
Scene Type : Directly photographed
Custom Rendered : Custom
Exposure Mode : Auto
White Balance : Auto
Digital Zoom Ratio : 0
Scene Capture Type : Standard
Gain Control : High gain up
Contrast : Normal
Saturation : High
Sharpness : Soft
Serial Number : WJ3CB001079
By-line : JRA
Copyright Notice : JOHN ANGARONI
Creator Tool : Adobe Photoshop Lightroom Classic 14.2 (Windows)
Preserved File Name : P1002763.JPG
Format : image/jpeg
Date Created : 2025:04:15 12:55:48.621-05:00
Color Mode : RGB
ICC Profile Name : sRGB IEC61966-2.1
Pick : 0
Raw File Name : P1002763.JPG
Version : 17.2
Compatible Version : 268632064
Process Version : 15.4
Incremental Temperature : +2
Incremental Tint : +12
Exposure 2012 : 0.00
Contrast 2012 : 0
Highlights 2012 : 0
Shadows 2012 : -21
Whites 2012 : -9
Blacks 2012 : -49
Texture : 0
Clarity 2012 : 0
Dehaze : 0
Vibrance : 0
Parametric Shadows : 0
Parametric Darks : 0
Parametric Lights : 0
Parametric Highlights : 0
Parametric Shadow Split : 25
Parametric Midtone Split : 50
Parametric Highlight Split : 75
Sharpen Radius : +3.0
Sharpen Detail : 100
Sharpen Edge Masking : 50
Luminance Smoothing : 24
Luminance Noise Reduction Detail : 50
Luminance Noise Reduction Contrast : 0
Color Noise Reduction : 25
Color Noise Reduction Detail : 50
Color Noise Reduction Smoothness : 50
Gray Mixer Red : -8
Gray Mixer Orange : -17
Gray Mixer Yellow : -21
Gray Mixer Green : -25
Gray Mixer Aqua : -18
Gray Mixer Blue : +9
Gray Mixer Purple : +15
Gray Mixer Magenta : +5
Hue Adjustment Red : 0
Hue Adjustment Orange : +18
Hue Adjustment Yellow : -6
Hue Adjustment Green : 0
Hue Adjustment Aqua : +37
Hue Adjustment Blue : 0
Hue Adjustment Purple : -19
Hue Adjustment Magenta : -32
Saturation Adjustment Red : 0
Saturation Adjustment Orange : +28
Saturation Adjustment Yellow : +43
Saturation Adjustment Green : 0
Saturation Adjustment Aqua : +53
Saturation Adjustment Blue : 0
Saturation Adjustment Purple : -4
Saturation Adjustment Magenta : -15
Luminance Adjustment Red : 0
Luminance Adjustment Orange : +8
Luminance Adjustment Yellow : +16
Luminance Adjustment Green : 0
Luminance Adjustment Aqua : +12
Luminance Adjustment Blue : 0
Luminance Adjustment Purple : +12
Luminance Adjustment Magenta : +2
Split Toning Shadow Hue : 0
Split Toning Shadow Saturation : 0
Split Toning Highlight Hue : 0
Split Toning Highlight Saturation : 0
Split Toning Balance : 0
Color Grade Midtone Hue : 0
Color Grade Midtone Sat : 0
Color Grade Shadow Lum : 0
Color Grade Midtone Lum : 0
Color Grade Highlight Lum : 0
Color Grade Blending : 50
Color Grade Global Hue : 0
Color Grade Global Sat : 0
Color Grade Global Lum : 0
Auto Lateral CA : 0
Lens Profile Enable : 0
Lens Manual Distortion Amount : 0
Vignette Amount : 0
Defringe Purple Amount : 0
Defringe Purple Hue Lo : 30
Defringe Purple Hue Hi : 70
Defringe Green Amount : 0
Defringe Green Hue Lo : 40
Defringe Green Hue Hi : 60
Perspective Upright : Off
Perspective Vertical : 0
Perspective Horizontal : 0
Perspective Rotate : 0.0
Perspective Aspect : 0
Perspective Scale : 100
Perspective X : 0.00
Perspective Y : 0.00
Grain Amount : 0
Post Crop Vignette Amount : 0
Shadow Tint : 0
Red Hue : 0
Red Saturation : -26
Green Hue : +21
Green Saturation : +6
Blue Hue : 0
Blue Saturation : +11
HDR Edit Mode : 0
Curve Refine Saturation : 100
Convert To Grayscale : False
Override Look Vignette : False
Tone Curve Name 2012 : Custom
Camera Profile : Embedded
Has Settings : True
Crop Top : 0
Crop Left : 0
Crop Bottom : 1
Crop Right : 1
Crop Angle : 0
Crop Constrain To Warp : 0
Has Crop : False
Already Applied : True
Creator : JRA
Rights : JOHN ANGARONI
Tone Curve PV2012 : 0, 0, 40, 16, 54, 31, 83, 67, 132, 128, 175, 173, 195, 197, 238, 241, 255, 255
Tone Curve PV2012 Red : 0, 0, 54, 54, 165, 153, 255, 255
Tone Curve PV2012 Green : 0, 0, 58, 58, 148, 139, 255, 255
Tone Curve PV2012 Blue : 0, 0, 57, 57, 170, 150, 255, 255
Point Colors : -1.000000, -1.000000, -1.000000, -1.000000, -1.000000, -1.000000, -1.000000, -1.000000, -1.000000, -1.000000, -1.000000, -1.000000, -1.000000, -1.000000, -1.000000, -1.000000, -1.000000, -1.000000, -1.000000
Remove Areas Spot Type : heal_patchmatch
Remove Areas Source State : sourceAutoComputed
Remove Areas Opacity : 1
Remove Areas Seed : 2
Remove Areas Pm patch : 9FE9C0924865F9EB8365C094F4FA3932
Remove Areas Pm remap info 0 : 0.000411994,0.275471121,0.000000000,1.000000000
Remove Areas Pm remap info 1 : 0.000488289,0.296330214,0.000000000,1.000000000
Remove Areas Pm remap info 2 : 0.000106813,0.298466474,0.000000000,1.000000000
Remove Areas Pm gamma type : 1
Remove Areas Pm whole image top : 0
Remove Areas Pm whole image left : 0
Remove Areas Pm whole image bottom : 4000
Remove Areas Pm whole image right : 6000
Remove Areas Pm target top : 1150
Remove Areas Pm target left : 4767
Remove Areas Pm target bottom : 2150
Remove Areas Pm target right : 5360
Remove Areas Pm search top : 110
Remove Areas Pm search left : 2920
Remove Areas Pm search bottom : 3190
Remove Areas Pm search right : 6000
Remove Areas Pm source type : full
Remove Areas Pm version : 327680
Remove Areas Pm black level : 0
Remove Areas Masks What : Mask/Image
Remove Areas Masks Mask Active : true
Remove Areas Masks Mask Blend Mode : 0
Remove Areas Masks Mask Inverted : false
Remove Areas Masks Mask Sync ID : 260225D423FA604EB658F5559D03673C
Remove Areas Masks Mask Value : 1
Remove Areas Masks Mask Version : 1
Remove Areas Masks Mask Sub Type : 0
Remove Areas Masks Reference Point : 0.839844 0.454545
Remove Areas Masks Whole Image Area : 0/1,0/1,1920/1,2880/1
Remove Areas Masks Origin : 2288,552
Remove Areas Masks Model Version : 234881976
Remove Areas Masks Gesture What : Mask/Paint
Remove Areas Masks Gesture Mask Active : true
Remove Areas Masks Gesture Mask Blend Mode : 0
Remove Areas Masks Gesture Mask Inverted : false
Remove Areas Masks Gesture Mask Sync ID : 0EFC3B79B42B68488B080CA4351594E0
Remove Areas Masks Gesture Mask Value : 1
Remove Areas Masks Gesture Radius : 0
Remove Areas Masks Gesture Flow : 1
Remove Areas Masks Gesture Center Weight : 0
Remove Areas Masks Gesture Brush Gesture Interpretation : 0
Profile Description : sRGB IEC61966-2.1
Image Width : 400
Image Height : 267
Bits Per Sample : 8
Color Components : 3
Image Size : 400x267
Megapixels : 0.107
Shutter Speed : 1/200
Create Date : 2025:04:15 12:55:48.621-05:00
Date/Time Original : 2025:04:15 12:55:48.621-05:00
Modify Date : 2025:04:15 18:34:23-04:00