Uber Exif Photo
Photometric Interpretation : RGB
Make : LEICA CAMERA AG
Camera Model Name : LEICA X VARIO (Typ 107)
Orientation : Horizontal (normal)
Samples Per Pixel : 3
Software : Adobe Photoshop 24.4 (Windows)
Modify Date : 2023:04:25 14:17:50
Exposure Time : 1/160
F Number : 8.0
Exposure Program : Aperture-priority AE
ISO : 100
Date/Time Original : 2023:04:20 14:30:40
Create Date : 2023:04:20 14:30:40
Shutter Speed Value : 1/160
Aperture Value : 8.0
Exposure Compensation : 0
Max Aperture Value : 3.5
Metering Mode : Multi-segment
Light Source : Unknown
Flash : Off, Did not fire
Focal Length : 31.2 mm
Color Space : Uncalibrated
Exif Image Width : 1800
Exif Image Height : 1200
Sensing Method : One-chip color area
Custom Rendered : Normal
White Balance : Auto
Digital Zoom Ratio : 1
Focal Length In 35mm Format : 47 mm
Scene Capture Type : Landscape
Contrast : High
Saturation : High
Sharpness : Soft
Serial Number : 000004704722
Lens Info : 18-46mm f/3.5-6.4
Lens Model : 18.0-46.0 mm f/3.5-6.4
Creator Tool : Adobe Photoshop Lightroom Classic 12.3 (Windows)
Lens : 18.0-46.0 mm f/3.5-6.4
Distortion Correction Already Applied : True
Lateral Chromatic Aberration Correction Already Applied : True
Date Created : 2023:04:20 14:30:40
Color Mode : RGB
ICC Profile Name : Adobe RGB (1998)
Preserved File Name : L9611693.DNG
Format : image/jpeg
Raw File Name : L9611693.DNG
Version : 15.3
Process Version : 11.0
Color Temperature : 5000
Tint : +20
Exposure 2012 : +0.18
Contrast 2012 : +7
Highlights 2012 : -84
Shadows 2012 : +11
Whites 2012 : -5
Blacks 2012 : -47
Texture : 0
Clarity 2012 : -86
Dehaze : 0
Vibrance : +15
Parametric Shadows : 0
Parametric Darks : 0
Parametric Lights : 0
Parametric Highlights : 0
Parametric Shadow Split : 25
Parametric Midtone Split : 50
Parametric Highlight Split : 75
Sharpen Radius : +1.0
Sharpen Detail : 25
Sharpen Edge Masking : 0
Luminance Smoothing : 0
Color Noise Reduction : 25
Color Noise Reduction Detail : 50
Color Noise Reduction Smoothness : 50
Hue Adjustment Red : 0
Hue Adjustment Orange : 0
Hue Adjustment Yellow : 0
Hue Adjustment Green : 0
Hue Adjustment Aqua : 0
Hue Adjustment Blue : 0
Hue Adjustment Purple : 0
Hue Adjustment Magenta : 0
Saturation Adjustment Red : 0
Saturation Adjustment Orange : +8
Saturation Adjustment Yellow : 0
Saturation Adjustment Green : -15
Saturation Adjustment Aqua : +12
Saturation Adjustment Blue : +43
Saturation Adjustment Purple : 0
Saturation Adjustment Magenta : -8
Luminance Adjustment Red : 0
Luminance Adjustment Orange : 0
Luminance Adjustment Yellow : 0
Luminance Adjustment Green : 0
Luminance Adjustment Aqua : 0
Luminance Adjustment Blue : 0
Luminance Adjustment Purple : 0
Luminance Adjustment Magenta : 0
Split Toning Shadow Hue : 0
Split Toning Shadow Saturation : 0
Split Toning Highlight Hue : 0
Split Toning Highlight Saturation : 0
Split Toning Balance : 0
Color Grade Midtone Hue : 0
Color Grade Midtone Sat : 0
Color Grade Shadow Lum : 0
Color Grade Midtone Lum : 0
Color Grade Highlight Lum : 0
Color Grade Blending : 50
Color Grade Global Hue : 0
Color Grade Global Sat : 0
Color Grade Global Lum : 0
Auto Lateral CA : 1
Lens Profile Enable : 0
Lens Manual Distortion Amount : 0
Vignette Amount : 0
Defringe Purple Amount : 0
Defringe Purple Hue Lo : 30
Defringe Purple Hue Hi : 70
Defringe Green Amount : 0
Defringe Green Hue Lo : 40
Defringe Green Hue Hi : 60
Perspective Upright : Off
Perspective Vertical : +4
Perspective Horizontal : -5
Perspective Rotate : +0.5
Perspective Aspect : 0
Perspective Scale : 100
Perspective X : 0.00
Perspective Y : 0.00
Grain Amount : 0
Post Crop Vignette Amount : 0
Shadow Tint : 0
Red Hue : 0
Red Saturation : 0
Green Hue : 0
Green Saturation : 0
Blue Hue : 0
Blue Saturation : 0
Override Look Vignette : False
Tone Curve Name 2012 : Linear
Camera Profile : Adobe Standard
Has Settings : True
Crop Top : 0.023403
Crop Left : 0.005594
Crop Bottom : 0.99938
Crop Right : 0.981571
Crop Angle : 0
Crop Constrain To Warp : 1
Has Crop : True
Already Applied : True
Tone Curve PV2012 : 0, 0, 255, 255
Tone Curve PV2012 Red : 0, 0, 255, 255
Tone Curve PV2012 Green : 0, 0, 255, 255
Tone Curve PV2012 Blue : 0, 0, 255, 255
Look Name : Adobe Color
Look Amount : 1
Look Supports Amount : false
Look Supports Monochrome : false
Look Supports Output Referred : false
Look Group : Profiles
Look Parameters Version : 15.3
Look Parameters Process Version : 11.0
Look Parameters Convert To Grayscale : False
Look Parameters Camera Profile : Adobe Standard
Look Parameters Look Table : E1095149FDB39D7A057BAB208837E2E1
Look Parameters Tone Curve PV2012 : 0, 0, 22, 16, 40, 35, 127, 127, 224, 230, 240, 246, 255, 255
Look Parameters Tone Curve PV2012 Red : 0, 0, 255, 255
Look Parameters Tone Curve PV2012 Green : 0, 0, 255, 255
Look Parameters Tone Curve PV2012 Blue : 0, 0, 255, 255
Profile Description : Adobe RGB (1998)
Image Width : 400
Image Height : 267
Bits Per Sample : 8
Color Components : 3
Aperture : 8.0
Image Size : 400x267
Megapixels : 0.107
Scale Factor To 35 mm Equivalent : 1.5
Shutter Speed : 1/160
Modify Date : 2023:04:25 14:17:50-04:00
Circle Of Confusion : 0.020 mm
Field Of View : 41.9 deg
Focal Length : 31.2 mm (35 mm equivalent: 47.0 mm)
Hyperfocal Distance : 6.10 m
Light Value : 13.3
Lens ID : 18.0-46.0mm f/3.5-6.4