Uber Exif Photo
Caption-Abstract : SONY DSC
Copyright Flag : False
Image Description : SONY DSC
Make : SONY
Camera Model Name : DSLR-A700
Orientation : Horizontal (normal)
Software : Adobe Photoshop CS2 Windows
Modify Date : 2010:06:13 00:20:01
Exposure Time : 1/1000
F Number : 4.5
Exposure Program : Aperture-priority AE
ISO : 200
Date/Time Original : 2010:06:12 19:05:40
Create Date : 2010:06:12 19:05:40
Shutter Speed Value : 1/1000
Aperture Value : 4.5
Brightness Value : 9.37
Exposure Compensation : +1
Max Aperture Value : 4.5
Metering Mode : Multi-segment
Light Source : Daylight
Focal Length : 50.0 mm
Color Space : sRGB
Exif Image Width : 750
Exif Image Height : 699
Scene Type : Directly photographed
Custom Rendered : Normal
Exposure Mode : Auto
White Balance : Manual
Digital Zoom Ratio : 0
Focal Length In 35mm Format : 75 mm
Scene Capture Type : Standard
Contrast : Normal
Saturation : Normal
Sharpness : Normal
Profile Description : sRGB IEC61966-2.1
Date/Time Digitized : 2010:06:12 19:05:40-07:00
Flash Fired : False
Flash Return : No return detection
Flash Mode : Off
Flash Function : False
Flash Red Eye Mode : False
Creator Tool : Adobe Photoshop CS2 Windows
Version : 4.5
Color Temperature : 6362
Tint : -19
Exposure : 0.00
Shadows : 6
Brightness : +50
Luminance Smoothing : 0
Color Noise Reduction : 0
Chromatic Aberration R : 0
Chromatic Aberration B : 0
Vignette Amount : -100
Vignette Midpoint : 11
Shadow Tint : 0
Red Hue : 0
Red Saturation : 0
Green Hue : 0
Green Saturation : 0
Blue Hue : 0
Blue Saturation : 0
Fill Light : 1
Vibrance : +43
Highlight Recovery : 25
Clarity : +64
Defringe : 0
Hue Adjustment Red : -23
Hue Adjustment Orange : +11
Hue Adjustment Yellow : -22
Hue Adjustment Green : 0
Hue Adjustment Aqua : 0
Hue Adjustment Blue : +23
Hue Adjustment Purple : -9
Hue Adjustment Magenta : -15
Saturation Adjustment Red : +36
Saturation Adjustment Orange : +55
Saturation Adjustment Yellow : +26
Saturation Adjustment Green : +4
Saturation Adjustment Aqua : +100
Saturation Adjustment Blue : +49
Saturation Adjustment Purple : +32
Saturation Adjustment Magenta : +15
Luminance Adjustment Red : -2
Luminance Adjustment Orange : -13
Luminance Adjustment Yellow : -13
Luminance Adjustment Green : +21
Luminance Adjustment Aqua : +30
Luminance Adjustment Blue : -55
Luminance Adjustment Purple : -28
Luminance Adjustment Magenta : -13
Split Toning Shadow Hue : 245
Split Toning Shadow Saturation : 73
Split Toning Highlight Hue : 69
Split Toning Highlight Saturation : 6
Split Toning Balance : +85
Parametric Shadows : 0
Parametric Darks : -27
Parametric Lights : 0
Parametric Highlights : -30
Parametric Shadow Split : 25
Parametric Midtone Split : 50
Parametric Highlight Split : 75
Sharpen Radius : +1.0
Sharpen Detail : 50
Sharpen Edge Masking : 0
Post Crop Vignette Amount : 0
Convert To Grayscale : False
Tone Curve Name : Linear
Camera Profile : ACR 2.4
Has Settings : True
Crop Top : 0
Crop Left : 0.313783
Crop Bottom : 1
Crop Right : 1
Crop Angle : 0
Crop Width : 2932
Crop Height : 2848
Crop Unit : pixels
Has Crop : True
Already Applied : True
Tone Curve : 0, 0, 255, 255
Gradient Based Corr What : Correction
Gradient Based Corr Amount : 1.000000
Gradient Based Corr Active : true
Gradient Based Corr Exposure : 0.000000
Gradient Based Corr Saturation : -0.425000
Gradient Based Corr Contrast : 0.000000
Gradient Based Corr Clarity : 1.000000
Gradient Based Corr Sharpness : 0.000000
Gradient Based Corr Brightness : -0.450000
Gradient Based Corr Toning Hue : 106.000000
Gradient Based Corr Toning Saturation : 0.000000
Gradient Based Corr Mask What : Mask/Gradient
Gradient Based Corr Mask Value : 1.000000
Gradient Based Corr Mask Zero X : 0.501467
Gradient Based Corr Mask Zero Y : 0.551649
Gradient Based Corr Mask Full X : 0.501467
Gradient Based Corr Mask Full Y : 0.283517
Color Mode : RGB
ICC Profile Name : sRGB IEC61966-2.1
Format : image/jpeg
Image Width : 300
Image Height : 280
Bits Per Sample : 8
Color Components : 3
Aperture : 4.5
Image Size : 300x280
Megapixels : 0.084
Scale Factor To 35 mm Equivalent : 1.5
Shutter Speed : 1/1000
Flash : Off, Did not fire
Circle Of Confusion : 0.020 mm
Field Of View : 27.0 deg
Focal Length : 50.0 mm (35 mm equivalent: 75.0 mm)
Hyperfocal Distance : 27.74 m
Light Value : 13.3