Uber Exif Photo
Caption-Abstract : Stitched Panorama
By-line : Photographer: Po Yin Ho
Image Description : Stitched Panorama
Make : Canon
Camera Model Name : Canon EOS 5D Mark II
Orientation : Horizontal (normal)
Software : Adobe Photoshop CS5 Macintosh
Modify Date : 2012:05:07 13:07:33
Artist : Photographer: Po Yin Ho
Exposure Time : 8
F Number : 2.0
Exposure Program : Shutter speed priority AE
ISO : 100
Date/Time Original : 2012:01:11 00:13:09
Create Date : 2012:01:11 00:13:09
Shutter Speed Value : 8
Aperture Value : 2.0
Exposure Compensation : -1/3
Max Aperture Value : 2.0
Metering Mode : Multi-segment
Flash : Off, Did not fire
Focal Length : 200.0 mm
User Comment : Kolor stitching | 3 pictures | Size: 5187 x 5447 | FOV: 9.51 x 9.99 ~ -0.84 | RMS: 2.56 | Lens: Standard | Projection: Planar | Color: None |
Color Space : Uncalibrated
Exif Image Width : 1600
Exif Image Height : 1669
Custom Rendered : Normal
Exposure Mode : Auto
White Balance : Auto
Scene Capture Type : Standard
Owner Name : Po Yin Ho
Serial Number : 3531607772
Lens Info : 85mm f/?
Lens Model : 85mm
Profile Description : Adobe RGB (1998)
Date Created : 2012:01:11 00:13:09
Color Mode : RGB
ICC Profile Name : Adobe RGB (1998)
Creator Tool : Autopano Giga
Rating : 0
Format : image/jpeg
Lens : 85mm
Raw File Name : [Group 1]-_MG_0105__MG_0107-3 images copy.jpg
Version : 6.7
Process Version : 5.7
Incremental Temperature : 0
Incremental Tint : 0
Exposure : 0.00
Shadows : 0
Brightness : 0
Contrast : 0
Saturation : 0
Sharpness : 0
Luminance Smoothing : 0
Color Noise Reduction : 0
Vignette Amount : 0
Shadow Tint : 0
Red Hue : 0
Red Saturation : 0
Green Hue : 0
Green Saturation : 0
Blue Hue : 0
Blue Saturation : 0
Fill Light : 0
Vibrance : 0
Highlight Recovery : 19
Clarity : +19
Defringe : 0
Hue Adjustment Red : 0
Hue Adjustment Orange : 0
Hue Adjustment Yellow : 0
Hue Adjustment Green : 0
Hue Adjustment Aqua : 0
Hue Adjustment Blue : 0
Hue Adjustment Purple : 0
Hue Adjustment Magenta : 0
Saturation Adjustment Red : 0
Saturation Adjustment Orange : 0
Saturation Adjustment Yellow : 0
Saturation Adjustment Green : 0
Saturation Adjustment Aqua : 0
Saturation Adjustment Blue : 0
Saturation Adjustment Purple : 0
Saturation Adjustment Magenta : 0
Luminance Adjustment Red : 0
Luminance Adjustment Orange : 0
Luminance Adjustment Yellow : 0
Luminance Adjustment Green : 0
Luminance Adjustment Aqua : 0
Luminance Adjustment Blue : 0
Luminance Adjustment Purple : 0
Luminance Adjustment Magenta : 0
Split Toning Shadow Hue : 0
Split Toning Shadow Saturation : 0
Split Toning Highlight Hue : 0
Split Toning Highlight Saturation : 0
Split Toning Balance : 0
Parametric Shadows : 0
Parametric Darks : 0
Parametric Lights : 0
Parametric Highlights : 0
Parametric Shadow Split : 25
Parametric Midtone Split : 50
Parametric Highlight Split : 75
Sharpen Radius : +1.0
Sharpen Detail : 25
Sharpen Edge Masking : 0
Post Crop Vignette Amount : 0
Grain Amount : 0
Lens Profile Enable : 0
Lens Manual Distortion Amount : 0
Perspective Vertical : 0
Perspective Horizontal : 0
Perspective Rotate : 0.0
Perspective Scale : 100
Auto Lateral CA : 0
Exposure 2012 : 0.00
Contrast 2012 : 0
Highlights 2012 : 0
Shadows 2012 : 0
Whites 2012 : 0
Blacks 2012 : 0
Clarity 2012 : 0
Convert To Grayscale : False
Tone Curve Name : Linear
Tone Curve Name 2012 : Linear
Camera Profile : Embedded
Lens Profile Setup : LensDefaults
Has Settings : True
Has Crop : False
Already Applied : True
Creator : Photographer: Po Yin Ho
Description : Stitched Panorama
Tone Curve : 0, 0, 255, 255
Tone Curve Red : 0, 0, 255, 255
Tone Curve Green : 0, 0, 255, 255
Tone Curve Blue : 0, 0, 255, 255
Tone Curve PV2012 : 0, 0, 255, 255
Tone Curve PV2012 Red : 0, 0, 255, 255
Tone Curve PV2012 Green : 0, 0, 255, 255
Tone Curve PV2012 Blue : 0, 0, 255, 255
Image Width : 287
Image Height : 300
Bits Per Sample : 8
Color Components : 3
Aperture : 2.0
Image Size : 287x300
Megapixels : 0.086
Scale Factor To 35 mm Equivalent : 1.0
Shutter Speed : 8
Date/Time Original : 2012:01:11 00:13:09.69
Circle Of Confusion : 0.031 mm
Field Of View : 10.5 deg
Focal Length : 200.0 mm (35 mm equivalent: 195.2 mm)
Hyperfocal Distance : 649.62 m
Light Value : -1.0
Lens ID : 85mm