Uber Exif Photo
By-line : Photographer: Po Yin Ho
Make : Canon
Camera Model Name : Canon EOS 5D Mark II
Orientation : Horizontal (normal)
Software : Adobe Photoshop CS5 Macintosh
Modify Date : 2011:09:15 02:01:33
Artist : Photographer: Po Yin Ho
Exposure Time : 1/160
F Number : 1.4
Exposure Program : Manual
ISO : 200
Date/Time Original : 2011:09:14 17:20:06
Create Date : 2011:09:14 17:20:06
Shutter Speed Value : 1/160
Aperture Value : 1.4
Exposure Compensation : 0
Max Aperture Value : 1.4
Metering Mode : Multi-segment
Flash : Off, Did not fire
Focal Length : 50.0 mm
Color Space : Uncalibrated
Exif Image Width : 1200
Exif Image Height : 511
Custom Rendered : Normal
Exposure Mode : Manual
White Balance : Manual
Scene Capture Type : Standard
Owner Name : Po Yin Ho
Serial Number : 3531607772
Lens Model : 1-65535mm
Profile Description : Adobe RGB (1998)
Format : image/jpeg
Lens : 1-65535mm
Image Number : 0
Flash Compensation : 0
Firmware : 2.0.9
Rating : 0
Date Created : 2011:09:14 17:20:06.035
Color Mode : RGB
ICC Profile Name : Adobe RGB (1998)
Raw File Name : IMG_0400.CR2
Version : 6.4.1
Process Version : 5.7
Color Temperature : 5000
Tint : -43
Exposure : +1.75
Shadows : 5
Brightness : +50
Contrast : -23
Saturation : 0
Sharpness : 25
Luminance Smoothing : 0
Color Noise Reduction : 25
Chromatic Aberration R : 0
Chromatic Aberration B : 0
Vignette Amount : 0
Shadow Tint : 0
Red Hue : 0
Red Saturation : 0
Green Hue : 0
Green Saturation : 0
Blue Hue : 0
Blue Saturation : 0
Fill Light : 0
Vibrance : 0
Highlight Recovery : 20
Clarity : +34
Defringe : 0
Hue Adjustment Red : 0
Hue Adjustment Orange : 0
Hue Adjustment Yellow : 0
Hue Adjustment Green : 0
Hue Adjustment Aqua : 0
Hue Adjustment Blue : 0
Hue Adjustment Purple : 0
Hue Adjustment Magenta : 0
Saturation Adjustment Red : 0
Saturation Adjustment Orange : 0
Saturation Adjustment Yellow : 0
Saturation Adjustment Green : 0
Saturation Adjustment Aqua : 0
Saturation Adjustment Blue : 0
Saturation Adjustment Purple : 0
Saturation Adjustment Magenta : 0
Luminance Adjustment Red : 0
Luminance Adjustment Orange : 0
Luminance Adjustment Yellow : 0
Luminance Adjustment Green : 0
Luminance Adjustment Aqua : 0
Luminance Adjustment Blue : 0
Luminance Adjustment Purple : 0
Luminance Adjustment Magenta : 0
Split Toning Shadow Hue : 0
Split Toning Shadow Saturation : 0
Split Toning Highlight Hue : 0
Split Toning Highlight Saturation : 0
Split Toning Balance : 0
Parametric Shadows : 0
Parametric Darks : 0
Parametric Lights : 0
Parametric Highlights : 0
Parametric Shadow Split : 25
Parametric Midtone Split : 50
Parametric Highlight Split : 75
Sharpen Radius : +1.0
Sharpen Detail : 25
Sharpen Edge Masking : 0
Post Crop Vignette Amount : 0
Grain Amount : 0
Color Noise Reduction Detail : 50
Lens Profile Enable : 0
Lens Manual Distortion Amount : 0
Perspective Vertical : 0
Perspective Horizontal : 0
Perspective Rotate : 0.0
Perspective Scale : 100
Convert To Grayscale : False
Tone Curve Name : Medium Contrast
Camera Profile : Adobe Standard
Lens Profile Setup : LensDefaults
Has Settings : True
Crop Top : 0.20517
Crop Left : 0
Crop Bottom : 0.843468
Crop Right : 1
Crop Angle : 0
Crop Constrain To Warp : 1
Crop Width : 2.35
Crop Height : 1
Crop Unit : Unknown (3)
Has Crop : True
Already Applied : True
Creator : Photographer: Po Yin Ho
Tone Curve : 0, 0, 32, 22, 64, 56, 128, 128, 192, 196, 255, 255
Image Width : 300
Image Height : 128
Bits Per Sample : 8
Color Components : 3
Aperture : 1.4
Image Size : 300x128
Megapixels : 0.038
Scale Factor To 35 mm Equivalent : 1.0
Shutter Speed : 1/160
Create Date : 2011:09:14 17:20:06.35
Date/Time Original : 2011:09:14 17:20:06.35
Modify Date : 2011:09:15 02:01:33.35
Circle Of Confusion : 0.031 mm
Field Of View : 40.5 deg
Focal Length : 50.0 mm (35 mm equivalent: 48.8 mm)
Hyperfocal Distance : 58.00 m
Light Value : 7.3
Lens ID : Canon EF 35-80mm f/4-5.6