Uber Exif Photo
Caption-Abstract : Copyright: kysham.
By-line : Sham Kien Yee
Copyright Flag : True
Photometric Interpretation : RGB
Image Description : Copyright: kysham.
Make : SONY
Camera Model Name : DSLR-A850
Orientation : Horizontal (normal)
Samples Per Pixel : 3
Software : Adobe Photoshop CS5 Windows
Modify Date : 2011:11:27 22:48:07
Artist : Sham Kien Yee
Exposure Time : 1/60
F Number : 8.0
Exposure Program : Manual
ISO : 200
Date/Time Original : 2011:11:27 17:03:19
Create Date : 2011:11:27 17:03:19
Shutter Speed Value : 1/60
Aperture Value : 8.0
Brightness Value : 2
Exposure Compensation : 0
Max Aperture Value : 2.8
Metering Mode : Multi-segment
Light Source : Flash
Flash : On, Fired
Focal Length : 16.0 mm
Color Space : Uncalibrated
Exif Image Width : 800
Exif Image Height : 533
Scene Type : Directly photographed
Custom Rendered : Normal
Exposure Mode : Manual
White Balance : Manual
Focal Length In 35mm Format : 16 mm
Scene Capture Type : Standard
Contrast : Normal
Saturation : Normal
Sharpness : Normal
Lens Info : 16-35mm f/2.8
Lens Model : 16-35mm F2.8 ZA SSM
Profile Description : Adobe RGB (1998)
Creator Tool : Adobe Photoshop CS5 Windows
Lens : 16-35mm F2.8 ZA SSM
Date Created : 2011:11:27 17:03:19
Color Mode : RGB
ICC Profile Name : Adobe RGB (1998)
Marked : True
Format : image/jpeg
Raw File Name : _DSC1888.ARW
Version : 6.5
Process Version : 5.7
Color Temperature : 5300
Tint : +30
Exposure : 0.00
Shadows : 10
Brightness : +50
Luminance Smoothing : 0
Color Noise Reduction : 25
Chromatic Aberration R : 0
Chromatic Aberration B : 0
Vignette Amount : -64
Vignette Midpoint : 29
Shadow Tint : 0
Red Hue : 0
Red Saturation : 0
Green Hue : 0
Green Saturation : 0
Blue Hue : 0
Blue Saturation : 0
Fill Light : 15
Vibrance : +40
Highlight Recovery : 10
Clarity : +40
Defringe : 0
Hue Adjustment Red : 0
Hue Adjustment Orange : 0
Hue Adjustment Yellow : 0
Hue Adjustment Green : 0
Hue Adjustment Aqua : 0
Hue Adjustment Blue : 0
Hue Adjustment Purple : 0
Hue Adjustment Magenta : 0
Saturation Adjustment Red : 0
Saturation Adjustment Orange : 0
Saturation Adjustment Yellow : 0
Saturation Adjustment Green : 0
Saturation Adjustment Aqua : 0
Saturation Adjustment Blue : 0
Saturation Adjustment Purple : 0
Saturation Adjustment Magenta : 0
Luminance Adjustment Red : 0
Luminance Adjustment Orange : 0
Luminance Adjustment Yellow : 0
Luminance Adjustment Green : 0
Luminance Adjustment Aqua : 0
Luminance Adjustment Blue : 0
Luminance Adjustment Purple : 0
Luminance Adjustment Magenta : 0
Split Toning Shadow Hue : 0
Split Toning Shadow Saturation : 0
Split Toning Highlight Hue : 0
Split Toning Highlight Saturation : 0
Split Toning Balance : 0
Parametric Shadows : 0
Parametric Darks : 0
Parametric Lights : 0
Parametric Highlights : 0
Parametric Shadow Split : 25
Parametric Midtone Split : 50
Parametric Highlight Split : 75
Sharpen Radius : +1.0
Sharpen Detail : 25
Sharpen Edge Masking : 0
Post Crop Vignette Amount : 0
Grain Amount : 0
Color Noise Reduction Detail : 50
Lens Profile Enable : 0
Lens Manual Distortion Amount : 0
Perspective Vertical : 0
Perspective Horizontal : 0
Perspective Rotate : 0.0
Perspective Scale : 100
Convert To Grayscale : False
Tone Curve Name : Medium Contrast
Camera Profile : Adobe Standard
Lens Profile Setup : LensDefaults
Has Settings : True
Crop Top : 0.045842
Crop Left : 0.045842
Crop Bottom : 1
Crop Right : 1
Crop Angle : 0
Crop Constrain To Warp : 1
Has Crop : True
Already Applied : True
Description : Copyright: kysham.
Creator : Sham Kien Yee
Tone Curve : 0, 0, 32, 22, 64, 56, 128, 128, 192, 196, 255, 255
Creator City : Kota Kinabalu
Creator Region : Sabah
Creator Country : Malaysia
Creator Work Email : shamkienyee@gmail.com
Creator Work URL : www.kysham.com
Image Width : 300
Image Height : 200
Bits Per Sample : 8
Color Components : 3
Aperture : 8.0
Image Size : 300x200
Megapixels : 0.060
Scale Factor To 35 mm Equivalent : 1.0
Shutter Speed : 1/60
Circle Of Confusion : 0.030 mm
Field Of View : 96.7 deg
Focal Length : 16.0 mm (35 mm equivalent: 16.0 mm)
Hyperfocal Distance : 1.07 m
Light Value : 10.9
Lens ID : Carl Zeiss Vario-Sonnar T* 16-35mm F2.8 ZA SSM (SAL1635Z) or Carl Zeiss Vario-Sonnar T* 16-35mm F2.8 ZA SSM II (SAL1635Z2)