Uber Exif Photo
Caption-Abstract : KONICA MINOLTA DIGITAL CAMERA
By-line : £ukasz Cyrus
Province-State : Œlask
Country-Primary Location Name : Poland
Copyright Notice : £ukasz Cyrus
Copyright Flag : True
URL : www.shutter12.blogspot.com
Image Description : KONICA MINOLTA DIGITAL CAMERA
Make : KONICA MINOLTA
Camera Model Name : DYNAX 7D
Orientation : Horizontal (normal)
Software : Adobe Photoshop 7.0
Modify Date : 2010:07:13 00:01:47
Artist : ukasz Cyrus
Copyright : ukasz Cyrus
Exposure Time : 1/200
F Number : 1.7
Exposure Program : Aperture-priority AE
ISO : 200
Date/Time Original : 2010:07:12 21:39:21
Create Date : 2010:07:12 21:39:21
Shutter Speed Value : 1/200
Aperture Value : 1.7
Brightness Value : 4.25
Exposure Compensation : +1
Max Aperture Value : 1.7
Metering Mode : Center-weighted average
Light Source : Unknown
Focal Length : 50.0 mm
Subject Area : 1504 1000 3008 2000
Color Space : sRGB
Exif Image Width : 1000
Exif Image Height : 665
Custom Rendered : Normal
Exposure Mode : Auto
White Balance : Auto
Digital Zoom Ratio : 0
Focal Length In 35mm Format : 75 mm
Scene Capture Type : Standard
Gain Control : None
Contrast : Normal
Saturation : Normal
Sharpness : Normal
Creator Postal Code : 41-705
Creator Work Email : bestway1@neostrada.pl
Creator Work Telephone : +48506818872
Creator Region : Ślask
Creator Country : Poland
Creator City : Ruda Ślaska
Creator Address : Słowików 16
Creator Work URL : www.shutter12.blogspot.com
Version : 5.7
Color Temperature : 4150
Tint : +6
Exposure : -0.10
Shadows : 5
Brightness : +50
Luminance Smoothing : 0
Color Noise Reduction : 0
Chromatic Aberration R : 0
Chromatic Aberration B : 0
Vignette Amount : -85
Vignette Midpoint : 30
Shadow Tint : 0
Red Hue : 0
Red Saturation : 0
Green Hue : 0
Green Saturation : 0
Blue Hue : 0
Blue Saturation : 0
Fill Light : 50
Vibrance : +25
Highlight Recovery : 50
Clarity : 0
Defringe : 0
Hue Adjustment Red : 0
Hue Adjustment Orange : 0
Hue Adjustment Yellow : 0
Hue Adjustment Green : 0
Hue Adjustment Aqua : 0
Hue Adjustment Blue : 0
Hue Adjustment Purple : 0
Hue Adjustment Magenta : 0
Saturation Adjustment Red : +14
Saturation Adjustment Orange : +12
Saturation Adjustment Yellow : 0
Saturation Adjustment Green : 0
Saturation Adjustment Aqua : 0
Saturation Adjustment Blue : +26
Saturation Adjustment Purple : +16
Saturation Adjustment Magenta : 0
Luminance Adjustment Red : 0
Luminance Adjustment Orange : 0
Luminance Adjustment Yellow : 0
Luminance Adjustment Green : 0
Luminance Adjustment Aqua : 0
Luminance Adjustment Blue : 0
Luminance Adjustment Purple : 0
Luminance Adjustment Magenta : 0
Split Toning Shadow Hue : 0
Split Toning Shadow Saturation : 0
Split Toning Highlight Hue : 0
Split Toning Highlight Saturation : 0
Split Toning Balance : 0
Parametric Shadows : -40
Parametric Darks : -10
Parametric Lights : +10
Parametric Highlights : +25
Parametric Shadow Split : 25
Parametric Midtone Split : 50
Parametric Highlight Split : 75
Sharpen Radius : +0.5
Sharpen Detail : 25
Sharpen Edge Masking : 0
Post Crop Vignette Amount : 0
Convert To Grayscale : False
Tone Curve Name : Strong Contrast
Camera Profile : ACR 4.4
Has Settings : True
Has Crop : False
Already Applied : True
Tone Curve : 0, 0, 32, 16, 64, 50, 128, 128, 192, 202, 255, 255
Date/Time Digitized : 2010:07:12 21:39:21+02:00
Flash Fired : False
Flash Return : No return detection
Flash Mode : Off
Flash Function : False
Flash Red Eye Mode : False
Flash Compensation : 0
Date Created : 2009:12:29
City : Ruda Ślaska
Country : Poland
State : Ślask
Creator Tool : Adobe Photoshop Lightroom
Marked : True
Web Statement : www.shutter12.blogspot.com
Description : KONICA MINOLTA DIGITAL CAMERA
Creator : Łukasz Cyrus
Rights : Łukasz Cyrus
Image Width : 300
Image Height : 200
Bits Per Sample : 8
Color Components : 3
Aperture : 1.7
Image Size : 300x200
Megapixels : 0.060
Scale Factor To 35 mm Equivalent : 1.5
Shutter Speed : 1/200
Flash : Off, Did not fire
Circle Of Confusion : 0.020 mm
Field Of View : 27.0 deg
Focal Length : 50.0 mm (35 mm equivalent: 75.0 mm)
Hyperfocal Distance : 73.42 m
Light Value : 8.2