Uber Exif Photo
Caption-Abstract : SONY DSC
Image Description : SONY DSC
Make : SONY
Camera Model Name : DSLR-A700
Software : DSLR-A700 v04
Modify Date : 2011:04:09 00:21:46
Reference Black White : 0 255 128 255 128 255
Exposure Time : 1/250
F Number : 8.0
Exposure Program : Manual
ISO : 100
Date/Time Original : 2011:04:08 15:49:30
Create Date : 2011:04:08 15:49:30
Shutter Speed Value : 1/250
Aperture Value : 8.0
Brightness Value : 9
Exposure Compensation : 0
Max Aperture Value : 3.5
Metering Mode : Multi-segment
Light Source : Unknown
Focal Length : 16.0 mm
Color Space : sRGB
Exif Image Width : 800
Exif Image Height : 542
Scene Type : Directly photographed
Custom Rendered : Normal
Exposure Mode : Manual
White Balance : Auto
Digital Zoom Ratio : 0
Focal Length In 35mm Format : 24 mm
Scene Capture Type : Standard
Contrast : High
Saturation : Normal
Sharpness : Hard
Creator Tool : Adobe Photoshop Lightroom
Version : 5.4
Incremental Temperature : 0
Incremental Tint : 0
Exposure : 0.00
Shadows : 0
Brightness : +7
Luminance Smoothing : 0
Color Noise Reduction : 0
Chromatic Aberration R : 0
Chromatic Aberration B : 0
Vignette Amount : 0
Shadow Tint : 0
Red Hue : 0
Red Saturation : 0
Green Hue : 0
Green Saturation : 0
Blue Hue : 0
Blue Saturation : 0
Fill Light : 0
Vibrance : +25
Highlight Recovery : 0
Clarity : +50
Defringe : 0
Hue Adjustment Red : 0
Hue Adjustment Orange : 0
Hue Adjustment Yellow : 0
Hue Adjustment Green : 0
Hue Adjustment Aqua : 0
Hue Adjustment Blue : 0
Hue Adjustment Purple : 0
Hue Adjustment Magenta : 0
Saturation Adjustment Red : +10
Saturation Adjustment Orange : 0
Saturation Adjustment Yellow : 0
Saturation Adjustment Green : 0
Saturation Adjustment Aqua : 0
Saturation Adjustment Blue : +2
Saturation Adjustment Purple : +26
Saturation Adjustment Magenta : +19
Luminance Adjustment Red : 0
Luminance Adjustment Orange : 0
Luminance Adjustment Yellow : 0
Luminance Adjustment Green : 0
Luminance Adjustment Aqua : 0
Luminance Adjustment Blue : 0
Luminance Adjustment Purple : 0
Luminance Adjustment Magenta : 0
Split Toning Shadow Hue : 0
Split Toning Shadow Saturation : 0
Split Toning Highlight Hue : 0
Split Toning Highlight Saturation : 0
Split Toning Balance : 0
Parametric Shadows : 0
Parametric Darks : 0
Parametric Lights : +10
Parametric Highlights : 0
Parametric Shadow Split : 25
Parametric Midtone Split : 50
Parametric Highlight Split : 75
Sharpen Radius : +0.8
Sharpen Detail : 50
Sharpen Edge Masking : 0
Post Crop Vignette Amount : 0
Convert To Grayscale : False
Tone Curve Name : Linear
Camera Profile : Embedded
Has Settings : True
Has Crop : False
Already Applied : True
Flash Fired : False
Flash Return : No return detection
Flash Mode : Off
Flash Function : False
Flash Red Eye Mode : False
Tone Curve : 0, 0, 255, 255
Description : SONY DSC
Image Width : 300
Image Height : 203
Bits Per Sample : 8
Color Components : 3
Aperture : 8.0
Image Size : 300x203
Megapixels : 0.061
Scale Factor To 35 mm Equivalent : 1.5
Shutter Speed : 1/250
Flash : Off, Did not fire
Circle Of Confusion : 0.020 mm
Field Of View : 73.7 deg
Focal Length : 16.0 mm (35 mm equivalent: 24.0 mm)
Hyperfocal Distance : 1.60 m
Light Value : 14.0