Uber Exif Photo
Keywords : rally bassano storico 2010
By-line : Mirco Vettore
Copyright Notice : mircovettoreĀ©2010
Copyright Flag : True
Make : Canon
Camera Model Name : Canon EOS 5D
Software : Adobe Photoshop CS3 Macintosh
Modify Date : 2010:08:17 09:54:47
Artist : Mirco Vettore
Copyright : mircovettore(C)2010
Exposure Time : 1/500
F Number : 4.0
Exposure Program : Program AE
ISO : 100
Date/Time Original : 2010:05:15 10:29:48
Create Date : 2010:05:15 10:29:48
Shutter Speed Value : 1/500
Aperture Value : 4.0
Exposure Compensation : 0
Max Aperture Value : 1.4
Metering Mode : Unknown
Focal Length : 85.0 mm
Custom Rendered : Normal
Exposure Mode : Auto
White Balance : Auto
Scene Capture Type : Standard
Profile Description : sRGB IEC61966-2.1
Date/Time Digitized : 2010:05:15 10:29:48+02:00
Exif Image Width : 800
Exif Image Height : 533
Color Space : Unknown (-1)
Rating : 1
Creator Tool : Adobe Photoshop Lightroom
Serial Number : 2231205392
Lens Info : 85mm f/?
Lens : 85.0 mm
Image Number : 2
Flash Compensation : 0
Owner Name : Mirco Vettore
Firmware : 1.1.1
Format : application/vnd.adobe.photoshop
Marked : True
Version : 5.7
Incremental Temperature : 0
Incremental Tint : 0
Exposure : +0.43
Shadows : 0
Brightness : 0
Contrast : 0
Saturation : 0
Sharpness : 0
Luminance Smoothing : 0
Color Noise Reduction : 0
Chromatic Aberration R : 0
Chromatic Aberration B : 0
Vignette Amount : 0
Shadow Tint : 0
Red Hue : 0
Red Saturation : 0
Green Hue : 0
Green Saturation : 0
Blue Hue : 0
Blue Saturation : 0
Fill Light : 0
Vibrance : 0
Highlight Recovery : 5
Clarity : 0
Defringe : 0
Hue Adjustment Red : 0
Hue Adjustment Orange : 0
Hue Adjustment Yellow : 0
Hue Adjustment Green : 0
Hue Adjustment Aqua : 0
Hue Adjustment Blue : 0
Hue Adjustment Purple : 0
Hue Adjustment Magenta : 0
Saturation Adjustment Red : 0
Saturation Adjustment Orange : 0
Saturation Adjustment Yellow : 0
Saturation Adjustment Green : 0
Saturation Adjustment Aqua : 0
Saturation Adjustment Blue : 0
Saturation Adjustment Purple : 0
Saturation Adjustment Magenta : 0
Luminance Adjustment Red : 0
Luminance Adjustment Orange : 0
Luminance Adjustment Yellow : 0
Luminance Adjustment Green : 0
Luminance Adjustment Aqua : 0
Luminance Adjustment Blue : 0
Luminance Adjustment Purple : 0
Luminance Adjustment Magenta : 0
Split Toning Shadow Hue : 0
Split Toning Shadow Saturation : 0
Split Toning Highlight Hue : 0
Split Toning Highlight Saturation : 0
Split Toning Balance : 0
Parametric Shadows : 0
Parametric Darks : 0
Parametric Lights : 0
Parametric Highlights : 0
Parametric Shadow Split : 25
Parametric Midtone Split : 50
Parametric Highlight Split : 75
Sharpen Radius : +1.0
Sharpen Detail : 25
Sharpen Edge Masking : 0
Post Crop Vignette Amount : 0
Convert To Grayscale : False
Tone Curve Name : Linear
Camera Profile : Embedded
Has Settings : True
Has Crop : False
Already Applied : True
Flash Fired : False
Flash Return : No return detection
Flash Mode : Off
Flash Function : False
Flash Red Eye Mode : False
Creator : Mirco Vettore
Rights : mircovettoreĀ©2010
Subject : rally bassano storico 2010
Creator Work Email : info@mircovettore.com
Creator Work URL : www.mircovettore.com
Derived From : Tone Curve : 0, 0, 255, 255
Image Width : 300
Image Height : 200
Bits Per Sample : 8
Color Components : 3
Aperture : 4.0
Image Size : 300x200
Megapixels : 0.060
Scale Factor To 35 mm Equivalent : 1.0
Shutter Speed : 1/500
Flash : Off, Did not fire
Circle Of Confusion : 0.030 mm
Field Of View : 23.9 deg
Focal Length : 85.0 mm (35 mm equivalent: 85.2 mm)
Hyperfocal Distance : 60.24 m
Light Value : 13.0
Lens ID : Carl Zeiss Planar T 85mm f/1.4 ZE