Uber Exif Photo
Object Name : Happy,I stanbul 2012
Keywords : Istanbul
By-line : Dave Curtis
Copyright Notice : © Dave Curtis
Copyright Flag : True
Make : Canon
Camera Model Name : Canon EOS 5D Mark III
Software : Adobe Photoshop Lightroom 5.0 (Windows)
Modify Date : 2013:11:23 12:36:09
Artist : Dave Curtis
Copyright : © Dave Curtis
Exposure Time : 1/800
F Number : 2.8
Exposure Program : Aperture-priority AE
ISO : 100
Sensitivity Type : Recommended Exposure Index
Recommended Exposure Index : 100
Date/Time Original : 2012:05:16 16:07:45
Create Date : 2012:05:16 16:07:45
Shutter Speed Value : 1/800
Aperture Value : 2.8
Exposure Compensation : +2/3
Max Aperture Value : 2.0
Metering Mode : Multi-segment
Flash : Off, Did not fire
Focal Length : 100.0 mm
Color Space : sRGB
Custom Rendered : Normal
Exposure Mode : Auto
White Balance : Auto
Scene Capture Type : Standard
Serial Number : 025021000030
Lens Info : 100mm f/?
Lens Model : Zeiss Makro-Planar T* 2/100 ZE
Lens Serial Number : 0000000000
Rating : 4
Label : Green
Creator Tool : Adobe Photoshop Lightroom 5.0 (Windows)
Lens : Zeiss Makro-Planar T* 2/100 ZE
Image Number : 0
Flash Compensation : 0
Firmware : 1.1.2
Date Created : 2012:05:16 16:07:45.00
Format : image/jpeg
Marked : True
Version : 8.2
Process Version : 6.7
Auto White Version : 134348800
Color Temperature : 5400
Tint : +9
Sharpness : 67
Luminance Smoothing : 0
Color Noise Reduction : 25
Vignette Amount : 0
Shadow Tint : 0
Red Hue : 0
Red Saturation : 0
Green Hue : 0
Green Saturation : 0
Blue Hue : 0
Blue Saturation : 0
Gray Mixer Red : -39
Gray Mixer Orange : 0
Gray Mixer Yellow : -31
Gray Mixer Green : -27
Gray Mixer Aqua : -18
Gray Mixer Blue : +11
Gray Mixer Purple : +17
Gray Mixer Magenta : +4
Split Toning Shadow Hue : 0
Split Toning Shadow Saturation : 0
Split Toning Highlight Hue : 0
Split Toning Highlight Saturation : 0
Split Toning Balance : 0
Parametric Shadows : -5
Parametric Darks : +17
Parametric Lights : +3
Parametric Highlights : +5
Parametric Shadow Split : 25
Parametric Midtone Split : 50
Parametric Highlight Split : 75
Sharpen Radius : +0.5
Sharpen Detail : 76
Sharpen Edge Masking : 36
Post Crop Vignette Amount : -44
Post Crop Vignette Midpoint : 50
Post Crop Vignette Feather : 50
Post Crop Vignette Roundness : 0
Post Crop Vignette Style : Highlight Priority
Post Crop Vignette Highlight Contrast : 0
Grain Amount : 0
Color Noise Reduction Detail : 50
Color Noise Reduction Smoothness : 50
Lens Profile Enable : 0
Lens Manual Distortion Amount : 0
Perspective Vertical : 0
Perspective Horizontal : 0
Perspective Rotate : 0.0
Perspective Scale : 100
Perspective Aspect : 0
Perspective Upright : Off
Auto Lateral CA : 0
Exposure 2012 : -0.97
Contrast 2012 : +15
Highlights 2012 : 0
Shadows 2012 : +22
Whites 2012 : 0
Blacks 2012 : 0
Clarity 2012 : +10
Convert To Grayscale : True
Tone Curve Name 2012 : Linear
Camera Profile : Adobe Standard
Lens Profile Setup : LensDefaults
Has Settings : True
Crop Top : 0.144424
Crop Left : 0.240111
Crop Bottom : 1
Crop Right : 0.898842
Crop Angle : 0
Crop Constrain To Warp : 0
Has Crop : True
Already Applied : True
Creator : Dave Curtis
Title : Happy,I stanbul 2012
Rights : © Dave Curtis
Subject : Istanbul
Creator Country : New Zealand
Creator City : Dunedin
Tone Curve PV2012 : 0, 0, 255, 255
Tone Curve PV2012 Red : 0, 0, 255, 255
Tone Curve PV2012 Green : 0, 0, 255, 255
Tone Curve PV2012 Blue : 0, 0, 255, 255
Paint Correction What : Correction
Paint Correction Amount : 1.000000
Paint Correction Active : true
Paint Correction Saturation : -0.692310
Paint Correction Sharpness : 0.000000
Paint Correction Brightness : 0.000000
Paint Correction Toning Hue : 207.500000
Paint Correction Toning Saturation : 0.000000
Paint Correction Exposure 2012 : 0.000000
Paint Correction Contrast 2012 : 0.000000
Paint Correction Highlights 2012 : 0.000000
Paint Correction Shadows 2012 : 0.000000
Paint Correction Clarity 2012 : 0.000000
Paint Correction Luminance Noise : 0.000000
Paint Correction Moire : 0.004570
Paint Correction Defringe : 0.000000
Paint Correction Temperature : 0.000000
Paint Correction Tint : 0.000000
Paint Correction Mask What : Mask/Paint
Paint Correction Mask Value : 1.000000
Paint Correction Mask Radius : 0.098845
Paint Correction Mask Flow : 0.651000
Paint Correction Mask Center Weight : 0.503082
Image Width : 300
Image Height : 260
Bits Per Sample : 8
Color Components : 1
Aperture : 2.8
Image Size : 300x260
Megapixels : 0.078
Scale Factor To 35 mm Equivalent : 17.4
Shutter Speed : 1/800
Create Date : 2012:05:16 16:07:45.00
Date/Time Original : 2012:05:16 16:07:45.00
Circle Of Confusion : 0.002 mm
Field Of View : 1.2 deg
Focal Length : 100.0 mm (35 mm equivalent: 1743.8 mm)
Hyperfocal Distance : 2072.75 m
Light Value : 12.6
Lens ID : Carl Zeiss Makro-Planar T* 100mm f/2 ZE