Uber Exif Photo
Keywords : Istanbul
By-line : Dave Curtis
Copyright Notice : © Dave Curtis
Copyright Flag : True
Make : Canon
Camera Model Name : Canon EOS 5D Mark III
Software : Adobe Photoshop Lightroom 4.1 (Windows)
Modify Date : 2012:07:13 19:41:35
Artist : Dave Curtis
Copyright : © Dave Curtis
Exposure Time : 1/320
F Number : 1.6
Exposure Program : Aperture-priority AE
ISO : 200
Sensitivity Type : Recommended Exposure Index
Recommended Exposure Index : 200
Date/Time Original : 2012:05:17 10:51:58
Create Date : 2012:05:17 10:51:58
Shutter Speed Value : 1/320
Aperture Value : 1.6
Exposure Compensation : 0
Max Aperture Value : 1.4
Metering Mode : Multi-segment
Flash : Off, Did not fire
Focal Length : 35.0 mm
Custom Rendered : Normal
Exposure Mode : Auto
White Balance : Auto
Scene Capture Type : Standard
Serial Number : 025021000030
Lens Info : 35mm f/?
Lens Model : Zeiss Distagon T* 1.4/35 ZE
Lens Serial Number : 0000000000
Profile Description : sRGB IEC61966-2.1
Rating : 5
Creator Tool : Adobe Photoshop Lightroom 4.1 (Windows)
Lens : Zeiss Distagon T* 1.4/35 ZE
Image Number : 0
Flash Compensation : 0
Firmware : 1.1.2
Date Created : 2012:05:17 10:51:58.00
Format : image/jpeg
Marked : True
Version : 7.1
Process Version : 6.7
Color Temperature : 5258
Tint : +1
Saturation : +12
Sharpness : 67
Luminance Smoothing : 0
Color Noise Reduction : 25
Vignette Amount : 0
Shadow Tint : 0
Red Hue : 0
Red Saturation : 0
Green Hue : 0
Green Saturation : 0
Blue Hue : 0
Blue Saturation : 0
Vibrance : +12
Hue Adjustment Red : 0
Hue Adjustment Orange : 0
Hue Adjustment Yellow : 0
Hue Adjustment Green : 0
Hue Adjustment Aqua : 0
Hue Adjustment Blue : 0
Hue Adjustment Purple : 0
Hue Adjustment Magenta : 0
Saturation Adjustment Red : 0
Saturation Adjustment Orange : 0
Saturation Adjustment Yellow : 0
Saturation Adjustment Green : 0
Saturation Adjustment Aqua : 0
Saturation Adjustment Blue : 0
Saturation Adjustment Purple : 0
Saturation Adjustment Magenta : 0
Luminance Adjustment Red : 0
Luminance Adjustment Orange : 0
Luminance Adjustment Yellow : 0
Luminance Adjustment Green : 0
Luminance Adjustment Aqua : 0
Luminance Adjustment Blue : 0
Luminance Adjustment Purple : 0
Luminance Adjustment Magenta : 0
Split Toning Shadow Hue : 0
Split Toning Shadow Saturation : 0
Split Toning Highlight Hue : 0
Split Toning Highlight Saturation : 0
Split Toning Balance : 0
Parametric Shadows : 0
Parametric Darks : 0
Parametric Lights : 0
Parametric Highlights : 0
Parametric Shadow Split : 25
Parametric Midtone Split : 50
Parametric Highlight Split : 75
Sharpen Radius : +0.5
Sharpen Detail : 76
Sharpen Edge Masking : 36
Post Crop Vignette Amount : -34
Post Crop Vignette Midpoint : 50
Post Crop Vignette Feather : 50
Post Crop Vignette Roundness : 0
Post Crop Vignette Style : Highlight Priority
Post Crop Vignette Highlight Contrast : 0
Grain Amount : 0
Color Noise Reduction Detail : 50
Lens Profile Enable : 0
Lens Manual Distortion Amount : 0
Perspective Vertical : 0
Perspective Horizontal : 0
Perspective Rotate : 0.0
Perspective Scale : 100
Auto Lateral CA : 0
Exposure 2012 : 0.00
Contrast 2012 : +15
Highlights 2012 : 0
Shadows 2012 : 0
Whites 2012 : 0
Blacks 2012 : 0
Clarity 2012 : 0
Defringe Purple Amount : 0
Defringe Purple Hue Lo : 30
Defringe Purple Hue Hi : 70
Defringe Green Amount : 0
Defringe Green Hue Lo : 40
Defringe Green Hue Hi : 60
Convert To Grayscale : False
Tone Curve Name 2012 : Linear
Camera Profile : Adobe Standard
Lens Profile Setup : LensDefaults
Has Settings : True
Has Crop : False
Already Applied : True
Creator : Dave Curtis
Rights : © Dave Curtis
Subject : Istanbul
Creator Country : New Zealand
Creator City : Dunedin
Tone Curve PV2012 : 0, 0, 255, 255
Tone Curve PV2012 Red : 0, 0, 255, 255
Tone Curve PV2012 Green : 0, 0, 255, 255
Tone Curve PV2012 Blue : 0, 0, 255, 255
Image Width : 300
Image Height : 200
Bits Per Sample : 8
Color Components : 3
Aperture : 1.6
Image Size : 300x200
Megapixels : 0.060
Scale Factor To 35 mm Equivalent : 19.2
Shutter Speed : 1/320
Create Date : 2012:05:17 10:51:58.00
Date/Time Original : 2012:05:17 10:51:58.00
Circle Of Confusion : 0.002 mm
Field Of View : 3.1 deg
Focal Length : 35.0 mm (35 mm equivalent: 672.0 mm)
Hyperfocal Distance : 489.25 m
Light Value : 8.7
Lens ID : Carl Zeiss Distagon T* 35mm f/1.4 ZE