Uber Exif Photo
Make : Canon
Camera Model Name : Canon EOS-1Ds Mark III
Software : Adobe Photoshop Lightroom 3.4.1
Modify Date : 2011:06:07 20:12:11
Exposure Time : 1/100
F Number : 2.0
Exposure Program : Aperture-priority AE
ISO : 800
Date/Time Original : 2011:06:05 14:35:47
Create Date : 2011:06:05 14:35:47
Shutter Speed Value : 1/100
Aperture Value : 2.0
Exposure Compensation : +1/3
Max Aperture Value : 2.0
Metering Mode : Multi-segment
Flash : No Flash
Focal Length : 100.0 mm
Custom Rendered : Normal
Exposure Mode : Auto
White Balance : Auto
Scene Capture Type : Standard
Serial Number : 611643
Lens Info : 100mm f/?
Lens Model : Zeiss Makro-Planar T* 2/100 ZE
Profile Description : sRGB IEC61966-2.1
Lens : Zeiss Makro-Planar T* 2/100 ZE
Image Number : 0
Flash Compensation : 0
Firmware : 1.1.4
Rating : 3
Creator Tool : Adobe Photoshop Lightroom 3.4.1
Date Created : 2011:06:05 14:35:47.00
Version : 6.4.1
Process Version : 5.7
Color Temperature : 5170
Tint : 0
Exposure : 0.00
Shadows : 5
Brightness : +50
Contrast : +25
Saturation : +10
Sharpness : 67
Luminance Smoothing : 0
Color Noise Reduction : 0
Chromatic Aberration R : 0
Chromatic Aberration B : 0
Vignette Amount : 0
Shadow Tint : 0
Red Hue : 0
Red Saturation : 0
Green Hue : 0
Green Saturation : 0
Blue Hue : 0
Blue Saturation : 0
Fill Light : 0
Vibrance : +12
Highlight Recovery : 0
Clarity : +22
Defringe : 0
Hue Adjustment Red : 0
Hue Adjustment Orange : 0
Hue Adjustment Yellow : 0
Hue Adjustment Green : 0
Hue Adjustment Aqua : 0
Hue Adjustment Blue : 0
Hue Adjustment Purple : 0
Hue Adjustment Magenta : 0
Saturation Adjustment Red : 0
Saturation Adjustment Orange : 0
Saturation Adjustment Yellow : 0
Saturation Adjustment Green : 0
Saturation Adjustment Aqua : 0
Saturation Adjustment Blue : 0
Saturation Adjustment Purple : 0
Saturation Adjustment Magenta : 0
Luminance Adjustment Red : 0
Luminance Adjustment Orange : 0
Luminance Adjustment Yellow : 0
Luminance Adjustment Green : 0
Luminance Adjustment Aqua : 0
Luminance Adjustment Blue : 0
Luminance Adjustment Purple : 0
Luminance Adjustment Magenta : 0
Split Toning Shadow Hue : 0
Split Toning Shadow Saturation : 0
Split Toning Highlight Hue : 0
Split Toning Highlight Saturation : 0
Split Toning Balance : 0
Parametric Shadows : -5
Parametric Darks : -3
Parametric Lights : +3
Parametric Highlights : +5
Parametric Shadow Split : 25
Parametric Midtone Split : 50
Parametric Highlight Split : 75
Sharpen Radius : +0.5
Sharpen Detail : 100
Sharpen Edge Masking : 43
Post Crop Vignette Amount : 0
Grain Amount : 0
Lens Profile Enable : 0
Lens Manual Distortion Amount : 0
Perspective Vertical : 0
Perspective Horizontal : 0
Perspective Rotate : 0.0
Perspective Scale : 100
Convert To Grayscale : False
Tone Curve Name : Medium Contrast
Camera Profile : ACR 4.4
Lens Profile Setup : LensDefaults
Has Settings : True
Has Crop : False
Already Applied : True
Tone Curve : 0, 0, 32, 22, 64, 56, 128, 128, 192, 196, 255, 255
Image Width : 300
Image Height : 200
Bits Per Sample : 8
Color Components : 3
Aperture : 2.0
Image Size : 300x200
Megapixels : 0.060
Scale Factor To 35 mm Equivalent : 1.0
Shutter Speed : 1/100
Create Date : 2011:06:05 14:35:47.00
Date/Time Original : 2011:06:05 14:35:47.00
Circle Of Confusion : 0.030 mm
Field Of View : 20.4 deg
Focal Length : 100.0 mm (35 mm equivalent: 99.9 mm)
Hyperfocal Distance : 166.27 m
Light Value : 5.6
Lens ID : Carl Zeiss Makro-Planar T* 100mm f/2 ZE