Uber Exif Photo
Make : Canon
Camera Model Name : Canon EOS-1Ds Mark III
Software : Adobe Photoshop Lightroom 3.4.1
Modify Date : 2011:05:29 09:58:28
Exposure Time : 30
F Number : 2.0
Exposure Program : Shutter speed priority AE
ISO : 800
Date/Time Original : 2011:05:28 20:53:47
Create Date : 2011:05:28 20:53:47
Shutter Speed Value : 30
Aperture Value : 2.0
Exposure Compensation : +2/3
Max Aperture Value : 2.0
Metering Mode : Multi-segment
Flash : No Flash
Focal Length : 35.0 mm
Custom Rendered : Normal
Exposure Mode : Auto
White Balance : Auto
Scene Capture Type : Standard
Serial Number : 611643
Lens Info : 35mm f/?
Lens Model : Zeiss Distagon T* 2/35 ZE
Profile Description : sRGB IEC61966-2.1
Lens : Zeiss Distagon T* 2/35 ZE
Image Number : 0
Flash Compensation : 0
Firmware : 1.1.4
Creator Tool : Adobe Photoshop Lightroom 3.4.1
Date Created : 2011:05:28 20:53:47.95
Version : 6.4.1
Process Version : 5.7
Color Temperature : 3429
Tint : +3
Exposure : +1.32
Shadows : 10
Brightness : +50
Contrast : +36
Saturation : +8
Sharpness : 58
Luminance Smoothing : 0
Color Noise Reduction : 0
Chromatic Aberration R : 0
Chromatic Aberration B : 0
Vignette Amount : 0
Shadow Tint : 0
Red Hue : 0
Red Saturation : 0
Green Hue : 0
Green Saturation : 0
Blue Hue : 0
Blue Saturation : 0
Fill Light : 20
Vibrance : +12
Highlight Recovery : 0
Clarity : +22
Defringe : 0
Hue Adjustment Red : 0
Hue Adjustment Orange : 0
Hue Adjustment Yellow : 0
Hue Adjustment Green : 0
Hue Adjustment Aqua : 0
Hue Adjustment Blue : 0
Hue Adjustment Purple : 0
Hue Adjustment Magenta : 0
Saturation Adjustment Red : 0
Saturation Adjustment Orange : 0
Saturation Adjustment Yellow : 0
Saturation Adjustment Green : 0
Saturation Adjustment Aqua : 0
Saturation Adjustment Blue : 0
Saturation Adjustment Purple : -56
Saturation Adjustment Magenta : 0
Luminance Adjustment Red : 0
Luminance Adjustment Orange : 0
Luminance Adjustment Yellow : 0
Luminance Adjustment Green : 0
Luminance Adjustment Aqua : 0
Luminance Adjustment Blue : 0
Luminance Adjustment Purple : 0
Luminance Adjustment Magenta : 0
Split Toning Shadow Hue : 0
Split Toning Shadow Saturation : 0
Split Toning Highlight Hue : 0
Split Toning Highlight Saturation : 0
Split Toning Balance : 0
Parametric Shadows : -10
Parametric Darks : -5
Parametric Lights : +5
Parametric Highlights : +10
Parametric Shadow Split : 25
Parametric Midtone Split : 50
Parametric Highlight Split : 75
Sharpen Radius : +1.0
Sharpen Detail : 25
Sharpen Edge Masking : 36
Post Crop Vignette Amount : 0
Grain Amount : 0
Lens Profile Enable : 0
Lens Manual Distortion Amount : 0
Perspective Vertical : 0
Perspective Horizontal : 0
Perspective Rotate : 0.0
Perspective Scale : 100
Convert To Grayscale : False
Tone Curve Name : Medium Contrast
Camera Profile : ACR 4.4
Lens Profile Setup : LensDefaults
Has Settings : True
Crop Top : 0
Crop Left : 0.100895
Crop Bottom : 1
Crop Right : 1
Crop Angle : 0
Crop Constrain To Warp : 0
Crop Width : 1000
Crop Height : 741
Crop Unit : pixels
Has Crop : True
Already Applied : True
Tone Curve : 0, 0, 32, 22, 64, 56, 128, 128, 192, 196, 255, 255
Image Width : 222
Image Height : 300
Bits Per Sample : 8
Color Components : 3
Aperture : 2.0
Image Size : 222x300
Megapixels : 0.067
Scale Factor To 35 mm Equivalent : 1.0
Shutter Speed : 30
Create Date : 2011:05:28 20:53:47.95
Date/Time Original : 2011:05:28 20:53:47.95
Circle Of Confusion : 0.030 mm
Field Of View : 54.5 deg
Focal Length : 35.0 mm (35 mm equivalent: 35.0 mm)
Hyperfocal Distance : 20.37 m
Light Value : -5.9
Lens ID : Carl Zeiss Distagon T* 35mm f/2 ZE