Uber Exif Photo
Make : Canon
Camera Model Name : Canon EOS-1Ds Mark III
Software : Adobe Photoshop Lightroom 3.4
Modify Date : 2011:05:23 19:49:40
Exposure Time : 2.5
F Number : 11.0
Exposure Program : Aperture-priority AE
ISO : 100
Date/Time Original : 2011:05:22 15:43:02
Create Date : 2011:05:22 15:43:02
Shutter Speed Value : 2.5
Aperture Value : 11.0
Exposure Compensation : +1/3
Max Aperture Value : 2.8
Metering Mode : Multi-segment
Flash : Off, Did not fire
Focal Length : 21.0 mm
Custom Rendered : Normal
Exposure Mode : Auto
White Balance : Auto
Scene Capture Type : Standard
Serial Number : 611643
Lens Info : 21mm f/?
Lens Model : Zeiss Distagon T* 2.8/21 ZE
Profile Description : sRGB IEC61966-2.1
Lens : Zeiss Distagon T* 2.8/21 ZE
Image Number : 0
Flash Compensation : 0
Firmware : 1.1.4
Creator Tool : Adobe Photoshop Lightroom 3.4
Date Created : 2011:05:22 15:43:02.60
Version : 6.4
Process Version : 5.7
Color Temperature : 5150
Tint : +9
Exposure : -0.32
Shadows : 5
Brightness : +50
Contrast : +40
Saturation : +8
Sharpness : 67
Luminance Smoothing : 0
Color Noise Reduction : 0
Chromatic Aberration R : 0
Chromatic Aberration B : 0
Vignette Amount : 0
Shadow Tint : 0
Red Hue : 0
Red Saturation : 0
Green Hue : 0
Green Saturation : 0
Blue Hue : 0
Blue Saturation : 0
Fill Light : 33
Vibrance : +12
Highlight Recovery : 0
Clarity : +22
Defringe : 0
Hue Adjustment Red : 0
Hue Adjustment Orange : 0
Hue Adjustment Yellow : 0
Hue Adjustment Green : 0
Hue Adjustment Aqua : 0
Hue Adjustment Blue : 0
Hue Adjustment Purple : 0
Hue Adjustment Magenta : 0
Saturation Adjustment Red : 0
Saturation Adjustment Orange : 0
Saturation Adjustment Yellow : 0
Saturation Adjustment Green : 0
Saturation Adjustment Aqua : 0
Saturation Adjustment Blue : 0
Saturation Adjustment Purple : 0
Saturation Adjustment Magenta : 0
Luminance Adjustment Red : 0
Luminance Adjustment Orange : 0
Luminance Adjustment Yellow : 0
Luminance Adjustment Green : 0
Luminance Adjustment Aqua : 0
Luminance Adjustment Blue : 0
Luminance Adjustment Purple : 0
Luminance Adjustment Magenta : 0
Split Toning Shadow Hue : 0
Split Toning Shadow Saturation : 0
Split Toning Highlight Hue : 0
Split Toning Highlight Saturation : 0
Split Toning Balance : 0
Parametric Shadows : -10
Parametric Darks : -5
Parametric Lights : +5
Parametric Highlights : +10
Parametric Shadow Split : 25
Parametric Midtone Split : 50
Parametric Highlight Split : 75
Sharpen Radius : +0.5
Sharpen Detail : 100
Sharpen Edge Masking : 43
Post Crop Vignette Amount : 0
Grain Amount : 0
Lens Profile Enable : 0
Lens Manual Distortion Amount : 0
Perspective Vertical : 0
Perspective Horizontal : 0
Perspective Rotate : 0.0
Perspective Scale : 100
Convert To Grayscale : False
Tone Curve Name : Medium Contrast
Camera Profile : ACR 4.4
Lens Profile Setup : LensDefaults
Has Settings : True
Has Crop : False
Already Applied : True
Tone Curve : 0, 0, 32, 22, 64, 56, 128, 128, 192, 196, 255, 255
Image Width : 300
Image Height : 200
Bits Per Sample : 8
Color Components : 3
Aperture : 11.0
Image Size : 300x200
Megapixels : 0.060
Scale Factor To 35 mm Equivalent : 1.0
Shutter Speed : 2.5
Create Date : 2011:05:22 15:43:02.60
Date/Time Original : 2011:05:22 15:43:02.60
Circle Of Confusion : 0.030 mm
Field Of View : 81.3 deg
Focal Length : 21.0 mm (35 mm equivalent: 21.0 mm)
Hyperfocal Distance : 1.33 m
Light Value : 5.6
Lens ID : Carl Zeiss Distagon T* 21mm f/2.8 ZE