Uber Exif Photo
By-line : Dave Curtis
Country-Primary Location Name : New Zealand
Copyright Notice : © Dave Curtis www.magiclight.co.nz
Copyright Flag : True
Make : Canon
Camera Model Name : Canon EOS-1Ds Mark III
Modify Date : 2010:07:11 14:30:14
Copyright : (C) Dave Curtis www.magiclight.co.nz
Exposure Time : 1/4
F Number : 11.0
Exposure Program : Aperture-priority AE
ISO : 100
Date/Time Original : 2010:07:10 17:05:40
Create Date : 2010:07:10 17:05:40
Shutter Speed Value : 1/4
Aperture Value : 11.0
Exposure Compensation : 0
Max Aperture Value : 2.8
Metering Mode : Multi-segment
Focal Length : 21.0 mm
Custom Rendered : Normal
Exposure Mode : Auto
White Balance : Auto
Scene Capture Type : Standard
Profile Description : sRGB IEC61966-2.1
Date/Time Digitized : 2010:07:10 17:05:40.11+12:00
Exif Image Width : 900
Exif Image Height : 600
Rating : 4
Creator Tool : Adobe Photoshop Lightroom
Serial Number : 611643
Lens Info : 21mm f/?
Lens : Zeiss Distagon T* 2.8/21 ZE
Image Number : 0
Flash Compensation : 0
Firmware : 1.1.4
Country : New Zealand
Marked : True
Version : 6.1
Process Version : 5.7
Color Temperature : 5719
Tint : +10
Exposure : +0.10
Shadows : 5
Brightness : +50
Contrast : +54
Saturation : +16
Sharpness : 60
Luminance Smoothing : 0
Color Noise Reduction : 0
Chromatic Aberration R : 0
Chromatic Aberration B : 0
Vignette Amount : +11
Vignette Midpoint : 50
Shadow Tint : 0
Red Hue : 0
Red Saturation : 0
Green Hue : 0
Green Saturation : 0
Blue Hue : 0
Blue Saturation : 0
Fill Light : 61
Vibrance : +19
Highlight Recovery : 34
Clarity : +22
Defringe : 0
Hue Adjustment Red : 0
Hue Adjustment Orange : 0
Hue Adjustment Yellow : 0
Hue Adjustment Green : 0
Hue Adjustment Aqua : 0
Hue Adjustment Blue : 0
Hue Adjustment Purple : 0
Hue Adjustment Magenta : 0
Saturation Adjustment Red : 0
Saturation Adjustment Orange : 0
Saturation Adjustment Yellow : 0
Saturation Adjustment Green : 0
Saturation Adjustment Aqua : 0
Saturation Adjustment Blue : 0
Saturation Adjustment Purple : 0
Saturation Adjustment Magenta : 0
Luminance Adjustment Red : 0
Luminance Adjustment Orange : 0
Luminance Adjustment Yellow : 0
Luminance Adjustment Green : 0
Luminance Adjustment Aqua : 0
Luminance Adjustment Blue : 0
Luminance Adjustment Purple : 0
Luminance Adjustment Magenta : 0
Split Toning Shadow Hue : 0
Split Toning Shadow Saturation : 0
Split Toning Highlight Hue : 0
Split Toning Highlight Saturation : 0
Split Toning Balance : 0
Parametric Shadows : -24
Parametric Darks : -13
Parametric Lights : +10
Parametric Highlights : +22
Parametric Shadow Split : 25
Parametric Midtone Split : 50
Parametric Highlight Split : 75
Sharpen Radius : +1.0
Sharpen Detail : 25
Sharpen Edge Masking : 33
Post Crop Vignette Amount : 0
Grain Amount : 0
Lens Profile Enable : 0
Lens Manual Distortion Amount : 0
Perspective Vertical : 0
Perspective Horizontal : 0
Perspective Rotate : 0.0
Perspective Scale : 100
Convert To Grayscale : False
Tone Curve Name : Medium Contrast
Camera Profile : ACR 4.4
Lens Profile Setup : LensDefaults
Has Settings : True
Has Crop : False
Already Applied : True
Flash Fired : False
Flash Return : No return detection
Flash Mode : Off
Flash Function : False
Flash Red Eye Mode : False
Creator : Dave Curtis
Rights : © Dave Curtis www.magiclight.co.nz
Creator Country : New Zealand
Creator Work URL : www.magiclight.co.nz
Tone Curve : 0, 0, 32, 22, 64, 56, 128, 128, 192, 196, 255, 255
Paint Correction What : Correction
Paint Correction Amount : 1.000000
Paint Correction Active : true
Paint Correction Exposure : 0.155000
Paint Correction Saturation : 0.052000
Paint Correction Contrast : 0.000000
Paint Correction Clarity : 0.000000
Paint Correction Sharpness : 0.000000
Paint Correction Brightness : 0.000000
Paint Correction Toning Hue : 292.000000
Paint Correction Toning Saturation : 0.000000
Paint Correction Mask What : Mask/Paint
Paint Correction Mask Value : 1.000000
Paint Correction Mask Radius : 0.066162
Paint Correction Mask Flow : 0.495000
Paint Correction Mask Center Weight : 0.199752
Gradient Based Corr What : Correction
Gradient Based Corr Amount : 1.000000
Gradient Based Corr Active : true
Gradient Based Corr Exposure : -0.534000
Gradient Based Corr Saturation : 0.224000
Gradient Based Corr Contrast : 0.207000
Gradient Based Corr Clarity : 0.000000
Gradient Based Corr Sharpness : 0.000000
Gradient Based Corr Brightness : 0.000000
Gradient Based Corr Toning Hue : 292.000000
Gradient Based Corr Toning Saturation : 0.000000
Gradient Based Corr Mask What : Mask/Gradient
Gradient Based Corr Mask Value : 1.000000
Gradient Based Corr Mask Zero X : 0.515777
Gradient Based Corr Mask Zero Y : 0.320276
Gradient Based Corr Mask Full X : 0.522568
Gradient Based Corr Mask Full Y : 0.072286
Image Width : 300
Image Height : 200
Bits Per Sample : 8
Color Components : 3
Aperture : 11.0
Image Size : 300x200
Megapixels : 0.060
Scale Factor To 35 mm Equivalent : 1.0
Shutter Speed : 1/4
Create Date : 2010:07:10 17:05:40.11
Date/Time Original : 2010:07:10 17:05:40.11
Flash : Off, Did not fire
Circle Of Confusion : 0.030 mm
Field Of View : 81.3 deg
Focal Length : 21.0 mm (35 mm equivalent: 21.0 mm)
Hyperfocal Distance : 1.33 m
Light Value : 8.9
Lens ID : Carl Zeiss Distagon T* 21mm f/2.8 ZE